Workbook
Name y: INDIRECT(#REF!)
Name ウェイト: #REF!
Name 客観指標: #REF!
Name 客観指標: #REF!
Name 客観指標: #REF!
Name 市民実感: #REF!
Name 市民実感: #REF!
Name 市民実感: #REF!
Name 重み付け: #REF!
Name 評価: #REF!
Name 矢印: INDIRECT(#REF!)
Name 矢印: INDIRECT(#REF!)
Name 矢印: INDIRECT(#REF!)

Sheet 01政策評価 (見方)
A2: 政策 番号 | B2: 政策分野名 | C2: 基本情報 | G2: 令和3年度 | CF2: 令和8年度 | FE2: 令和5年度 | ID2: 令和6年度 | LC2: 令和7年度
C3: 基本方針 | D3: 担当局 | E3: 共管局 | F3: 政策に関係する主な分野別計画等 | G3: 政策の評価 | BW3: 今後の方向性の検討 | CF3: 政策の評価 | EV3: 今後の方向性の検討 | FE3: 政策の評価 | HU3: 今後の方向性の検討 | ID3: 政策の評価 | KT3: 今後の方向性の検討 | LC3: 政策の評価 | NS3: 今後の方向性の検討
G4: 政策の客観指標評価 | Q4: 政策の客観指標評価計算 | AA4: 施策の客観指標評価 | AJ4: 政策の客観指標評価計算 | AS4: 政策の 客観指標 総合評価 (ｱ):(ｲ)=1:0.5 | AT4: 政策の客観指標総合評価計算 | AW4: 市民生活実感評価 | BF4: 市民生活実感評価計算 | BO4: 政策の重要度 | BQ4: 総合評価 | BS4: 総合評価の判断理由 | BU4: 現状・原因分析 | BW4: 施策の総合評価 | CE4: 今後の方向性 | CF4: 政策の客観指標評価 | CP4: 政策の客観指標評価計算 | CZ4: 施策の客観指標評価 | DI4: 施策の客観指標評価計算 | DR4: 政策の 客観指標 総合評価 (ｱ):(ｲ)=1:0.5 | DS4: 政策の客観指標総合評価計算 | DV4: 市民生活実感評価 | EE4: 市民生活実感評価計算 | EN4: 政策の重要度 | EP4: 総合評価 | ER4: 総合評価の判断理由 | ET4: 現状・原因分析 | EV4: 施策の総合評価 | FD4: 今後の方向性 | FE4: 政策の客観指標評価 | FO4: 政策の客観指標評価計算 | FY4: 施策の客観指標評価 | GH4: 施策の客観指標評価計算 | GQ4: 政策の 客観指標 総合評価 (ｱ):(ｲ)=1:0.5 | GR4: 政策の客観指標総合評価計算 | GU4: 市民生活実感評価 | HD4: 市民生活実感評価計算 | HM4: 政策の重要度 | HO4: 総合評価 | HQ4: 総合評価の判断理由 | HS4: 現状・原因分析 | HU4: 施策の総合評価 | IC4: 今後の方向性 | ID4: 政策の客観指標評価 | IN4: 政策の客観指標評価計算 | IX4: 施策の客観指標評価 | JG4: 施策の客観指標評価計算 | JP4: 政策の 客観指標 総合評価 (ｱ):(ｲ)=1:0.5 | JQ4: 政策の客観指標総合評価計算 | JT4: 市民生活実感評価 | KC4: 市民生活実感評価計算 | KL4: 政策の重要度 | KN4: 総合評価 | KP4: 総合評価の判断理由 | KR4: 現状・原因分析 | KT4: 施策の総合評価 | LB4: 今後の方向性 | LC4: 政策の客観指標評価 | LM4: 政策の客観指標評価計算 | LW4: 施策の客観指標評価 | MF4: 施策の客観指標評価計算 | MO4: 政策の 客観指標 総合評価 (ｱ):(ｲ)=1:0.5 | MP4: 政策の客観指標総合評価計算 | MS4: 市民生活実感評価 | NB4: 市民生活実感評価計算 | NK4: 政策の重要度 | NM4: 総合評価 | NO4: 総合評価の判断理由 | NQ4: 現状・原因分析 | NS4: 施策の総合評価 | OA4: 今後の方向性
G5: 1 | H5: 2 | I5: 3 | J5: 4 | K5: 5 | L5: 6 | M5: 7 | N5: 8 | O5: 9 | P5: 平均 (ｱ) | Q5: 1 | R5: 2 | S5: 3 | T5: 4 | U5: 5 | V5: 6 | W5: 7 | X5: 8 | Y5: 9 | Z5: 得点率 | AA5: 1 | AB5: 2 | AC5: 3 | AD5: 4 | AE5: 5 | AF5: 6 | AG5: 7 | AH5: 8 | AI5: 平均 (ｲ) | AJ5: 1 | AK5: 2 | AL5: 3 | AM5: 4 | AN5: 5 | AO5: 6 | AP5: 7 | AQ5: 8 | AR5: 得点率 | AT5: 政策 | AU5: 施策 | AV5: 総合 | AW5: 1 | AX5: 2 | AY5: 3 | AZ5: 4 | BA5: 5 | BB5: 6 | BC5: 7 | BD5: 8 | BE5: 平均 | BF5: 1 | BG5: 2 | BH5: 3 | BI5: 4 | BJ5: 5 | BK5: 6 | BL5: 7 | BM5: 8 | BN5: 得点率 | BO5: 順位 | BP5: ％ | BQ5: 評価 | BR5: 評語 | BS5: 重み付け | BT5: 理由 | BU5: 客観指標評価 | BV5: 市民生活実感評価 | BW5: 1 | BX5: 2 | BY5: 3 | BZ5: 4 | CA5: 5 | CB5: 6 | CC5: 7 | CD5: 8 | CF5: 1 | CG5: 2 | CH5: 3 | CI5: 4 | CJ5: 5 | CK5: 6 | CL5: 7 | CM5: 8 | CN5: 9 | CO5: 平均 (ｱ) | CP5: 1 | CQ5: 2 | CR5: 3 | CS5: 4 | CT5: 5 | CU5: 6 | CV5: 7 | CW5: 8 | CX5: 9 | CY5: 得点率 | CZ5: 1 | DA5: 2 | DB5: 3 | DC5: 4 | DD5: 5 | DE5: 6 | DF5: 7 | DG5: 8 | DH5: 平均 (ｲ) | DI5: 1 | DJ5: 2 | DK5: 3 | DL5: 4 | DM5: 5 | DN5: 6 | DO5: 7 | DP5: 8 | DQ5: 得点率 | DS5: 政策 | DT5: 施策 | DU5: 総合 | DV5: 1 | DW5: 2 | DX5: 3 | DY5: 4 | DZ5: 5 | EA5: 6 | EB5: 7 | EC5: 8 | ED5: 平均 | EE5: 1 | EF5: 2 | EG5: 3 | EH5: 4 | EI5: 5 | EJ5: 6 | EK5: 7 | EL5: 8 | EM5: 得点率 | EN5: 順位 | EO5: ％ | EP5: 評価 | EQ5: 評語 | ER5: 重み付け | ES5: 理由 | ET5: 客観指標評価 | EU5: 市民生活実感評価 | EV5: 1 | EW5: 2 | EX5: 3 | EY5: 4 | EZ5: 5 | FA5: 6 | FB5: 7 | FC5: 8 | FE5: 1 | FF5: 2 | FG5: 3 | FH5: 4 | FI5: 5 | FJ5: 6 | FK5: 7 | FL5: 8 | FM5: 9 | FN5: 平均 (ｱ) | FO5: 1 | FP5: 2 | FQ5: 3 | FR5: 4 | FS5: 5 | FT5: 6 | FU5: 7 | FV5: 8 | FW5: 9 | FX5: 得点率 | FY5: 1 | FZ5: 2 | GA5: 3 | GB5: 4 | GC5: 5 | GD5: 6 | GE5: 7 | GF5: 8 | GG5: 平均 (ｲ) | GH5: 1 | GI5: 2 | GJ5: 3 | GK5: 4 | GL5: 5 | GM5: 6 | GN5: 7 | GO5: 8 | GP5: 得点率 | GR5: 政策 | GS5: 施策 | GT5: 総合 | GU5: 1 | GV5: 2 | GW5: 3 | GX5: 4 | GY5: 5 | GZ5: 6 | HA5: 7 | HB5: 8 | HC5: 平均 | HD5: 1 | HE5: 2 | HF5: 3 | HG5: 4 | HH5: 5 | HI5: 6 | HJ5: 7 | HK5: 8 | HL5: 得点率 | HM5: 順位 | HN5: ％ | HO5: 評価 | HP5: 評語 | HQ5: 重み付け | HR5: 理由 | HS5: 客観指標評価 | HT5: 市民生活実感評価 | HU5: 1 | HV5: 2 | HW5: 3 | HX5: 4 | HY5: 5 | HZ5: 6 | IA5: 7 | IB5: 8 | ID5: 1 | IE5: 2 | IF5: 3 | IG5: 4 | IH5: 5 | II5: 6 | IJ5: 7 | IK5: 8 | IL5: 9 | IM5: 平均 (ｱ) | IN5: 1 | IO5: 2 | IP5: 3 | IQ5: 4 | IR5: 5 | IS5: 6 | IT5: 7 | IU5: 8 | IV5: 9 | IW5: 得点率 | IX5: 1 | IY5: 2 | IZ5: 3 | JA5: 4 | JB5: 5 | JC5: 6 | JD5: 7 | JE5: 8 | JF5: 平均 (ｲ) | JG5: 1 | JH5: 2 | JI5: 3 | JJ5: 4 | JK5: 5 | JL5: 6 | JM5: 7 | JN5: 8 | JO5: 得点率 | JQ5: 政策 | JR5: 施策 | JS5: 総合 | JT5: 1 | JU5: 2 | JV5: 3 | JW5: 4 | JX5: 5 | JY5: 6 | JZ5: 7 | KA5: 8 | KB5: 平均 | KC5: 1 | KD5: 2 | KE5: 3 | KF5: 4 | KG5: 5 | KH5: 6 | KI5: 7 | KJ5: 8 | KK5: 得点率 | KL5: 順位 | KM5: ％ | KN5: 評価 | KO5: 評語 | KP5: 重み付け | KQ5: 理由 | KR5: 客観指標評価 | KS5: 市民生活実感評価 | KT5: 1 | KU5: 2 | KV5: 3 | KW5: 4 | KX5: 5 | KY5: 6 | KZ5: 7 | LA5: 8 | LC5: 1 | LD5: 2 | LE5: 3 | LF5: 4 | LG5: 5 | LH5: 6 | LI5: 7 | LJ5: 8 | LK5: 9 | LL5: 平均 (ｱ) | LM5: 1 | LN5: 2 | LO5: 3 | LP5: 4 | LQ5: 5 | LR5: 6 | LS5: 7 | LT5: 8 | LU5: 9 | LV5: 得点率 | LW5: 1 | LX5: 2 | LY5: 3 | LZ5: 4 | MA5: 5 | MB5: 6 | MC5: 7 | MD5: 8 | ME5: 平均 (ｲ) | MF5: 1 | MG5: 2 | MH5: 3 | MI5: 4 | MJ5: 5 | MK5: 6 | ML5: 7 | MM5: 8 | MN5: 得点率 | MP5: 政策 | MQ5: 施策 | MR5: 総合 | MS5: 1 | MT5: 2 | MU5: 3 | MV5: 4 | MW5: 5 | MX5: 6 | MY5: 7 | MZ5: 8 | NA5: 平均 | NB5: 1 | NC5: 2 | ND5: 3 | NE5: 4 | NF5: 5 | NG5: 6 | NH5: 7 | NI5: 8 | NJ5: 得点率 | NK5: 順位 | NL5: ％ | NM5: 評価 | NN5: 評語 | NO5: 重み付け | NP5: 理由 | NQ5: 客観指標評価 | NR5: 市民生活実感評価 | NS5: 1 | NT5: 2 | NU5: 3 | NV5: 4 | NW5: 5 | NX5: 6 | NY5: 7 | NZ5: 8
A6: 1 | B6: 環境 | C6: 豊かな地球環境を未来へ引き継ぐために、地球温暖化対策、生物多様性保全、ごみ減量等の課題に対し市民、事業者、地域団体、行政等のオール京都で、これまでの延長にとどまらない取組を実践し、2050年までの二酸化炭素排出量「正味ゼロ」等の目標達成に向け、さまざまな政策分野において、自然との共生を楽しむ環境と調和した持続可能な社会の実現をめざす。 | D6: 環境政策局 | G6: =VLOOKUP($A6&"-"&G$5,#REF!,COLUMN(#REF!),FALSE) -> #REF! | H6: =VLOOKUP($A6&"-"&H$5,#REF!,COLUMN(#REF!),FALSE) -> #REF! | I6: =VLOOKUP($A6&"-"&I$5,#REF!,COLUMN(#REF!),FALSE) -> #REF! | J6: =VLOOKUP($A6&"-"&J$5,#REF!,COLUMN(#REF!),FALSE) -> #REF! | K6: =VLOOKUP($A6&"-"&K$5,#REF!,COLUMN(#REF!),FALSE) -> #REF! | L6: =VLOOKUP($A6&"-"&L$5,#REF!,COLUMN(#REF!),FALSE) -> #REF! | M6: =VLOOKUP($A6&"-"&M$5,#REF!,COLUMN(#REF!),FALSE) -> #REF! | N6: =VLOOKUP($A6&"-"&N$5,#REF!,COLUMN(#REF!),FALSE) -> #REF! | O6: =VLOOKUP($A6&"-"&O$5,#REF!,COLUMN(#REF!),FALSE) -> #REF! | P6: =_xlfn.IFS(Z6="-","-",Z6>=0.8,"a",Z6>=0.6,"b",Z6>=0.4,"c",Z6>=0.2,"d",Z6<0.2,"e") -> - | Q6: =_xlfn.SWITCH(G6,"a",4,"b",3,"c",2,"d",1,"e",0,"-","") -> #REF! | R6: =_xlfn.SWITCH(H6,"a",4,"b",3,"c",2,"d",1,"e",0,"-","") -> #REF! | S6: =_xlfn.SWITCH(I6,"a",4,"b",3,"c",2,"d",1,"e",0,"-","") -> #REF! | T6: =_xlfn.SWITCH(J6,"a",4,"b",3,"c",2,"d",1,"e",0,"-","") -> #REF! | U6: =_xlfn.SWITCH(K6,"a",4,"b",3,"c",2,"d",1,"e",0,"-","") -> #REF! | V6: =_xlfn.SWITCH(L6,"a",4,"b",3,"c",2,"d",1,"e",0,"-","") -> #REF! | W6: =_xlfn.SWITCH(M6,"a",4,"b",3,"c",2,"d",1,"e",0,"-","") -> #REF! | X6: =_xlfn.SWITCH(N6,"a",4,"b",3,"c",2,"d",1,"e",0,"-","") -> #REF! | Y6: =_xlfn.SWITCH(O6,"a",4,"b",3,"c",2,"d",1,"e",0,"-","") -> #REF! | Z6: =IF(COUNT(Q6:Y6)=0,"-",SUM(Q6:Y6)/COUNT(Q6:Y6)/4) -> - | AA6: =IFERROR(VLOOKUP($A6*100+AA$5,#REF!,COLUMN(#REF!),FALSE),"-") -> - | AB6: =IFERROR(VLOOKUP($A6*100+AB$5,#REF!,COLUMN(#REF!),FALSE),"-") -> - | AC6: =IFERROR(VLOOKUP($A6*100+AC$5,#REF!,COLUMN(#REF!),FALSE),"-") -> - | AD6: =IFERROR(VLOOKUP($A6*100+AD$5,#REF!,COLUMN(#REF!),FALSE),"-") -> - | AE6: =IFERROR(VLOOKUP($A6*100+AE$5,#REF!,COLUMN(#REF!),FALSE),"-") -> - | AF6: =IFERROR(VLOOKUP($A6*100+AF$5,#REF!,COLUMN(#REF!),FALSE),"-") -> - | AG6: =IFERROR(VLOOKUP($A6*100+AG$5,#REF!,COLUMN(#REF!),FALSE),"-") -> - | AH6: =IFERROR(VLOOKUP($A6*100+AH$5,#REF!,COLUMN(#REF!),FALSE),"-") -> - | AI6: =_xlfn.IFS(AR6="-","-",AR6>=0.8,"a",AR6>=0.6,"b",AR6>=0.4,"c",AR6>=0.2,"d",AR6<0.2,"e") -> - | AJ6: =_xlfn.SWITCH(AA6,"a",4,"b",3,"c",2,"d",1,"e",0,"-","") | AK6: =_xlfn.SWITCH(AB6,"a",4,"b",3,"c",2,"d",1,"e",0,"-","") | AL6: =_xlfn.SWITCH(AC6,"a",4,"b",3,"c",2,"d",1,"e",0,"-","") | AM6: =_xlfn.SWITCH(AD6,"a",4,"b",3,"c",2,"d",1,"e",0,"-","") | AN6: =_xlfn.SWITCH(AE6,"a",4,"b",3,"c",2,"d",1,"e",0,"-","") | AO6: =_xlfn.SWITCH(AF6,"a",4,"b",3,"c",2,"d",1,"e",0,"-","") | AP6: =_xlfn.SWITCH(AG6,"a",4,"b",3,"c",2,"d",1,"e",0,"-","") | AQ6: =_xlfn.SWITCH(AH6,"a",4,"b",3,"c",2,"d",1,"e",0,"-","") | AR6: =IF(COUNT(AJ6:AQ6)=0,"-",SUM(AJ6:AQ6)/COUNT(AJ6:AQ6)/4) -> - | AS6: =_xlfn.IFS(AV6="-","-",AV6>=0.8,"a",AV6>=0.6,"b",AV6>=0.4,"c",AV6>=0.2,"d",AV6<0.2,"e") -> - | AT6: =_xlfn.SWITCH(P6,"a",4,"b",3,"c",2,"d",1,"e",0,"-","") | AU6: =_xlfn.SWITCH(AI6,"a",4/2,"b",3/2,"c",2/2,"d",1/2,"e",0,"-","") | AV6: {=_xlfn.IFS(COUNT(AT6:AU6)=2,SUM(AT6:AU6)/6,COUNT(AT6:AU6)=0,"-",AT6="",AR6,AU6="",Z6)} -> - | AW6: =VLOOKUP($A6&"-"&AW$5,#REF!,COLUMN(#REF!),FALSE) -> #REF! | AX6: =VLOOKUP($A6&"-"&AX$5,#REF!,COLUMN(#REF!),FALSE) -> #REF! | AY6: =VLOOKUP($A6&"-"&AY$5,#REF!,COLUMN(#REF!),FALSE) -> #REF! | AZ6: =VLOOKUP($A6&"-"&AZ$5,#REF!,COLUMN(#REF!),FALSE) -> #REF! | BA6: =VLOOKUP($A6&"-"&BA$5,#REF!,COLUMN(#REF!),FALSE) -> #REF! | BB6: =VLOOKUP($A6&"-"&BB$5,#REF!,COLUMN(#REF!),FALSE) -> #REF! | BC6: =VLOOKUP($A6&"-"&BC$5,#REF!,COLUMN(#REF!),FALSE) -> #REF! | BD6: =VLOOKUP($A6&"-"&BD$5,#REF!,COLUMN(#REF!),FALSE) -> #REF! | BE6: =_xlfn.IFS(BN6>=0.8,"a",BN6>=0.6,"b",BN6>=0.4,"c",BN6>=0.2,"d",BN6<0.2,"e") -> #REF! | BF6: =_xlfn.SWITCH(AW6,"a",4,"b",3,"c",2,"d",1,"e",0,"-","") -> #REF! | BG6: =_xlfn.SWITCH(AX6,"a",4,"b",3,"c",2,"d",1,"e",0,"-","") -> #REF! | BH6: =_xlfn.SWITCH(AY6,"a",4,"b",3,"c",2,"d",1,"e",0,"-","") -> #REF! | BI6: =_xlfn.SWITCH(AZ6,"a",4,"b",3,"c",2,"d",1,"e",0,"-","") -> #REF! | BJ6: =_xlfn.SWITCH(BA6,"a",4,"b",3,"c",2,"d",1,"e",0,"-","") -> #REF! | BK6: =_xlfn.SWITCH(BB6,"a",4,"b",3,"c",2,"d",1,"e",0,"-","") -> #REF! | BL6: =_xlfn.SWITCH(BC6,"a",4,"b",3,"c",2,"d",1,"e",0,"-","") -> #REF! | BM6: =_xlfn.SWITCH(BD6,"a",4,"b",3,"c",2,"d",1,"e",0,"-","") -> #REF! | BN6: =SUM(BF6:BM6)/COUNT(BF6:BM6)/4 -> #REF! | BO6: =VLOOKUP($A6,#REF!,3,FALSE) -> #REF! | BP6: =VLOOKUP($A6,#REF!,4,FALSE) -> #REF! | BQ6: A | BR6: 政策の目的が十分に達成されている | BS6: 客観指標 | BT6: ２０５０年までの二酸化炭素排出量「正味ゼロ」等の目標達成を目指しており，効果測定に客観指標の数値が直結するため，客観指標評価を重視する。 | BU6: 市民・事業者の皆様による節電をはじめとする省エネルギーの取組，太陽光発電等の再生可能エネルギーの導入拡大により，温室効果ガス排出量，エネルギー消費量共に前年度から削減が進み，ごみ量についても着実に減少したことからａ評価となったと考えられる。 | BV6: 「マイバッグの利用やごみの分別・リサイクルの徹底など，ごみの出ないくらしと事業活動が広がっている。」という生活実感がｂ評価となっていることをはじめ，全体的に高い評価となっていることから，施策の周知が行き渡っており，またその効果が市民の実感にも表れていると考えられる。 | BW6: =IFERROR(VLOOKUP($A6*100+BW$5,#REF!,COLUMN(#REF!),FALSE),"-") -> - | BX6: =IFERROR(VLOOKUP($A6*100+BX$5,#REF!,COLUMN(#REF!),FALSE),"-") -> - | BY6: =IFERROR(VLOOKUP($A6*100+BY$5,#REF!,COLUMN(#REF!),FALSE),"-") -> - | BZ6: =IFERROR(VLOOKUP($A6*100+BZ$5,#REF!,COLUMN(#REF!),FALSE),"-") -> - | CA6: =IFERROR(VLOOKUP($A6*100+CA$5,#REF!,COLUMN(#REF!),FALSE),"-") -> - | CB6: =IFERROR(VLOOKUP($A6*100+CB$5,#REF!,COLUMN(#REF!),FALSE),"-") -> - | CC6: =IFERROR(VLOOKUP($A6*100+CC$5,#REF!,COLUMN(#REF!),FALSE),"-") -> - | CD6: =IFERROR(VLOOKUP($A6*100+CD$5,#REF!,COLUMN(#REF!),FALSE),"-") -> - | CE6: 客観指標評価が高評価となったことから，総合評価結果はＡ評価となった。温室効果ガス排出量については，京都市地球温暖化対策計画に基づき，ライフスタイル，ビジネス，エネルギー，モビリティの４つの分野の転換や，森林・農地等の二酸化炭素の吸収源対策の強化等を図ることで，2050年「正味ゼロ」を目指す。また，ごみ焼却量については，引き続き，京都市循環型社会推進基本計画に基づき，市民・事業者の皆様と共に２Ｒ及び分別リサイクルの推進等に取り組むことで，更なる削減を進める。これらにより，基本方針にある環境と調和した持続可能な社会の実現を目指していく。 | CF6: c | CG6: a | CH6: - | CI6: - | CJ6: - | CK6: - | CL6: - | CM6: - | CN6: - | CO6: b | CP6: 2 | CQ6: 4 | CY6: 0.75 | CZ6: b | DA6: b | DB6: a | DC6: a | DD6: - | DE6: - | DF6: - | DG6: - | DH6: a | DI6: 3 | DJ6: 3 | DK6: 4 | DL6: 4 | DQ6: 0.875 | DR6: a | DS6: =_xlfn.SWITCH(CO6,"a",4,"b",3,"c",2,"d",1,"e",0,"-","") -> 3 | DT6: =_xlfn.SWITCH(DH6,"a",4/2,"b",3/2,"c",2/2,"d",1/2,"e",0,"-","") -> 2 | DU6: {=_xlfn.IFS(COUNT(DS6:DT6)=2,SUM(DS6:DT6)/6,COUNT(DS6:DT6)=0,"-",DS6="",DQ6,DT6="",CY6)} -> 0.83333333 | DV6: c | DW6: c | DX6: b | DY6: c | DZ6: - | EA6: - | EB6: - | EC6: - | ED6: c | EE6: 2 | EF6: 2 | EG6: 3 | EH6: 2 | EM6: 0.5625 | EN6: 5 | EO6: 76.487455 | EP6: B | EQ6: 政策の目的がかなり達成されている | ER6: 客観指標 | ES6: 2050年までの二酸化炭素排出量「正味ゼロ」等の目標達成を目指しており、効果測定に客観指標の数値が直結するため、客観指標評価を重視する。 | ET6: 政策の指標である「温室効果ガス排出量削減率」は、前年度比でエネルギー消費量が増加し、温室効果ガス排出量がほぼ横ばいとなったため、ｃ評価となった。一方、「ごみ焼却量の削減量」について、ごみ量が着実に減少し、ａ評価となった等の理由により、全体でａ評価となった。 | EU6: 「マイバッグの利用やごみの分別を徹底する」という実感は概ね肯定的に評価されているが、「環境に配慮した行動を実践する社会になっている」や「暮らしの中で、環境について学び、実践する人が増加している」という実感を得にくかったこと等から、全体ではｃ評価になったと考えられる。 | EV6: C | EW6: B | EX6: A | EY6: B | EZ6: - | FA6: - | FB6: - | FC6: - | FD6: 客観指標評価がａ評価となり、市民生活実感評価がｃ評価となったことから、総合評価結果はＢ評価となった。 令和8年3月に改定した環境基本計画に基づき、再生可能エネルギーの普及拡大と省エネ対策の促進等による「脱炭素社会づくり」、生活環境の保全や生物多様性豊かな自然環境の持続可能な利用と保全等による「自然共生社会づくり」、2Rや分別リサイクルの推進等による資源の有効活用と環境負荷の低減を図る「循環型社会づくり」を三位一体で進めるとともに、環境教育・学習を通じた行動促進・人材育成などの「ひと・しくみづくり」に横断的に取り組むことで、基本方針にある環境と調和した持続可能な社会の実現を目指していく。 | FE6: =VLOOKUP($A6&"-"&FE$5,#REF!,COLUMN(#REF!),FALSE) -> #REF! | FF6: =VLOOKUP($A6&"-"&FF$5,#REF!,COLUMN(#REF!),FALSE) -> #REF! | FG6: =VLOOKUP($A6&"-"&FG$5,#REF!,COLUMN(#REF!),FALSE) -> #REF! | FH6: =VLOOKUP($A6&"-"&FH$5,#REF!,COLUMN(#REF!),FALSE) -> #REF! | FI6: =VLOOKUP($A6&"-"&FI$5,#REF!,COLUMN(#REF!),FALSE) -> #REF! | FJ6: =VLOOKUP($A6&"-"&FJ$5,#REF!,COLUMN(#REF!),FALSE) -> #REF! | FK6: =VLOOKUP($A6&"-"&FK$5,#REF!,COLUMN(#REF!),FALSE) -> #REF! | FL6: =VLOOKUP($A6&"-"&FL$5,#REF!,COLUMN(#REF!),FALSE) -> #REF! | FM6: =VLOOKUP($A6&"-"&FM$5,#REF!,COLUMN(#REF!),FALSE) -> #REF! | FN6: =_xlfn.IFS(FX6="-","-",FX6>=0.8,"a",FX6>=0.6,"b",FX6>=0.4,"c",FX6>=0.2,"d",FX6<0.2,"e") -> - | FO6: =_xlfn.SWITCH(FE6,"a",4,"b",3,"c",2,"d",1,"e",0,"-","") -> #REF! | FP6: =_xlfn.SWITCH(FF6,"a",4,"b",3,"c",2,"d",1,"e",0,"-","") -> #REF! | FQ6: =_xlfn.SWITCH(FG6,"a",4,"b",3,"c",2,"d",1,"e",0,"-","") -> #REF! | FR6: =_xlfn.SWITCH(FH6,"a",4,"b",3,"c",2,"d",1,"e",0,"-","") -> #REF! | FS6: =_xlfn.SWITCH(FI6,"a",4,"b",3,"c",2,"d",1,"e",0,"-","") -> #REF! | FT6: =_xlfn.SWITCH(FJ6,"a",4,"b",3,"c",2,"d",1,"e",0,"-","") -> #REF! | FU6: =_xlfn.SWITCH(FK6,"a",4,"b",3,"c",2,"d",1,"e",0,"-","") -> #REF! | FV6: =_xlfn.SWITCH(FL6,"a",4,"b",3,"c",2,"d",1,"e",0,"-","") -> #REF! | FW6: =_xlfn.SWITCH(FM6,"a",4,"b",3,"c",2,"d",1,"e",0,"-","") -> #REF! | FX6: =IF(COUNT(FO6:FW6)=0,"-",SUM(FO6:FW6)/COUNT(FO6:FW6)/4) -> - | FY6: =IFERROR(VLOOKUP($A6*100+FY$5,#REF!,COLUMN(#REF!),FALSE),"-") -> - | FZ6: =IFERROR(VLOOKUP($A6*100+FZ$5,#REF!,COLUMN(#REF!),FALSE),"-") -> - | GA6: =IFERROR(VLOOKUP($A6*100+GA$5,#REF!,COLUMN(#REF!),FALSE),"-") -> - | GB6: =IFERROR(VLOOKUP($A6*100+GB$5,#REF!,COLUMN(#REF!),FALSE),"-") -> - | GC6: =IFERROR(VLOOKUP($A6*100+GC$5,#REF!,COLUMN(#REF!),FALSE),"-") -> - | GD6: =IFERROR(VLOOKUP($A6*100+GD$5,#REF!,COLUMN(#REF!),FALSE),"-") -> - | GE6: =IFERROR(VLOOKUP($A6*100+GE$5,#REF!,COLUMN(#REF!),FALSE),"-") -> - | GF6: =IFERROR(VLOOKUP($A6*100+GF$5,#REF!,COLUMN(#REF!),FALSE),"-") -> - | GG6: =_xlfn.IFS(GP6="-","-",GP6>=0.8,"a",GP6>=0.6,"b",GP6>=0.4,"c",GP6>=0.2,"d",GP6<0.2,"e") -> - | GH6: =_xlfn.SWITCH(FY6,"a",4,"b",3,"c",2,"d",1,"e",0,"-","") | GI6: =_xlfn.SWITCH(FZ6,"a",4,"b",3,"c",2,"d",1,"e",0,"-","") | GJ6: =_xlfn.SWITCH(GA6,"a",4,"b",3,"c",2,"d",1,"e",0,"-","") | GK6: =_xlfn.SWITCH(GB6,"a",4,"b",3,"c",2,"d",1,"e",0,"-","") | GL6: =_xlfn.SWITCH(GC6,"a",4,"b",3,"c",2,"d",1,"e",0,"-","") | GM6: =_xlfn.SWITCH(GD6,"a",4,"b",3,"c",2,"d",1,"e",0,"-","") | GN6: =_xlfn.SWITCH(GE6,"a",4,"b",3,"c",2,"d",1,"e",0,"-","") | GO6: =_xlfn.SWITCH(GF6,"a",4,"b",3,"c",2,"d",1,"e",0,"-","") | GP6: =IF(COUNT(GH6:GO6)=0,"-",SUM(GH6:GO6)/COUNT(GH6:GO6)/4) -> - | GQ6: =_xlfn.IFS(GT6="-","-",GT6>=0.8,"a",GT6>=0.6,"b",GT6>=0.4,"c",GT6>=0.2,"d",GT6<0.2,"e") -> - | GR6: =_xlfn.SWITCH(FN6,"a",4,"b",3,"c",2,"d",1,"e",0,"-","") | GS6: =_xlfn.SWITCH(GG6,"a",4/2,"b",3/2,"c",2/2,"d",1/2,"e",0,"-","") | GT6: {=_xlfn.IFS(COUNT(GR6:GS6)=2,SUM(GR6:GS6)/6,COUNT(GR6:GS6)=0,"-",GR6="",GP6,GS6="",FX6)} -> - | GU6: =VLOOKUP($A6&"-"&GU$5,#REF!,COLUMN(#REF!),FALSE) -> #REF! | GV6: =VLOOKUP($A6&"-"&GV$5,#REF!,COLUMN(#REF!),FALSE) -> #REF! | GW6: =VLOOKUP($A6&"-"&GW$5,#REF!,COLUMN(#REF!),FALSE) -> #REF! | GX6: =VLOOKUP($A6&"-"&GX$5,#REF!,COLUMN(#REF!),FALSE) -> #REF! | GY6: =VLOOKUP($A6&"-"&GY$5,#REF!,COLUMN(#REF!),FALSE) -> #REF! | GZ6: =VLOOKUP($A6&"-"&GZ$5,#REF!,COLUMN(#REF!),FALSE) -> #REF! | HA6: =VLOOKUP($A6&"-"&HA$5,#REF!,COLUMN(#REF!),FALSE) -> #REF! | HB6: =VLOOKUP($A6&"-"&HB$5,#REF!,COLUMN(#REF!),FALSE) -> #REF! | HC6: =_xlfn.IFS(HL6>=0.8,"a",HL6>=0.6,"b",HL6>=0.4,"c",HL6>=0.2,"d",HL6<0.2,"e") -> #REF! | HD6: =_xlfn.SWITCH(GU6,"a",4,"b",3,"c",2,"d",1,"e",0,"-","") -> #REF! | HE6: =_xlfn.SWITCH(GV6,"a",4,"b",3,"c",2,"d",1,"e",0,"-","") -> #REF! | HF6: =_xlfn.SWITCH(GW6,"a",4,"b",3,"c",2,"d",1,"e",0,"-","") -> #REF! | HG6: =_xlfn.SWITCH(GX6,"a",4,"b",3,"c",2,"d",1,"e",0,"-","") -> #REF! | HH6: =_xlfn.SWITCH(GY6,"a",4,"b",3,"c",2,"d",1,"e",0,"-","") -> #REF! | HI6: =_xlfn.SWITCH(GZ6,"a",4,"b",3,"c",2,"d",1,"e",0,"-","") -> #REF! | HJ6: =_xlfn.SWITCH(HA6,"a",4,"b",3,"c",2,"d",1,"e",0,"-","") -> #REF! | HK6: =_xlfn.SWITCH(HB6,"a",4,"b",3,"c",2,"d",1,"e",0,"-","") -> #REF! | HL6: =SUM(HD6:HK6)/COUNT(HD6:HK6)/4 -> #REF! | HM6: =VLOOKUP($A6,#REF!,7,FALSE) -> #REF! | HN6: =VLOOKUP($A6,#REF!,8,FALSE) -> #REF! | HO6: - | HP6: =VLOOKUP(HO6,#REF!,2,FALSE) -> #REF! | HQ6: - | HU6: =IFERROR(VLOOKUP($A6*100+HU$5,#REF!,COLUMN(#REF!),FALSE),"-") -> - | HV6: =IFERROR(VLOOKUP($A6*100+HV$5,#REF!,COLUMN(#REF!),FALSE),"-") -> - | HW6: =IFERROR(VLOOKUP($A6*100+HW$5,#REF!,COLUMN(#REF!),FALSE),"-") -> - | HX6: =IFERROR(VLOOKUP($A6*100+HX$5,#REF!,COLUMN(#REF!),FALSE),"-") -> - | HY6: =IFERROR(VLOOKUP($A6*100+HY$5,#REF!,COLUMN(#REF!),FALSE),"-") -> - | HZ6: =IFERROR(VLOOKUP($A6*100+HZ$5,#REF!,COLUMN(#REF!),FALSE),"-") -> - | IA6: =IFERROR(VLOOKUP($A6*100+IA$5,#REF!,COLUMN(#REF!),FALSE),"-") -> - | IB6: =IFERROR(VLOOKUP($A6*100+IB$5,#REF!,COLUMN(#REF!),FALSE),"-") -> - | ID6: =VLOOKUP($A6&"-"&ID$5,#REF!,COLUMN(#REF!),FALSE) -> #REF! | IE6: =VLOOKUP($A6&"-"&IE$5,#REF!,COLUMN(#REF!),FALSE) -> #REF! | IF6: =VLOOKUP($A6&"-"&IF$5,#REF!,COLUMN(#REF!),FALSE) -> #REF! | IG6: =VLOOKUP($A6&"-"&IG$5,#REF!,COLUMN(#REF!),FALSE) -> #REF! | IH6: =VLOOKUP($A6&"-"&IH$5,#REF!,COLUMN(#REF!),FALSE) -> #REF! | II6: =VLOOKUP($A6&"-"&II$5,#REF!,COLUMN(#REF!),FALSE) -> #REF! | IJ6: =VLOOKUP($A6&"-"&IJ$5,#REF!,COLUMN(#REF!),FALSE) -> #REF! | IK6: =VLOOKUP($A6&"-"&IK$5,#REF!,COLUMN(#REF!),FALSE) -> #REF! | IL6: =VLOOKUP($A6&"-"&IL$5,#REF!,COLUMN(#REF!),FALSE) -> #REF! | IM6: =_xlfn.IFS(IW6="-","-",IW6>=0.8,"a",IW6>=0.6,"b",IW6>=0.4,"c",IW6>=0.2,"d",IW6<0.2,"e") -> - | IN6: =_xlfn.SWITCH(ID6,"a",4,"b",3,"c",2,"d",1,"e",0,"-","") -> #REF! | IO6: =_xlfn.SWITCH(IE6,"a",4,"b",3,"c",2,"d",1,"e",0,"-","") -> #REF! | IP6: =_xlfn.SWITCH(IF6,"a",4,"b",3,"c",2,"d",1,"e",0,"-","") -> #REF! | IQ6: =_xlfn.SWITCH(IG6,"a",4,"b",3,"c",2,"d",1,"e",0,"-","") -> #REF! | IR6: =_xlfn.SWITCH(IH6,"a",4,"b",3,"c",2,"d",1,"e",0,"-","") -> #REF! | IS6: =_xlfn.SWITCH(II6,"a",4,"b",3,"c",2,"d",1,"e",0,"-","") -> #REF! | IT6: =_xlfn.SWITCH(IJ6,"a",4,"b",3,"c",2,"d",1,"e",0,"-","") -> #REF! | IU6: =_xlfn.SWITCH(IK6,"a",4,"b",3,"c",2,"d",1,"e",0,"-","") -> #REF! | IV6: =_xlfn.SWITCH(IL6,"a",4,"b",3,"c",2,"d",1,"e",0,"-","") -> #REF! | IW6: =IF(COUNT(IN6:IV6)=0,"-",SUM(IN6:IV6)/COUNT(IN6:IV6)/4) -> - | IX6: =IFERROR(VLOOKUP($A6*100+IX$5,#REF!,COLUMN(#REF!),FALSE),"-") -> - | IY6: =IFERROR(VLOOKUP($A6*100+IY$5,#REF!,COLUMN(#REF!),FALSE),"-") -> - | IZ6: =IFERROR(VLOOKUP($A6*100+IZ$5,#REF!,COLUMN(#REF!),FALSE),"-") -> - | JA6: =IFERROR(VLOOKUP($A6*100+JA$5,#REF!,COLUMN(#REF!),FALSE),"-") -> - | JB6: =IFERROR(VLOOKUP($A6*100+JB$5,#REF!,COLUMN(#REF!),FALSE),"-") -> - | JC6: =IFERROR(VLOOKUP($A6*100+JC$5,#REF!,COLUMN(#REF!),FALSE),"-") -> - | JD6: =IFERROR(VLOOKUP($A6*100+JD$5,#REF!,COLUMN(#REF!),FALSE),"-") -> - | JE6: =IFERROR(VLOOKUP($A6*100+JE$5,#REF!,COLUMN(#REF!),FALSE),"-") -> - | JF6: =_xlfn.IFS(JO6="-","-",JO6>=0.8,"a",JO6>=0.6,"b",JO6>=0.4,"c",JO6>=0.2,"d",JO6<0.2,"e") -> - | JG6: =_xlfn.SWITCH(IX6,"a",4,"b",3,"c",2,"d",1,"e",0,"-","") | JH6: =_xlfn.SWITCH(IY6,"a",4,"b",3,"c",2,"d",1,"e",0,"-","") | JI6: =_xlfn.SWITCH(IZ6,"a",4,"b",3,"c",2,"d",1,"e",0,"-","") | JJ6: =_xlfn.SWITCH(JA6,"a",4,"b",3,"c",2,"d",1,"e",0,"-","") | JK6: =_xlfn.SWITCH(JB6,"a",4,"b",3,"c",2,"d",1,"e",0,"-","") | JL6: =_xlfn.SWITCH(JC6,"a",4,"b",3,"c",2,"d",1,"e",0,"-","") | JM6: =_xlfn.SWITCH(JD6,"a",4,"b",3,"c",2,"d",1,"e",0,"-","") | JN6: =_xlfn.SWITCH(JE6,"a",4,"b",3,"c",2,"d",1,"e",0,"-","") | JO6: =IF(COUNT(JG6:JN6)=0,"-",SUM(JG6:JN6)/COUNT(JG6:JN6)/4) -> - | JP6: =_xlfn.IFS(JS6="-","-",JS6>=0.8,"a",JS6>=0.6,"b",JS6>=0.4,"c",JS6>=0.2,"d",JS6<0.2,"e") -> - | JQ6: =_xlfn.SWITCH(IM6,"a",4,"b",3,"c",2,"d",1,"e",0,"-","") | JR6: =_xlfn.SWITCH(JF6,"a",4/2,"b",3/2,"c",2/2,"d",1/2,"e",0,"-","") | JS6: {=_xlfn.IFS(COUNT(JQ6:JR6)=2,SUM(JQ6:JR6)/6,COUNT(JQ6:JR6)=0,"-",JQ6="",JO6,JR6="",IW6)} -> - | JT6: =VLOOKUP($A6&"-"&JT$5,#REF!,COLUMN(#REF!),FALSE) -> #REF! | JU6: =VLOOKUP($A6&"-"&JU$5,#REF!,COLUMN(#REF!),FALSE) -> #REF! | JV6: =VLOOKUP($A6&"-"&JV$5,#REF!,COLUMN(#REF!),FALSE) -> #REF! | JW6: =VLOOKUP($A6&"-"&JW$5,#REF!,COLUMN(#REF!),FALSE) -> #REF! | JX6: =VLOOKUP($A6&"-"&JX$5,#REF!,COLUMN(#REF!),FALSE) -> #REF! | JY6: =VLOOKUP($A6&"-"&JY$5,#REF!,COLUMN(#REF!),FALSE) -> #REF! | JZ6: =VLOOKUP($A6&"-"&JZ$5,#REF!,COLUMN(#REF!),FALSE) -> #REF! | KA6: =VLOOKUP($A6&"-"&KA$5,#REF!,COLUMN(#REF!),FALSE) -> #REF! | KB6: =_xlfn.IFS(KK6>=0.8,"a",KK6>=0.6,"b",KK6>=0.4,"c",KK6>=0.2,"d",KK6<0.2,"e") -> #REF! | KC6: =_xlfn.SWITCH(JT6,"a",4,"b",3,"c",2,"d",1,"e",0,"-","") -> #REF! | KD6: =_xlfn.SWITCH(JU6,"a",4,"b",3,"c",2,"d",1,"e",0,"-","") -> #REF! | KE6: =_xlfn.SWITCH(JV6,"a",4,"b",3,"c",2,"d",1,"e",0,"-","") -> #REF! | KF6: =_xlfn.SWITCH(JW6,"a",4,"b",3,"c",2,"d",1,"e",0,"-","") -> #REF! | KG6: =_xlfn.SWITCH(JX6,"a",4,"b",3,"c",2,"d",1,"e",0,"-","") -> #REF! | KH6: =_xlfn.SWITCH(JY6,"a",4,"b",3,"c",2,"d",1,"e",0,"-","") -> #REF! | KI6: =_xlfn.SWITCH(JZ6,"a",4,"b",3,"c",2,"d",1,"e",0,"-","") -> #REF! | KJ6: =_xlfn.SWITCH(KA6,"a",4,"b",3,"c",2,"d",1,"e",0,"-","") -> #REF! | KK6: =SUM(KC6:KJ6)/COUNT(KC6:KJ6)/4 -> #REF! | KL6: =VLOOKUP($A6,#REF!,9,FALSE) -> #REF! | KM6: =VLOOKUP($A6,#REF!,10,FALSE) -> #REF! | KN6: - | KO6: =VLOOKUP(KN6,#REF!,2,FALSE) -> #REF! | KP6: - | KT6: =IFERROR(VLOOKUP($A6*100+KT$5,#REF!,COLUMN(#REF!),FALSE),"-") -> - | KU6: =IFERROR(VLOOKUP($A6*100+KU$5,#REF!,COLUMN(#REF!),FALSE),"-") -> - | KV6: =IFERROR(VLOOKUP($A6*100+KV$5,#REF!,COLUMN(#REF!),FALSE),"-") -> - | KW6: =IFERROR(VLOOKUP($A6*100+KW$5,#REF!,COLUMN(#REF!),FALSE),"-") -> - | KX6: =IFERROR(VLOOKUP($A6*100+KX$5,#REF!,COLUMN(#REF!),FALSE),"-") -> - | KY6: =IFERROR(VLOOKUP($A6*100+KY$5,#REF!,COLUMN(#REF!),FALSE),"-") -> - | KZ6: =IFERROR(VLOOKUP($A6*100+KZ$5,#REF!,COLUMN(#REF!),FALSE),"-") -> - | LA6: =IFERROR(VLOOKUP($A6*100+LA$5,#REF!,COLUMN(#REF!),FALSE),"-") -> - | LC6: =VLOOKUP($A6&"-"&LC$5,#REF!,COLUMN(#REF!),FALSE) -> #REF! | LD6: =VLOOKUP($A6&"-"&LD$5,#REF!,COLUMN(#REF!),FALSE) -> #REF! | LE6: =VLOOKUP($A6&"-"&LE$5,#REF!,COLUMN(#REF!),FALSE) -> #REF! | LF6: =VLOOKUP($A6&"-"&LF$5,#REF!,COLUMN(#REF!),FALSE) -> #REF! | LG6: =VLOOKUP($A6&"-"&LG$5,#REF!,COLUMN(#REF!),FALSE) -> #REF! | LH6: =VLOOKUP($A6&"-"&LH$5,#REF!,COLUMN(#REF!),FALSE) -> #REF! | LI6: =VLOOKUP($A6&"-"&LI$5,#REF!,COLUMN(#REF!),FALSE) -> #REF! | LJ6: =VLOOKUP($A6&"-"&LJ$5,#REF!,COLUMN(#REF!),FALSE) -> #REF! | LK6: =VLOOKUP($A6&"-"&LK$5,#REF!,COLUMN(#REF!),FALSE) -> #REF! | LL6: =_xlfn.IFS(LV6="-","-",LV6>=0.8,"a",LV6>=0.6,"b",LV6>=0.4,"c",LV6>=0.2,"d",LV6<0.2,"e") -> - | LM6: =_xlfn.SWITCH(LC6,"a",4,"b",3,"c",2,"d",1,"e",0,"-","") -> #REF! | LN6: =_xlfn.SWITCH(LD6,"a",4,"b",3,"c",2,"d",1,"e",0,"-","") -> #REF! | LO6: =_xlfn.SWITCH(LE6,"a",4,"b",3,"c",2,"d",1,"e",0,"-","") -> #REF! | LP6: =_xlfn.SWITCH(LF6,"a",4,"b",3,"c",2,"d",1,"e",0,"-","") -> #REF! | LQ6: =_xlfn.SWITCH(LG6,"a",4,"b",3,"c",2,"d",1,"e",0,"-","") -> #REF! | LR6: =_xlfn.SWITCH(LH6,"a",4,"b",3,"c",2,"d",1,"e",0,"-","") -> #REF! | LS6: =_xlfn.SWITCH(LI6,"a",4,"b",3,"c",2,"d",1,"e",0,"-","") -> #REF! | LT6: =_xlfn.SWITCH(LJ6,"a",4,"b",3,"c",2,"d",1,"e",0,"-","") -> #REF! | LU6: =_xlfn.SWITCH(LK6,"a",4,"b",3,"c",2,"d",1,"e",0,"-","") -> #REF! | LV6: =IF(COUNT(LM6:LU6)=0,"-",SUM(LM6:LU6)/COUNT(LM6:LU6)/4) -> - | LW6: =IFERROR(VLOOKUP($A6*100+LW$5,#REF!,COLUMN(#REF!),FALSE),"-") -> - | LX6: =IFERROR(VLOOKUP($A6*100+LX$5,#REF!,COLUMN(#REF!),FALSE),"-") -> - | LY6: =IFERROR(VLOOKUP($A6*100+LY$5,#REF!,COLUMN(#REF!),FALSE),"-") -> - | LZ6: =IFERROR(VLOOKUP($A6*100+LZ$5,#REF!,COLUMN(#REF!),FALSE),"-") -> - | MA6: =IFERROR(VLOOKUP($A6*100+MA$5,#REF!,COLUMN(#REF!),FALSE),"-") -> - | MB6: =IFERROR(VLOOKUP($A6*100+MB$5,#REF!,COLUMN(#REF!),FALSE),"-") -> - | MC6: =IFERROR(VLOOKUP($A6*100+MC$5,#REF!,COLUMN(#REF!),FALSE),"-") -> - | MD6: =IFERROR(VLOOKUP($A6*100+MD$5,#REF!,COLUMN(#REF!),FALSE),"-") -> - | ME6: =_xlfn.IFS(MN6="-","-",MN6>=0.8,"a",MN6>=0.6,"b",MN6>=0.4,"c",MN6>=0.2,"d",MN6<0.2,"e") -> - | MF6: =_xlfn.SWITCH(LW6,"a",4,"b",3,"c",2,"d",1,"e",0,"-","") | MG6: =_xlfn.SWITCH(LX6,"a",4,"b",3,"c",2,"d",1,"e",0,"-","") | MH6: =_xlfn.SWITCH(LY6,"a",4,"b",3,"c",2,"d",1,"e",0,"-","") | MI6: =_xlfn.SWITCH(LZ6,"a",4,"b",3,"c",2,"d",1,"e",0,"-","") | MJ6: =_xlfn.SWITCH(MA6,"a",4,"b",3,"c",2,"d",1,"e",0,"-","") | MK6: =_xlfn.SWITCH(MB6,"a",4,"b",3,"c",2,"d",1,"e",0,"-","") | ML6: =_xlfn.SWITCH(MC6,"a",4,"b",3,"c",2,"d",1,"e",0,"-","") | MM6: =_xlfn.SWITCH(MD6,"a",4,"b",3,"c",2,"d",1,"e",0,"-","") | MN6: =IF(COUNT(MF6:MM6)=0,"-",SUM(MF6:MM6)/COUNT(MF6:MM6)/4) -> - | MO6: =_xlfn.IFS(MR6="-","-",MR6>=0.8,"a",MR6>=0.6,"b",MR6>=0.4,"c",MR6>=0.2,"d",MR6<0.2,"e") -> - | MP6: =_xlfn.SWITCH(LL6,"a",4,"b",3,"c",2,"d",1,"e",0,"-","") | MQ6: =_xlfn.SWITCH(ME6,"a",4/2,"b",3/2,"c",2/2,"d",1/2,"e",0,"-","") | MR6: {=_xlfn.IFS(COUNT(MP6:MQ6)=2,SUM(MP6:MQ6)/6,COUNT(MP6:MQ6)=0,"-",MP6="",MN6,MQ6="",LV6)} -> - | MS6: =VLOOKUP($A6&"-"&MS$5,#REF!,COLUMN(#REF!),FALSE) -> #REF! | MT6: =VLOOKUP($A6&"-"&MT$5,#REF!,COLUMN(#REF!),FALSE) -> #REF! | MU6: =VLOOKUP($A6&"-"&MU$5,#REF!,COLUMN(#REF!),FALSE) -> #REF! | MV6: =VLOOKUP($A6&"-"&MV$5,#REF!,COLUMN(#REF!),FALSE) -> #REF! | MW6: =VLOOKUP($A6&"-"&MW$5,#REF!,COLUMN(#REF!),FALSE) -> #REF! | MX6: =VLOOKUP($A6&"-"&MX$5,#REF!,COLUMN(#REF!),FALSE) -> #REF! | MY6: =VLOOKUP($A6&"-"&MY$5,#REF!,COLUMN(#REF!),FALSE) -> #REF! | MZ6: =VLOOKUP($A6&"-"&MZ$5,#REF!,COLUMN(#REF!),FALSE) -> #REF! | NA6: =_xlfn.IFS(NJ6>=0.8,"a",NJ6>=0.6,"b",NJ6>=0.4,"c",NJ6>=0.2,"d",NJ6<0.2,"e") -> #REF! | NB6: =_xlfn.SWITCH(MS6,"a",4,"b",3,"c",2,"d",1,"e",0,"-","") -> #REF! | NC6: =_xlfn.SWITCH(MT6,"a",4,"b",3,"c",2,"d",1,"e",0,"-","") -> #REF! | ND6: =_xlfn.SWITCH(MU6,"a",4,"b",3,"c",2,"d",1,"e",0,"-","") -> #REF! | NE6: =_xlfn.SWITCH(MV6,"a",4,"b",3,"c",2,"d",1,"e",0,"-","") -> #REF! | NF6: =_xlfn.SWITCH(MW6,"a",4,"b",3,"c",2,"d",1,"e",0,"-","") -> #REF! | NG6: =_xlfn.SWITCH(MX6,"a",4,"b",3,"c",2,"d",1,"e",0,"-","") -> #REF! | NH6: =_xlfn.SWITCH(MY6,"a",4,"b",3,"c",2,"d",1,"e",0,"-","") -> #REF! | NI6: =_xlfn.SWITCH(MZ6,"a",4,"b",3,"c",2,"d",1,"e",0,"-","") -> #REF! | NJ6: =SUM(NB6:NI6)/COUNT(NB6:NI6)/4 -> #REF! | NK6: =VLOOKUP($A6,#REF!,11,FALSE) -> #REF! | NL6: =VLOOKUP($A6,#REF!,12,FALSE) -> #REF! | NM6: - | NN6: =VLOOKUP(NM6,#REF!,2,FALSE) -> #REF! | NO6: - | NS6: =IFERROR(VLOOKUP($A6*100+NS$5,#REF!,COLUMN(#REF!),FALSE),"-") -> - | NT6: =IFERROR(VLOOKUP($A6*100+NT$5,#REF!,COLUMN(#REF!),FALSE),"-") -> - | NU6: =IFERROR(VLOOKUP($A6*100+NU$5,#REF!,COLUMN(#REF!),FALSE),"-") -> - | NV6: =IFERROR(VLOOKUP($A6*100+NV$5,#REF!,COLUMN(#REF!),FALSE),"-") -> - | NW6: =IFERROR(VLOOKUP($A6*100+NW$5,#REF!,COLUMN(#REF!),FALSE),"-") -> - | NX6: =IFERROR(VLOOKUP($A6*100+NX$5,#REF!,COLUMN(#REF!),FALSE),"-") -> - | NY6: =IFERROR(VLOOKUP($A6*100+NY$5,#REF!,COLUMN(#REF!),FALSE),"-") -> - | NZ6: =IFERROR(VLOOKUP($A6*100+NZ$5,#REF!,COLUMN(#REF!),FALSE),"-") -> -

Sheet 01政策評価
A1: 政策 番号 | B1: 政策分野名 | C1: 基本情報 | G1: 令和3年度 | CF1: 令和4年度 | FE1: 令和5年度 | ID1: 令和6年度 | LC1: 令和7年度 | OB1: 令和8年度
C2: 基本方針 | D2: 担当局 | E2: 共管局 | F2: 政策に関係する主な分野別計画等 | G2: 政策の評価 | BW2: 今後の方向性の検討 | CF2: 政策の評価 | EV2: 今後の方向性の検討 | FE2: 政策の評価 | HU2: 今後の方向性の検討 | ID2: 政策の評価 | KT2: 今後の方向性の検討 | LC2: 政策の評価 | NS2: 今後の方向性の検討 | OB2: 政策の評価 | QR2: 今後の方向性の検討
G3: 政策の客観指標評価 | Q3: 政策の客観指標評価計算 | AA3: 施策の客観指標評価 | AJ3: 政策の客観指標評価計算 | AS3: 政策の 客観指標 総合評価 (ｱ):(ｲ)=1:0.5 | AT3: 政策の客観指標総合評価計算 | AW3: 市民生活実感評価 | BF3: 市民生活実感評価計算 | BO3: 政策の重要度 | BQ3: 総合評価 | BS3: 総合評価の判断理由 | BU3: 現状・原因分析 | BW3: 施策の総合評価 | CE3: 今後の方向性 | CF3: 政策の客観指標評価 | CP3: 政策の客観指標評価計算 | CZ3: 施策の客観指標評価 | DI3: 施策の客観指標評価計算 | DR3: 政策の 客観指標 総合評価 (ｱ):(ｲ)=1:0.5 | DS3: 政策の客観指標総合評価計算 | DV3: 市民生活実感評価 | EE3: 市民生活実感評価計算 | EN3: 政策の重要度 | EP3: 総合評価 | ER3: 総合評価の判断理由 | ET3: 現状・原因分析 | EV3: 施策の総合評価 | FD3: 今後の方向性 | FE3: 政策の客観指標評価 | FO3: 政策の客観指標評価計算 | FY3: 施策の客観指標評価 | GH3: 施策の客観指標評価計算 | GQ3: 政策の 客観指標 総合評価 (ｱ):(ｲ)=1:0.5 | GR3: 政策の客観指標総合評価計算 | GU3: 市民生活実感評価 | HD3: 市民生活実感評価計算 | HM3: 政策の重要度 | HO3: 総合評価 | HQ3: 総合評価の判断理由 | HS3: 現状・原因分析 | HU3: 施策の総合評価 | IC3: 今後の方向性 | ID3: 政策の客観指標評価 | IN3: 政策の客観指標評価計算 | IX3: 施策の客観指標評価 | JG3: 施策の客観指標評価計算 | JP3: 政策の 客観指標 総合評価 (ｱ):(ｲ)=1:0.5 | JQ3: 政策の客観指標総合評価計算 | JT3: 市民生活実感評価 | KC3: 市民生活実感評価計算 | KL3: 政策の重要度 | KN3: 総合評価 | KP3: 総合評価の判断理由 | KR3: 現状・原因分析 | KT3: 施策の総合評価 | LB3: 今後の方向性 | LC3: 政策の客観指標評価 | LM3: 政策の客観指標評価計算 | LW3: 施策の客観指標評価 | MF3: 施策の客観指標評価計算 | MO3: 政策の 客観指標 総合評価 (ｱ):(ｲ)=1:0.5 | MP3: 政策の客観指標総合評価計算 | MS3: 市民生活実感評価 | NB3: 市民生活実感評価計算 | NK3: 政策の重要度 | NM3: 総合評価 | NO3: 総合評価の判断理由 | NQ3: 現状・原因分析 | NS3: 施策の総合評価 | OA3: 今後の方向性 | OB3: 政策の客観指標評価 | OL3: 政策の客観指標評価計算 | OV3: 施策の客観指標評価 | PE3: 施策の客観指標評価計算 | PN3: 政策の 客観指標 総合評価 (ｱ):(ｲ)=1:0.5 | PO3: 政策の客観指標総合評価計算 | PR3: 市民生活実感評価 | QA3: 市民生活実感評価計算 | QJ3: 政策の重要度 | QL3: 総合評価 | QN3: 総合評価の判断理由 | QP3: 現状・原因分析 | QR3: 施策の総合評価 | QZ3: 今後の方向性
G4: 1 | H4: 2 | I4: 3 | J4: 4 | K4: 5 | L4: 6 | M4: 7 | N4: 8 | O4: 9 | P4: 平均 (ｱ) | Q4: 1 | R4: 2 | S4: 3 | T4: 4 | U4: 5 | V4: 6 | W4: 7 | X4: 8 | Y4: 9 | Z4: 得点率 | AA4: 1 | AB4: 2 | AC4: 3 | AD4: 4 | AE4: 5 | AF4: 6 | AG4: 7 | AH4: 8 | AI4: 平均 (ｲ) | AJ4: 1 | AK4: 2 | AL4: 3 | AM4: 4 | AN4: 5 | AO4: 6 | AP4: 7 | AQ4: 8 | AR4: 得点率 | AT4: 政策 | AU4: 施策 | AV4: 総合 | AW4: 1 | AX4: 2 | AY4: 3 | AZ4: 4 | BA4: 5 | BB4: 6 | BC4: 7 | BD4: 8 | BE4: 平均 | BF4: 1 | BG4: 2 | BH4: 3 | BI4: 4 | BJ4: 5 | BK4: 6 | BL4: 7 | BM4: 8 | BN4: 得点率 | BO4: 順位 | BP4: ％ | BQ4: 評価 | BR4: 評語 | BS4: 重み付け | BT4: 理由 | BU4: 客観指標評価 | BV4: 市民生活実感評価 | BW4: 1 | BX4: 2 | BY4: 3 | BZ4: 4 | CA4: 5 | CB4: 6 | CC4: 7 | CD4: 8 | CF4: 1 | CG4: 2 | CH4: 3 | CI4: 4 | CJ4: 5 | CK4: 6 | CL4: 7 | CM4: 8 | CN4: 9 | CO4: 平均 (ｱ) | CP4: 1 | CQ4: 2 | CR4: 3 | CS4: 4 | CT4: 5 | CU4: 6 | CV4: 7 | CW4: 8 | CX4: 9 | CY4: 得点率 | CZ4: 1 | DA4: 2 | DB4: 3 | DC4: 4 | DD4: 5 | DE4: 6 | DF4: 7 | DG4: 8 | DH4: 平均 (ｲ) | DI4: 1 | DJ4: 2 | DK4: 3 | DL4: 4 | DM4: 5 | DN4: 6 | DO4: 7 | DP4: 8 | DQ4: 得点率 | DS4: 政策 | DT4: 施策 | DU4: 総合 | DV4: 1 | DW4: 2 | DX4: 3 | DY4: 4 | DZ4: 5 | EA4: 6 | EB4: 7 | EC4: 8 | ED4: 平均 | EE4: 1 | EF4: 2 | EG4: 3 | EH4: 4 | EI4: 5 | EJ4: 6 | EK4: 7 | EL4: 8 | EM4: 得点率 | EN4: 順位 | EO4: ％ | EP4: 評価 | EQ4: 評語 | ER4: 重み付け | ES4: 理由 | ET4: 客観指標評価 | EU4: 市民生活実感評価 | EV4: 1 | EW4: 2 | EX4: 3 | EY4: 4 | EZ4: 5 | FA4: 6 | FB4: 7 | FC4: 8 | FE4: 1 | FF4: 2 | FG4: 3 | FH4: 4 | FI4: 5 | FJ4: 6 | FK4: 7 | FL4: 8 | FM4: 9 | FN4: 平均 (ｱ) | FO4: 1 | FP4: 2 | FQ4: 3 | FR4: 4 | FS4: 5 | FT4: 6 | FU4: 7 | FV4: 8 | FW4: 9 | FX4: 得点率 | FY4: 1 | FZ4: 2 | GA4: 3 | GB4: 4 | GC4: 5 | GD4: 6 | GE4: 7 | GF4: 8 | GG4: 平均 (ｲ) | GH4: 1 | GI4: 2 | GJ4: 3 | GK4: 4 | GL4: 5 | GM4: 6 | GN4: 7 | GO4: 8 | GP4: 得点率 | GR4: 政策 | GS4: 施策 | GT4: 総合 | GU4: 1 | GV4: 2 | GW4: 3 | GX4: 4 | GY4: 5 | GZ4: 6 | HA4: 7 | HB4: 8 | HC4: 平均 | HD4: 1 | HE4: 2 | HF4: 3 | HG4: 4 | HH4: 5 | HI4: 6 | HJ4: 7 | HK4: 8 | HL4: 得点率 | HM4: 順位 | HN4: ％ | HO4: 評価 | HP4: 評語 | HQ4: 重み付け | HR4: 理由 | HS4: 客観指標評価 | HT4: 市民生活実感評価 | HU4: 1 | HV4: 2 | HW4: 3 | HX4: 4 | HY4: 5 | HZ4: 6 | IA4: 7 | IB4: 8 | ID4: 1 | IE4: 2 | IF4: 3 | IG4: 4 | IH4: 5 | II4: 6 | IJ4: 7 | IK4: 8 | IL4: 9 | IM4: 平均 (ｱ) | IN4: 1 | IO4: 2 | IP4: 3 | IQ4: 4 | IR4: 5 | IS4: 6 | IT4: 7 | IU4: 8 | IV4: 9 | IW4: 得点率 | IX4: 1 | IY4: 2 | IZ4: 3 | JA4: 4 | JB4: 5 | JC4: 6 | JD4: 7 | JE4: 8 | JF4: 平均 (ｲ) | JG4: 1 | JH4: 2 | JI4: 3 | JJ4: 4 | JK4: 5 | JL4: 6 | JM4: 7 | JN4: 8 | JO4: 得点率 | JQ4: 政策 | JR4: 施策 | JS4: 総合 | JT4: 1 | JU4: 2 | JV4: 3 | JW4: 4 | JX4: 5 | JY4: 6 | JZ4: 7 | KA4: 8 | KB4: 平均 | KC4: 1 | KD4: 2 | KE4: 3 | KF4: 4 | KG4: 5 | KH4: 6 | KI4: 7 | KJ4: 8 | KK4: 得点率 | KL4: 順位 | KM4: ％ | KN4: 評価 | KO4: 評語 | KP4: 重み付け | KQ4: 理由 | KR4: 客観指標評価 | KS4: 市民生活実感評価 | KT4: 1 | KU4: 2 | KV4: 3 | KW4: 4 | KX4: 5 | KY4: 6 | KZ4: 7 | LA4: 8 | LC4: 1 | LD4: 2 | LE4: 3 | LF4: 4 | LG4: 5 | LH4: 6 | LI4: 7 | LJ4: 8 | LK4: 9 | LL4: 平均 (ｱ) | LM4: 1 | LN4: 2 | LO4: 3 | LP4: 4 | LQ4: 5 | LR4: 6 | LS4: 7 | LT4: 8 | LU4: 9 | LV4: 得点率 | LW4: 1 | LX4: 2 | LY4: 3 | LZ4: 4 | MA4: 5 | MB4: 6 | MC4: 7 | MD4: 8 | ME4: 平均 (ｲ) | MF4: 1 | MG4: 2 | MH4: 3 | MI4: 4 | MJ4: 5 | MK4: 6 | ML4: 7 | MM4: 8 | MN4: 得点率 | MP4: 政策 | MQ4: 施策 | MR4: 総合 | MS4: 1 | MT4: 2 | MU4: 3 | MV4: 4 | MW4: 5 | MX4: 6 | MY4: 7 | MZ4: 8 | NA4: 平均 | NB4: 1 | NC4: 2 | ND4: 3 | NE4: 4 | NF4: 5 | NG4: 6 | NH4: 7 | NI4: 8 | NJ4: 得点率 | NK4: 順位 | NL4: ％ | NM4: 評価 | NN4: 評語 | NO4: 重み付け | NP4: 理由 | NQ4: 客観指標評価 | NR4: 市民生活実感評価 | NS4: 1 | NT4: 2 | NU4: 3 | NV4: 4 | NW4: 5 | NX4: 6 | NY4: 7 | NZ4: 8 | OB4: 1 | OC4: 2 | OD4: 3 | OE4: 4 | OF4: 5 | OG4: 6 | OH4: 7 | OI4: 8 | OJ4: 9 | OK4: 平均 (ｱ) | OL4: 1 | OM4: 2 | ON4: 3 | OO4: 4 | OP4: 5 | OQ4: 6 | OR4: 7 | OS4: 8 | OT4: 9 | OU4: 得点率 | OV4: 1 | OW4: 2 | OX4: 3 | OY4: 4 | OZ4: 5 | PA4: 6 | PB4: 7 | PC4: 8 | PD4: 平均 (ｲ) | PE4: 1 | PF4: 2 | PG4: 3 | PH4: 4 | PI4: 5 | PJ4: 6 | PK4: 7 | PL4: 8 | PM4: 得点率 | PO4: 政策 | PP4: 施策 | PQ4: 総合 | PR4: 1 | PS4: 2 | PT4: 3 | PU4: 4 | PV4: 5 | PW4: 6 | PX4: 7 | PY4: 8 | PZ4: 平均 | QA4: 1 | QB4: 2 | QC4: 3 | QD4: 4 | QE4: 5 | QF4: 6 | QG4: 7 | QH4: 8 | QI4: 得点率 | QJ4: 順位 | QK4: ％ | QL4: 評価 | QM4: 評語 | QN4: 重み付け | QO4: 理由 | QP4: 客観指標評価 | QQ4: 市民生活実感評価 | QR4: 1 | QS4: 2 | QT4: 3 | QU4: 4 | QV4: 5 | QW4: 6 | QX4: 7 | QY4: 8
