Workbook
Name __いすゞ: '選択リスト（メーカー・車種）'!$E$58
Name __トヨタ: '選択リスト（メーカー・車種）'!$K$35
Name __日野: '選択リスト（メーカー・車種）'!$F$58:$F$59
Name _23MYeKクロスEV_Gグレード: '選択リスト（トラック・バス）'!$N$3
Name _23MYeKクロスEV_Gビジネスパッケージグレード: '選択リスト（トラック・バス）'!$M$3
Name _23MYeKクロスEV_Pグレード: '選択リスト（トラック・バス）'!$O$3
Name _25MYeKクロスEV_Gグレード: '選択リスト（トラック・バス）'!$Q$3
Name _25MYeKクロスEV_Gビジネスパッケージグレード: '選択リスト（トラック・バス）'!$P$3
Name _25MYeKクロスEV_Pグレード: '選択リスト（トラック・バス）'!$R$3
Name _ASF2.0: '選択リスト（トラック・バス）'!$AP$3:$AP$4
Name _ATTO_3: '選択リスト（グレード）'!$H$3:$H$5
Name _BYD: '選択リスト（トラック・バス）'!$E$41:$E$44
Name _bZ4X: '選択リスト（グレード）'!$D$3:$D$8
Name _bZ4X_Touring: '選択リスト（グレード）'!$E$3:$E$4
Name _CEV_BC_スズキ: '選択リスト（トラック・バス）'!$BB$3:$BB$5
Name _CEV_BC_ニッサン: '選択リスト（トラック・バス）'!$BD$3:$BD$4
Name _CEV_BC_マツダ: '選択リスト（トラック・バス）'!$BF$3:$BF$5
Name _CEV_BC_三菱: '選択リスト（トラック・バス）'!$BH$3:$BH$4
Name _CEV_BF_スズキ: '選択リスト（トラック・バス）'!$BC$3:$BC$5
Name _CEV_BF_ニッサン: '選択リスト（トラック・バス）'!$BE$3:$BE$4
Name _CEV_BF_マツダ: '選択リスト（トラック・バス）'!$BG$3:$BG$5
Name _CEV_BF_三菱: '選択リスト（トラック・バス）'!$BI$3:$BI$4
Name _CLA: '選択リスト（グレード）'!$X$3:$X$8
Name _DOLPHIN: '選択リスト（グレード）'!$K$3:$K$9
Name _e_ATRAI: '選択リスト（トラック・バス）'!$AH$3
Name _e_HIJET_2シーター: '選択リスト（トラック・バス）'!$AF$3
Name _e_HIJET_4シーター: '選択リスト（トラック・バス）'!$AG$3
Name _e_JEST: '選択リスト（トラック・バス）'!$I$41
Name _e_Palette: '選択リスト（トラック・バス）'!$F$41
Name _eAUMARK: '選択リスト（トラック・バス）'!$AU$3
Name _eCanter: '選択リスト（トラック・バス）'!$C$3:$C$19
Name _ECITY_L10: '選択リスト（トラック・バス）'!$M$41
Name _ECITY_L12: '選択リスト（トラック・バス）'!$N$41
Name _ECITY_L6: '選択リスト（トラック・バス）'!$J$41
Name _ECITY_L7: '選択リスト（トラック・バス）'!$K$41
Name _ECITY_L9: '選択リスト（トラック・バス）'!$L$41
Name _ELEC_CITY_TOWN: '選択リスト（トラック・バス）'!$G$41
Name _ELEMO_K_SPECⅡ: '選択リスト（トラック・バス）'!$AV$3
Name _ELEMO_L: '選択リスト（トラック・バス）'!$AX$3
Name _ELEMO_M_SPECⅡ: '選択リスト（トラック・バス）'!$AW$3
Name _EQA: '選択リスト（グレード）'!$Y$3
Name _EQB: '選択リスト（グレード）'!$Z$3:$Z$5
Name _EQE: '選択リスト（グレード）'!$AA$3:$AA$8
Name _EQS: '選択リスト（グレード）'!$AC$3:$AC$9
Name _ES350e: '選択リスト（グレード）'!$U$3:$U$5
Name _ES500e: '選択リスト（グレード）'!$V$3:$V$4
Name _eエブリイ_2シーター: '選択リスト（トラック・バス）'!$AD$3
Name _eエブリイ_4シーター: '選択リスト（トラック・バス）'!$AE$3
Name _eビターラ: '選択リスト（グレード）'!$C$3:$C$5
Name _F11TS: '選択リスト（トラック・バス）'!$AN$3
Name _F11VS: '選択リスト（トラック・バス）'!$AM$3
Name _F1TS: '選択リスト（トラック・バス）'!$AL$3
Name _F1VS: '選択リスト（トラック・バス）'!$AK$3
Name _F3T: '選択リスト（トラック・バス）'!$AO$3
Name _FKT: '選択リスト（トラック・バス）'!$AJ$3
Name _FKV: '選択リスト（トラック・バス）'!$AI$3
Name _G_580_with_EQTechnology: '選択リスト（グレード）'!$AF$3:$AF$4
Name _Hlk55477371: 第１号様式の２!#REF!
Name _Hlk60658721: '第１号様式の２別紙１(タクシー)'!$A$5
Name _Hlk60658721: '第１号様式の２別紙１(トラック)'!$A$5

Sheet 第１号様式の２
A1: 第１号様式の２（第７条第１項関係）
A2: 補助金交付申請書兼実績報告書
A3: （あて先）京都市長
G4: 令和 年 月 日
A5: 申請者（＝補助事業者）
A6: 事業種別（いずれかを■塗り） | E6: 主たる事務所の所在地
A7: □ | B7: 貨物運送事業者 | E7: 〒 －
A8: □ | B8: バス事業者
A9: □ | B9: タクシー事業者 | E9: 名称及び代表者名
A10: □ | B10: 自動車リース事業者
A11: 京都市自動車運送事業者向け車両の脱炭素化モデル支援事業補助金交付要綱第７条第１項の規定により、関係書類を添えて、下記のとおり補助金の交付を申請します。
A12: 記
A13: （１）交付対象車両の使用者（＝リース先）について（リースの場合のみ記入。）
A14: 事業種別（いずれかを■塗り） | E14: 主たる事務所の所在地
A15: □ | B15: 貨物運送事業者 | E15: 〒 －
A16: □ | B16: バス事業者
A17: □ | B17: タクシー事業者 | E17: 名称及び代表者名
A20: （２）交付対象車両について（自動車検査証に記載される予定の情報）
B21: 所有者の氏名又は名称
E22: 〒 －
B23: 所有者の住所
E25: 〒 －
B26: 使用の本拠の位置（京都市内に限る） | E26: 京都府京都市
A29: （３）補助事業者の問合せ先（書類内容が分かる方の連絡先）
A30: 担当者 | B30: 所属、役職、氏名
B31: 所属する事務所・営業所所在地 | E31: 〒 －
B32: （主たる事務所と異なる場合）
B33: TEL（日中連絡が取れる番号）
B34: メールアドレス | E34: ＠
A36: （４）誓約事項
A37: □ | B37: 申請者及び交付対象車両の使用者は、市税等、水道料金等の公租公課を滞納していません。
A38: □ | B38: 申請者及び交付対象車両の使用者は、京都市暴力団排除条例第２条第１号に規定する暴力団、同条第４号に規定する暴力団員等及び同条第５号に規定する暴力団密接関係者に該当しません。
A39: □ | B39: 本申請書及び添付書類の記載事項について、その内容に疑義があった場合、本市が関係機関に調査することについて同意します。
A40: □ | B40: 本申請書及び添付書類の記載事項と内容に、虚偽のないことを誓約します。
A42: 関係書類 | C42: 導入結果報告書（別紙１）、リース料金の算定根拠明細書（別紙２。リースの場合のみ。）、
C43: 契約書や注文書の写し、領収書などの支払証拠書類の写し、自動車検査証の写し、
C44: 現在事項全部証明書又は住民票の写し（申請者、使用者とも）、他の補助金等の額がわかる書類、
C45: 使用者の事業概要がわかる書類

Sheet 第１号様式の２別紙１(トラック)
A1: 第１号様式の２（別紙１）
A3: 導入結果報告書（トラック）
G5: 導入する電気自動車等
A6: 交付対象車両の区分
A7: メーカー名
A8: 車名
A9: 型式
A10: 国基準額(A) （国補助事業の対象車両一覧の基準額） | G10: =SUMIFS(リスト!$M$5:$M$128,リスト!$K$5:$K$128,$G$8,リスト!$L$5:$L$128,$G$9) -> 0 | I10: 円
A11: 標準的燃費水準車両との差額(A') EVにあっては(A)×3/2、HVにあっては(A)×2 | G11: {=IFERROR(G10*_xlfn.IFS(G6="EV","0 3/2",G6="HV","2"),"0")} -> 0 | I11: 円
A12: 架装等を除く車両本体の定価 | I12: 円
A13: 架装等を除く車両本体の購入価格 | I13: 円
A14: 架装等を除く車両本体の定価と、 購入価格の差額（値引きの額）(B) | I14: 円
A15: 国等の補助金受給見込総額（補助事業名称）
B16: 国 | D16: （ ） | I16: 円
B17: その他 | D17: （ ） | I17: 円
B18: 合計(C) | G18: =G16+G17 -> 0 | I18: 円
A19: 市補助金申請額
B20: ①～③のいずれか低い額（千円未満切り捨て） | G20: =IFERROR(ROUNDDOWN(MIN(G21:H23),-3),0) -> 0 | I20: 円
B21: ① | C21: (A') | D21: × | E21: {=IFERROR(_xlfn.IFS(G6="EV","1/9",G6="HV","1/8"),"")} | G21: {=IFERROR(_xlfn.IFS(G6="EV","0 1/9",G6="HV","0 1/8")*G11,0)} -> 0 | I21: 円
B22: ② | C22: {=IFERROR(_xlfn.IFS(G6="EV","30",G6="HV","20"),"")} | D22: 万円（上限） | G22: =IFERROR(C22*10000,0) -> 0 | I22: 円
B23: ③ | C23: (A') | D23: -(B)-(C) | G23: =IFERROR(G11-G14-G18,0) -> 0 | I23: 円
A24: 新車新規登録日 | G24: 年 月 日
A27: 交付対象車両の導入後の運用計画（予定）
A28: 特定の経路のみを運行する場合はその経路。経路が定まっていない場合は主な営業区域
A29: 交付対象車両を充電する、充電設備の仕様 （設置場所、充電能力、基数・口数）
A31: 交付対象車両の使用者の問合せ先（毎年の運用実績報告の窓口となる担当者）
A32: 事業種別 | F32: 主たる事務所の所在地
A33: =第１号様式の２!A15 -> □ | B33: 貨物運送事業者 | F33: =第１号様式の２!E15 -> 〒 －
A34: =第１号様式の２!A16 -> □ | B34: バス事業者 | F34: =第１号様式の２!E16
A35: =第１号様式の２!A17 -> □ | B35: タクシー事業者 | F35: 名称及び代表者名
F36: =第１号様式の２!E18
A37: 担当者 | B37: 所属、役職、氏名 | G37: =第１号様式の２!E30
B38: 所属する事務所・営業所所在地 | G38: =第１号様式の２!E31 -> 〒 －
B39: （主たる事務所と異なる場合） | G39: =第１号様式の２!E32
B40: TEL（日中連絡が取れる番号） | G40: =第１号様式の２!E33
B41: メールアドレス | G41: =第１号様式の２!E34 -> ＠

Sheet 第１号様式の２別紙１(バス)
A1: 第１号様式の２（別紙１）
A3: 導入結果報告書（バス）
G5: 導入する電気自動車
A6: 交付対象車両の区分
A7: メーカー名
A8: 車名
A9: 型式
A10: 国基準額(A) （国補助事業の対象車両一覧の基準額） | G10: =SUMIFS(リスト!$R$5:$R$25,リスト!$P$5:$P$25,$G$8,リスト!$Q$5:$Q$25,$G$9) -> 0 | I10: 円
A11: 標準的燃費水準車両との差額(A') EVにあっては(A)×3/2 | G11: =IFERROR(G10*"0 3/2","0") -> 0 | I11: 円
A12: 架装等を除く車両本体の定価 | I12: 円
A13: 架装等を除く車両本体の購入価格 | I13: 円
A14: 架装等を除く車両本体の定価と、 購入価格の差額（値引きの額）(B) | I14: 円
A15: 国等の補助金受給見込総額（補助事業名称）
B16: 国 | D16: （ ） | I16: 円
B17: その他 | D17: （ ） | I17: 円
B18: 合計(C) | G18: =G16+G17 -> 0 | I18: 円
A19: 市補助金申請額
B20: ①～③のいずれか低い額（千円未満切り捨て） | G20: =IFERROR(ROUNDDOWN(MIN(G21:H23),-3),0) -> 0 | I20: 円
B21: ① | C21: (A') | D21: × | E21: 1/9 | G21: =G10/9 -> 0 | I21: 円
B22: ② | C22: {=IFERROR(_xlfn.IFS(G6="大型・中型","40",G6="小型","30"),"")} | D22: 万円（上限） | G22: =IFERROR(C22*10000,0) -> 0 | I22: 円
B23: ③ | C23: (A') | D23: -(B)-(C) | G23: =G11-G14-G18 -> 0 | I23: 円
A24: 新車新規登録日 | G24: 年 月 日
A27: 交付対象車両の導入後の運用計画（予定）
A28: 特定の経路のみを運行する場合はその経路。経路が定まっていない場合は主な営業区域
A29: 交付対象車両を充電する、充電設備の仕様 （設置場所、充電能力、基数・口数）
A31: 交付対象車両の使用者の問合せ先（毎年の運用実績報告の窓口となる担当者）
A32: 事業種別 | F32: 主たる事務所の所在地
A33: =第１号様式の２!A15 -> □ | B33: 貨物運送事業者 | F33: =第１号様式の２!E15 -> 〒 －
A34: =第１号様式の２!A16 -> □ | B34: バス事業者 | F34: =第１号様式の２!E16
A35: =第１号様式の２!A17 -> □ | B35: タクシー事業者 | F35: 名称及び代表者名
F36: =第１号様式の２!E18
A37: 担当者 | B37: 所属、役職、氏名 | G37: =第１号様式の２!E30
B38: 所属する事務所・営業所所在地 | G38: =第１号様式の２!E31 -> 〒 －
B39: （主たる事務所と異なる場合） | G39: =第１号様式の２!E32
B40: TEL（日中連絡が取れる番号） | G40: =第１号様式の２!E33
B41: メールアドレス | G41: =第１号様式の２!E34 -> ＠

Sheet 第１号様式の２別紙１(タクシー)
A1: 第１号様式の２（別紙１）
A3: 導入結果報告書（タクシー）
G5: 導入する電気自動車
A6: 交付対象車両の区分 | G6: EV
A7: メーカー名
A8: 車名
A9: 型式
A10: 車両本体価格 （国補助事業の対象車両一覧に記載の金額） | G10: =SUMIFS(リスト!$H$5:$H$242,リスト!F5:F242,$G$8,リスト!$G$5:$G$242,$G$9) -> 0 | I10: 円
A11: 架装等を除く車両本体の購入価格（A） | I11: 円
A12: 架装等を除く車両本体の定価と、 購入価格の差額（値引きの額） | I12: 円
A13: 国等の補助金受給見込総額（補助事業名称）
B14: 国 | D14: （ ） | I14: 円
B15: その他 | D15: （ ） | I15: 円
B16: 合計(B) | G16: =G14+G15 -> 0 | I16: 円
A17: 市補助金申請額
B18: ①、②のいずれか低い額（千円未満切り捨て） | G18: =IF(G9=0,0,ROUNDDOWN(MIN(G19:H20),-3)) -> 0 | I18: 円
B19: ① | C19: 20万円（定額） | G19: 200000 | I19: 円
B20: ② | C20: (A)-(B)-市基準額（245万円） | G20: =IF(G9=0,0,G11-G16-2450000) -> 0 | I20: 円
A21: 新車新規登録日 | G21: 年 月 日
A24: 交付対象車両の導入後の運用計画（予定）
A25: 特定の経路のみを運行する場合はその経路。経路が定まっていない場合は主な営業区域
A26: 交付対象車両を充電する、充電設備の仕様 （設置場所、充電能力、基数・口数）
A28: 交付対象車両の使用者の問合せ先（毎年の運用実績報告の窓口となる担当者）
A29: 事業種別 | F29: 主たる事務所の所在地
A30: =第１号様式の２!A15 -> □ | B30: 貨物運送事業者 | F30: =第１号様式の２!E15 -> 〒 －
A31: =第１号様式の２!A16 -> □ | B31: バス事業者 | F31: =第１号様式の２!E16
A32: =第１号様式の２!A17 -> □ | B32: タクシー事業者 | F32: 名称及び代表者名
F33: =第１号様式の２!E18
A34: 担当者 | B34: 所属、役職、氏名 | G34: =第１号様式の２!E30
B35: 所属する事務所・営業所所在地 | G35: =第１号様式の２!E31 -> 〒 －
B36: （主たる事務所と異なる場合） | G36: =第１号様式の２!E32
B37: TEL（日中連絡が取れる番号） | G37: =第１号様式の２!E33
B38: メールアドレス | G38: =第１号様式の２!E34 -> ＠

Sheet 様式1の２別紙2
A1: 第１号様式の２（別紙２）
A2: 【交付対象事業がリース事業による場合に作成】
A4: リース料金の算定根拠明細書
A6: 補助金を活用した場合の、リース料金の算定根拠は次のとおりです。
B8: メーカー名 | E8: =IF(COUNTA('第１号様式の２別紙１(トラック)'!G7)>0,'第１号様式の２別紙１(トラック)'!G7,IF(COUNTA('第１号様式の２別紙１(バス)'!G7)>0,'第１号様式の２別紙１(バス)'!G7,IF(COUNTA('第１号様式の２別紙１(タクシー)'!G7)>0,'第１号様式の２別紙１(タクシー)'!G7,"")))
B9: 車名 | E9: =IF(COUNTA('第１号様式の２別紙１(トラック)'!G8)>0,'第１号様式の２別紙１(トラック)'!G8,IF(COUNTA('第１号様式の２別紙１(バス)'!G8)>0,'第１号様式の２別紙１(バス)'!G8,IF(COUNTA('第１号様式の２別紙１(タクシー)'!G8)>0,'第１号様式の２別紙１(タクシー)'!G8,"")))
B10: 型式 | E10: =IF(COUNTA('第１号様式の２別紙１(トラック)'!G9)>0,'第１号様式の２別紙１(トラック)'!G9,IF(COUNTA('第１号様式の２別紙１(バス)'!G9)>0,'第１号様式の２別紙１(バス)'!G9,IF(COUNTA('第１号様式の２別紙１(タクシー)'!G9)>0,'第１号様式の２別紙１(タクシー)'!G9,"")))
B11: リース期間（月数） か月 | H11: か月
B12: 本市以外の国等の 補助金受給見込総額 | H12: 円
B13: 京都市補助予定額 | E13: =MAX('第１号様式の２別紙１(トラック)'!G20:H20,'第１号様式の２別紙１(バス)'!G20:H20,'第１号様式の２別紙１(タクシー)'!G18:H18) -> 0 | H13: 円
B15: リース料金総額（□消費税含む・□消費税含まない いずれかを■塗り）
C16: 補助金無し | H16: 円
C17: 補助金有り | H17: 円
B19: 月額リース料金（□消費税含む・□消費税含まない いずれかを■塗り）
C20: 補助金無し | H20: 円
C21: 補助金有り | H21: 円
A23: 交付対象車両の使用者（＝リース先）
A24: 事業種別（いずれかを■塗り） | E24: 主たる事務所の所在地
A25: =第１号様式の２!A15 -> □ | B25: 貨物運送事業者 | E25: =第１号様式の２!E15 -> 〒 －
A26: =第１号様式の２!A16 -> □ | B26: バス事業者 | E26: =第１号様式の２!E16
A27: =第１号様式の２!A17 -> □ | B27: タクシー事業者 | E27: =第１号様式の２!E17 -> 名称及び代表者名
E28: =第１号様式の２!E18

Sheet 第4号様式
A1: 第４号様式（第９条第１項関係）
A2: 変更・廃止承認申請書
A3: （あて先）京都市長
G4: 令和 年 月 日
A5: 申請者（＝補助事業者）
A6: 事業種別（いずれかを■塗り） | E6: 主たる事務所の所在地
A7: =第１号様式の２!A7 -> □ | B7: 貨物運送事業者 | E7: =第１号様式の２!E7 -> 〒 －
A8: =第１号様式の２!A8 -> □ | B8: バス事業者 | E8: =第１号様式の２!E8
A9: =第１号様式の２!A9 -> □ | B9: タクシー事業者 | E9: 名称及び代表者名
A10: =第１号様式の２!A10 -> □ | B10: 自動車リース事業者 | E10: =第１号様式の２!E10
A11: 京都市自動車運送事業者向け車両の脱炭素化モデル支援事業補助金交付要綱第９条第１項の規定により、（□変更・□廃止）したいので、下記のとおり承認を申請します。
E12: 記
A13: （１）市補助金の当初の交付決定の内容
A14: 補助金交付決定年月日 | E14: 令和 年 月 日
A15: 補助金交付予定額 | I15: 円
A16: 補助金交付決定番号 | E16: 京都市指令環地 第 号
A18: （２）事業内容の変更に伴い再計算した、変更後市補助金額（廃止の場合は0円を記入）
A19: 変更後市補助金額 | I19: 円
A21: （３）変更又は廃止の内容
A29: （４）変更又は廃止の理由
A37: ※ 交付申請に添付した書類のうち変更のあるものは、変更後の書類を添付すること。

Sheet 第9号様式
A1: 第９号様式（第12条第１項関係）
A3: 補助金請求書
A5: （あて先） | E5: 令和 年 月 日
A6: 京都市長
A7: 請求者（=補助事業者）の所在地 | E7: 請求者（=補助事業者）の名称
A8: =第１号様式の２!E8 | E8: =第１号様式の２!E10
A10: 京都市自動車運送事業者向け車両の脱炭素化モデル支援事業補助金交付要綱第１２条第１項の規定により、補助金を請求します。
A12: 請求金額 | I12: 円
A14: 補助金の振込先
A15: 指定 口座 | B15: 金 融 機 関 名 | F15: 店 舗 名
D16: 銀行 | I16: 本 店
D17: 信用金庫 信用組合 | I17: 支 店
D18: 農協 | I18: 出張所
B19: 種別 | C19: 口座番号（下欄に右づめで数字を記入すること）
B20: １ 普通 ２ 当座 ３ 貯蓄
B23: 口座 名義人 | C23: フリガナ
C24: 漢 字

Sheet 第10号様式
A1: 第10号様式（第13条第３項関係） | K1: 処分内容リスト
A2: 財産処分承認申請書 | K2: １ 処分・抹消
A3: （あて先）京都市長 | K3: ２ 譲渡・売却
G4: 令和 年 月 日 | K4: ３ 交換
A5: 申請者（＝補助事業者） | K5: ４ 貸付
A6: 事業種別（いずれかを■塗り） | E6: 主たる事務所の所在地 | K6: ５ 使用の本拠の位置を市外へ変更
A7: =第１号様式の２!A7 -> □ | B7: 貨物運送事業者 | E7: =第１号様式の２!E7 -> 〒 － | K7: ６ その他
A8: =第１号様式の２!A8 -> □ | B8: バス事業者 | E8: =第１号様式の２!E8
A9: =第１号様式の２!A9 -> □ | B9: タクシー事業者 | E9: 名称及び代表者名
A10: =第１号様式の２!A10 -> □ | B10: 自動車リース事業者 | E10: =第１号様式の２!E10
A11: 京都市自動車運送事業者向け車両の脱炭素化モデル支援事業補助金交付要綱第１３条第１項に規定する、交付対象車両の区分ごとに定められた期間を経過する前に財産の処分を行いたいため、同条第３項の規定により、処分の承認を申請します。
E12: 記
A13: （１）市補助金の交付額決定の内容
A14: 補助金交付額決定年月日 | E14: 令和 年 月 日
A15: 補助金交付額 | I15: 円
A16: 補助金交付額決定番号 | E16: 京都市指令環地 第 号
A18: （２）処分しようとする財産の情報
A19: 財産の名称（メーカー及び車種）
A20: 自動車登録番号
A21: 車台番号
A22: 型式
A23: 処分等の事実が生じる日 | E23: 令和 年 月 日
A25: （３）処分の内容
A26: 処分の内容（プルダウンで選択）
A28: （４）処分の理由
A36: （５）処分の条件（いずれかを■塗り）
A37: □ | B37: 補助金相当額を、京都市へ返還します。
A38: □ | B38: 譲渡・売却・貸付等を行った相手方に、義務を継承します。（市長が認める場合のみ。）
A39: □ | B39: 代替の手段により交付の目的を達成します。（市長が認める場合のみ。）
A41: □ | B41: その他

Sheet 第12号様式
A1: 第12号様式（第14条関係）
A2: 運用実績報告書
A3: （あて先）京都市長
G4: 令和 年 月 日
A5: 補助事業者（補助金を受け取った方）
A6: 事業種別（いずれかを■塗り） | E6: 主たる事務所の所在地
A7: =第１号様式の２!A7 -> □ | B7: 貨物運送事業者 | E7: =第１号様式の２!E7 -> 〒 －
A8: =第１号様式の２!A8 -> □ | B8: バス事業者 | E8: =第１号様式の２!E8
A9: =第１号様式の２!A9 -> □ | B9: タクシー事業者 | E9: 名称及び代表者名
A10: =第１号様式の２!A10 -> □ | B10: 自動車リース事業者 | E10: =第１号様式の２!E10
A11: 補助金交付額決定番号 | E11: 京都市指令環地 第 号
A13: 使用者（補助金を受けて取得した車両を実際に使用している方）
A14: 事業種別（いずれかを■塗り） | E14: 主たる事務所の所在地
A15: =第１号様式の２!A15 -> □ | B15: 貨物運送事業者 | E15: =第１号様式の２!E15 -> 〒 －
A16: =第１号様式の２!A16 -> □ | B16: バス事業者 | E16: =第１号様式の２!E16
A17: =第１号様式の２!A17 -> □ | B17: タクシー事業者 | E17: 名称及び代表者名
E18: =第１号様式の２!E18
A19: （※）本報告書は、“使用者”に提出義務がありますので、注意してください。
A21: 運用実績
A22: 充電設備の仕様（充電能力、基数・口数）
A23: 充電設備の設置場所、同じ充電設備で充電している車両数
A24: 特定の経路のみを運行する場合はその経路。経路が定まっていない場合は主な営業区域
A25: 通常の営業日の運用方法
A27: 月別走行データ | B27: ○○年度分 | F27: 交付対象車両の月別運用データ
C28: 走行距離（km） | D28: 稼働日数 | E28: 充電回数 | F28: 充電時間 | G28: 備考
B29: 4月
B30: 5月
B31: 6月
B32: 7月
B33: 8月
B34: 9月
B35: 10月
B36: 11月
B37: 12月
B38: 1月
B39: 2月
B40: 3月
... B42: ※ 修理等により稼働日数が極端に変動している場合、備考欄にその旨を記入してください。
A44: □ | B44: 別で、交付対象車両の自動車検査証（写し）を添付しました。
A45: □ | B45: 交付対象車両の使用者として、京都市が補助金の交付の目的を達成するために、本報告書の内容について加工、公表し、周知啓発に利用することに同意します。

Sheet リスト
B1: タクシー | E1: タクシー | J1: EVトラック | O1: EVバス
A2: 用途 | B2: スズキ | E2: 管理部署 | J2: 管理部署 | O2: 管理部署
A3: トラック | B3: トヨタ | E3: メーカー | F3: 車種 | G3: グレード | H3: 車両本体価格 | J3: メーカー | K3: 車種 | L3: 型式 | M3: 基準額 | O3: メーカー | P3: 車種 | Q3: 型式 | R3: 基準額
A4: バス | B4: 日産
A5: タクシー | B5: BYD | E5: スズキ | F5: _eビターラ | G5: X | H5: 3630000 | J5: 三菱ふそう | K5: _eCanter | L5: ZAB-FEB8U（旧型） | M5: 7421000 | O5: _いすゞ | P5: _エルガＥＶ | Q5: ZAC-LV828L1 | R5: 28350000
B6: ヒョンデ | E6: スズキ | F6: _eビターラ | G6: Z 2WD | H6: 4080000 | J6: 三菱ふそう | K6: _eCanter | L6: ZAB-FEAVKバッテリーSサイズ（車台番号:610000～） | M6: 5139000 | O6: _いすゞ | P6: _エルガＥＶ_26_5型 | Q6: ZAC-LV828L1 | R6: 26226000
A7: 電気 | B7: レクサス | E7: スズキ | F7: _eビターラ | G7: Z 4WD | H7: 4480000 | J7: 三菱ふそう | K7: _eCanter | L7: ZAB-FEAVKバッテリーMサイズ（車台番号:610000～） | M7: 6611000 | O7: ビーワイディージャパン | P7: _BYD | Q7: J6（都市型） | R7: 5144000
A8: ハイブリッド | B8: タジマ | E8: トヨタ | F8: _bZ4X | G8: Z (FWD) | H8: 5000000 | J8: 三菱ふそう | K8: _eCanter | L8: ZAB-FEBVKバッテリーSサイズ（車台番号:610000～） | M8: 5162000 | O8: ビーワイディージャパン | P8: _BYD | Q8: J6（郊外型） | R8: 4811000
B9: メルセデス・ベンツ | E9: トヨタ | F9: _bZ4X | G9: Z (4WD) | H9: 5454545 | J9: 三菱ふそう | K9: _eCanter | L9: ZAB-FEBVKバッテリーMサイズ（車台番号:610000～） | M9: 6507000 | O9: ビーワイディージャパン | P9: _BYD | Q9: J7 | R9: 8192000
B10: テスラ | E10: トヨタ | F10: _bZ4X | G10: G (FWD) | H10: 4363636 | J10: 三菱ふそう | K10: _eCanter | L10: ZAB-FEB8K（車台番号:610000～） | M10: 6697000 | O10: ビーワイディージャパン | P10: _BYD | Q10: K8 | R10: 9350000
B11: BMW | E11: トヨタ | F11: _bZ4X | G11: G (2WD) | H11: 5000000 | J11: 三菱ふそう | K11: _eCanter | L11: ZAB-FEC9K（車台番号:610000～） | M11: 7972000 | O11: _トヨタ | P11: _e_Palette | Q11: 試作車 | R11: 15493000 | T11: R8.4.27時点で登録済み
B12: MINI | E12: トヨタ | F12: _bZ4X | G12: G (4WD) | H12: 5454545 | J12: 三菱ふそう | K12: _eCanter | L12: ZAB-FED9K（車台番号:610000～） | M12: 7950000 | O12: Hyundai_Mobility_Japan | P12: _ELEC_CITY_TOWN | Q12: 不明 | R12: 16342000 | T12: R8.9.24時点で登録済み
B13: ロールスロイス | E13: トヨタ | F13: _bZ4X | G13: Z (2WD) | H13: 5454545 | J13: 三菱ふそう | K13: _eCanter | L13: ZAB-FEAVKバッテリーSサイズ（車台番号:620000～） | M13: 5046000 | O13: 日野 | P13: _ブルーリボンZEV | Q13: ZAC-KV828L1 | R13: 31623000
B14: スバル | E14: トヨタ | F14: _bZ4X | G14: Z (4WD) | H14: 5909091 | J14: 三菱ふそう | K14: _eCanter | L14: ZAB-FEAVKバッテリーMサイズ（車台番号:620000～） | M14: 6512000 | O14: アルテック | P14: _e_JEST | Q14: 不明 | R14: 15693000
B15: Kia | E15: トヨタ | F15: _bZ4X_Touring | G15: Z (FWD) | H15: 5227273 | J15: 三菱ふそう | K15: _eCanter | L15: ZAB-FEBVKバッテリーSサイズ（車台番号:620000～） | M15: 5070000 | O15: アルファバスジャパン | P15: _ECITY_L6 | Q15: 不明 | R15: 9126000
B16: ホンダ | E16: トヨタ | F16: _bZ4X_Touring | G16: Z (4WD) | H16: 5818182 | J16: 三菱ふそう | K16: _eCanter | L16: ZAB-FEBVKバッテリーMサイズ（車台番号:620000～） | M16: 6406000 | O16: アルファバスジャパン | P16: _ECITY_L7 | Q16: 不明 | R16: 12244000
E17: 日産 | F17: _アリア | G17: B6 (類別区分番号：0033～0048) | H17: 6069000 | J17: 三菱ふそう | K17: _eCanter | L17: ZAB-FEB8KバッテリーSサイズ（車台番号:620000～） | M17: 6105000 | O17: アルファバスジャパン | P17: _ECITY_L9 | Q17: 不明 | R17: 16008000
B18: トラック | E18: 日産 | F18: _アリア | G18: B6 e-4ORCE (類別区分番号：0041～0056) | H18: 6619000 | J18: 三菱ふそう | K18: _eCanter | L18: ZAB-FEB8KバッテリーMサイズ（車台番号:620000～） | M18: 6598000 | O18: アルファバスジャパン | P18: _ECITY_L10 | Q18: 不明 | R18: 14550000
B19: EV | C19: HV | E19: 日産 | F19: _アリア | G19: B9 (類別区分番号：0049～0080) | H19: 6789000 | J19: 三菱ふそう | K19: _eCanter | L19: ZAB-FEC9KバッテリーMサイズ（車台番号:620000～） | M19: 7240000 | O19: アルファバスジャパン | P19: _ECITY_L12 | Q19: 不明 | R19: 20948000
A20: EV | B20: 三菱ふそう | C20: __いすゞ | E20: 日産 | F20: _アリア | G20: B9 e-4ORCE (類別区分番号：0057～0088) | H20: 7339000 | J20: 三菱ふそう | K20: _eCanter | L20: ZAB-FEC9KバッテリーLサイズ（車台番号:620000～） | M20: 7869000 | O20: ONO_ENGINEERING | P20: _onoenSTAR_11.45mタイプ | Q20: 不明 | R20: 9414000
A21: HV | B21: いすゞ | C21: __日野 | E21: 日産 | F21: _アリア | G21: NISMO B6 e-4ORCE (車台番号：330001以降) | H21: 7726000 | J21: 三菱ふそう | K21: _eCanter | L21: ZAB-FED9K（車台番号:620000～） | M21: 7846000 | O21: ONO_ENGINEERING | P21: _onoenSTAR_10.5mタイプ | Q21: 不明 | R21: 6883000
B22: _日野 | E22: 日産 | F22: _アリア | G22: NISMO B9 e-4ORCE (車台番号：330001以降) | H22: 8646000 | J22: いすゞ | K22: _エルフmio_EV | L22: ZAB-NHR48AF | M22: 4169000 | O22: ONO_ENGINEERING | P22: _onoenSTAR_9mタイプ | Q22: 不明 | R22: 9725000
B23: 本田技研工業 | E23: 日産 | F23: _アリア | G23: B6 | H23: 5991000 | J23: いすゞ | K23: _エルフEV | L23: ZAB-NJR48AF | M23: 4846000 | O23: ONO_ENGINEERING | P23: _onoenSTAR_7mタイプ | Q23: 不明 | R23: 7144000
B24: 三菱自動車工業 | E24: 日産 | F24: _アリア | G24: B9 | H24: 6711000 | J24: いすゞ | K24: _エルフEV | L24: ZAB-NJR48AM | M24: 4848000 | O24: ONO_ENGINEERING | P24: _onoenSTAR_6mタイプ | Q24: 不明 | R24: 6226000
B25: _日産 | E25: 日産 | F25: _アリア | G25: B6 limited | H25: 6000000 | J25: いすゞ | K25: _エルフEV | L25: ZAB-NLR48AM | M25: 5315000 | O25: ONO_ENGINEERING | P25: _onoenSTAR_マイクロバスタイプ | Q25: 不明 | R25: 6222000
B26: __トヨタ | E26: 日産 | F26: _アリア | G26: B9 limited | H26: 6728000 | J26: いすゞ | K26: _エルフEV | L26: ZAB-NPR48AM | M26: 7688000
B27: _スズキ | E27: 日産 | F27: _アリア | G27: B6 e-4ORCE | H27: 6541000 | J27: いすゞ | K27: _エルフEV | L27: ZAB-NMR48AM | M27: 5796000
B28: ダイハツ | E28: 日産 | F28: _アリア | G28: B9 e-4ORCE | H28: 7261000 | J28: いすゞ | K28: _エルフEV | L28: ZAB-NKR48AM | M28: 5798000
B29: フォロフライ | E29: 日産 | F29: _アリア | G29: B9 e-4ORCE プレミア | H29: 7821000 | J29: _日野 | K29: _デュトロZ_EV | L29: ZAB-XED100V | M29: 5077000
B30: ASF | E30: 日産 | F30: _アリア | G30: B6 e-4ORCE limited | H30: 6546000 | J30: _日野 | K30: _デュトロZ_EV | L30: ZAB-XED100 | M30: 5077000
B31: ZO_MOTORS | E31: 日産 | F31: _アリア | G31: B9 e-4ORCE limited | H31: 7182000 | J31: 本田技研工業 | K31: _N_VANe_G | L31: ZAB-JJ3AGDY | M31: 782000
B32: 日本福田自動車 | E32: 日産 | F32: _アリア | G32: NISMO B6 e-4ORCE | H32: 7663000 | J32: 本田技研工業 | K32: _N_VANe_L2 | L32: ZAB-JJ3AGEY | M32: 782000
B33: HW_ELECTRO | E33: 日産 | F33: _アリア | G33: NISMO B9 e-4ORCE | H33: 8583000 | J33: 本田技研工業 | K33: _N_VANe_L4 | L33: ZAB-JJ3AGFY | M33: 782000
B34: _ビーワイディージャパン | E34: 日産 | F34: _リーフ | G34: B5 G | H34: 5135000 | J34: 本田技研工業 | K34: _N_VANe_FUN | L34: ZAB-JJ3AGGY | M34: 782000
B35: Kia_PBVジャパン | E35: 日産 | F35: _リーフ | G35: B5 X | H35: 4308000 | J35: 本田技研工業 | K35: _N_ONEe_G | L35: ZAA-JG5APEY | M35: 644000
B36: FOMM | E36: 日産 | F36: _リーフ | G36: B5 S | H36: 3990000 | J36: 本田技研工業 | K36: _N_ONEe_L | L36: ZAA-JG5APFY | M36: 644000
B37: AZAPA | E37: 日産 | F37: _リーフ | G37: AUTECH B5 | H37: 5602000 | J37: 三菱自動車工業 | K37: _23MYeKクロスEV_Gビジネスパッケージグレード | L37: ZAA-B5AWLDCB | M37: 773000
... B39: iLabo | E39: 日産 | F39: _リーフ | G39: B7 G | H39: 5454000 | J39: 三菱自動車工業 | K39: _23MYeKクロスEV_Pグレード | L39: ZAA-B5AWLDEB | M39: 773000
E40: 日産 | F40: _リーフ | G40: B7 X | H40: 4717000 | J40: 三菱自動車工業 | K40: _25MYeKクロスEV_Gビジネスパッケージグレード | L40: ZAA-B5AWLDCB | M40: 786000
E41: 日産 | F41: _リーフ | G41: AUTECH B7 | H41: 5921000 | J41: 三菱自動車工業 | K41: _25MYeKクロスEV_Gグレード | L41: ZAA-B5AWLDCB | M41: 786000
...

Sheet タクシー
B2: メーカー | C2: アウディ
B3: 車種 | C3: _e_tron_GT_quattro
B4: グレード | C4: － | E4: 車両本体価格 | F4: =SUMIFS(リスト!$H$5:$H$87,リスト!F5:F87,$C$3,リスト!$G$5:$G$87,$C$4) -> 0

Sheet 選択リスト（メーカー・車種）
A1: タクシー
B2: メーカー | D2: メーカー | E2: スズキ | F2: トヨタ | G2: 日産 | H2: BYD | I2: ヒョンデ | J2: レクサス | K2: タジマ | L2: メルセデス・ベンツ | M2: テスラ | N2: BMW | O2: MINI | P2: ロールスロイス | Q2: スバル | R2: Kia | S2: ホンダ
B3: スズキ | D3: 車種 | E3: _eビターラ | F3: _bZ4X | G3: _アリア | H3: _ATTO_3 | I3: _KONA | J3: _UX_300e | K3: _TWC_07 | L3: _CLA | M3: _モデル3 | N3: _i4_eDrive_40 | O3: _MINI_Aceman | P3: _スペクター | Q3: _SOLTERRA | R3: _PV5 | S3: _INSIGHT
B4: トヨタ | F4: _bZ4X_Touring | G4: _リーフ | H4: _SEAL | I4: _IONIQ_5 | J4: _RZ300e | L4: _EQA | M4: _モデルS | N4: _i4_M60_xDrive | O4: _MINI_Countryman | Q4: _TRAILSEEKER | S4: _Super_ONE
B5: 日産 | H5: _SEALION_7 | J5: _RZ_450e | L5: _EQB | M5: _モデルX | N5: _i4_M50_xDrive | O5: _MINI_Cooper
B6: BYD | H6: _DOLPHIN | J6: _RZ350e | L6: _EQE | M6: _モデルY | N6: _i5_eDrive35L | O6: _MINI_JCW
B7: ヒョンデ | J7: _RZ500e | L7: _Mercedes_AMG EQE | N7: _i5_eDrive40 ツーリング | O7: _MINI_JCW_Aceman
B8: レクサス | J8: _RZ550e | L8: _EQS | N8: _i5_eDrive40
B9: タジマ | J9: _RZ600e | L9: _Mercedes_AMG EQS | N9: _i5_M60_xDrive ツーリング
B10: メルセデス・ベンツ | J10: _ES350e | L10: _Mercedes_Maybach_EQS | N10: _i5_M60_xDrive
B11: テスラ | J11: _ES500e | L11: _G_580_with_EQ Technology | N11: _i7_eDrive50
B12: BMW | N12: _i7_M70_xDrive
B13: MINI | N13: _i7_xDrive60
B14: ロールスロイス | N14: _iX_M60
B15: スバル | N15: _iX_M70_xDrive
B16: Kia | N16: _iX_xDrive40
B17: ホンダ | N17: _iX_xDrive50
N18: _iX_xDrive60
N19: _iX1_eDrive20
N20: _iX2_xDrive30
N21: _iX3
N22: _iX3_50_xDrive
A33: EVトラック
B34: メーカー | D34: メーカー | E34: 三菱ふそう | F34: いすゞ | G34: _日野 | H34: 本田技研工業 | I34: 三菱自動車工業 | J34: _日産 | K34: __トヨタ | L34: _スズキ | M34: ダイハツ | N34: フォロフライ | O34: ASF | P34: ZO_MOTORS | Q34: 日本福田自動車 | R34: HW_ELECTRO | S34: _ビーワイディージャパン | T34: Kia_PBVジャパン | U34: FOMM | V34: AZAPA | W34: タジマモーターコーポレーション
B35: 三菱ふそう | D35: 車種 | E35: _eCanter | F35: _エルフmio_EV | G35: _デュトロZ_EV | H35: _N_VANe_G | I35: _23MYeKクロスEV_Gビジネスパッケージグレード | J35: _クリッパーEV2シーター | K35: _ピクシスバン | L35: _eエブリイ_2シーター | M35: _e_HIJET_2シーター | N35: _FKV | O35: _ASF2.0 | P35: _ZM5_標準シャシ | Q35: _eAUMARK | R35: _ELEMO_K_SPECⅡ | S35: _T35 | T35: _PV5カーゴスタンダード | U35: _CEV_BC_スズキ | V35: _ハイゼット改造BEV | W35: _TVC_700
B36: いすゞ | F36: _エルフEV | H36: _N_VANe_L2 | I36: _23MYeKクロスEV_Gグレード | J36: _クリッパーEV4シーター | L36: _eエブリイ_4シーター | M36: _e_HIJET_4シーター | N36: _FKT | P36: _ZM5_ロングシャシ_バッテリーS | R36: _ELEMO_M_SPECⅡ | T36: _PV5カーゴロングレンジ | U36: _CEV_BF_スズキ
B37: _日野 | H37: _N_VANe_L4 | I37: _23MYeKクロスEV_Pグレード | J37: _サクラ_Sグレード | M37: _e_ATRAI | N37: _F1VS | P37: _ZM5_ロングシャシ_バッテリーM | R37: _ELEMO_L | U37: _CEV_BC_ニッサン
B38: 本田技研工業 | H38: _N_VANe_FUN | I38: _25MYeKクロスEV_Gビジネスパッケージグレード | J38: _サクラ_Xグレード | N38: _F1TS | P38: _ZM6 | U38: _CEV_BF_ニッサン
B39: 三菱自動車工業 | H39: _N_ONEe_G | I39: _25MYeKクロスEV_Gグレード | J39: _サクラ_90周年記念車 | N39: _F11VS | U39: _CEV_BC_マツダ
B40: _日産 | H40: _N_ONEe_L | I40: _25MYeKクロスEV_Pグレード | J40: _サクラ_Gグレード | N40: _F11TS | U40: _CEV_BF_マツダ
B41: __トヨタ | I41: _MINICAB_MiEV2シーター | N41: _F3T | U41: _CEV_BC_三菱
B42: _スズキ | I42: _MINICAB_MiEV4シーター | U42: _CEV_BF_三菱
B43: ダイハツ | I43: _MINICABEV2シーター
B44: フォロフライ | I44: _MINICABEV4シーター
B45: ASF
B46: ZO_MOTORS
B47: 日本福田自動車
B48: HW_ELECTRO
B49: _ビーワイディージャパン
B50: Kia_PBVジャパン
...

Sheet 選択リスト（グレード）
B2: 車種 | C2: _eビターラ | D2: _bZ4X | E2: _bZ4X_Touring | F2: _アリア | G2: _リーフ | H2: _ATTO_3 | I2: _SEAL | J2: _SEALION_7 | K2: _DOLPHIN | L2: _KONA | M2: _IONIQ_5 | N2: _UX_300e | O2: _RZ300e | P2: _RZ_450e | Q2: _RZ350e | R2: _RZ500e | S2: _RZ550e | T2: _RZ600e | U2: _ES350e | V2: _ES500e | W2: _TWC_07 | X2: _CLA | Y2: _EQA | Z2: _EQB | AA2: _EQE | AB2: _Mercedes_AMGEQE | AC2: _EQS | AD2: _Mercedes_AMGEQS | AE2: _Mercedes_Maybach_EQS | AF2: _G_580_with_EQTechnology | AG2: _モデル3 | AH2: _モデルS | AI2: _モデルX | AJ2: _モデルY | AK2: _i4_eDrive_40 | AL2: _i4_M60_xDrive | AM2: _i4_M50_xDrive | AN2: _i5_eDrive35L | AO2: _i5_eDrive40ツーリング | AP2: _i5_eDrive40 | AQ2: _i5_M60_xDriveツーリング | AR2: _i5_M60_xDrive | AS2: _i7_eDrive50 | AT2: _i7_M70_xDrive | AU2: _i7_xDrive60 | AV2: _iX_M60 | AW2: _iX_M70_xDrive | AX2: _iX_xDrive40 | AY2: _iX_xDrive50 | AZ2: _iX_xDrive60 | BA2: _iX1_eDrive20 | BB2: _iX1_xDrive30 | BC2: _iX2_xDrive30 | BD2: _iX3 | BE2: _iX3_50_xDrive | BF2: _MINI_Aceman | BG2: _MINI_Countryman | BH2: _MINI_Cooper | BI2: _MINI_JCW | BJ2: _MINI_JCW_Aceman | BK2: _スペクター | BL2: _SOLTERRA | BM2: _TRAILSEEKER | BN2: _PV5 | BO2: _INSIGHT | BP2: _Super_ONE
B3: グレード | C3: X | D3: Z (FWD) | E3: Z (FWD) | F3: B6 (類別区分番号：0033～0048) | G3: B5 G | H3: Black Style | I3: Edition Pale Green | J3: － | K3: Baseline | L3: Casual | M3: N | N3: Version C（類別：0003以降） | O3: version L | P3: version L | Q3: version L | R3: version L | S3: F SPORT | T3: F SPORT Performance | U3: － | V3: － | W3: 不明 | X3: 200 with EQ Technology | Y3: 250+(類別:左から2桁目が0) | Z3: 250+(類別:左から２桁目が0) | AA3: 350 4MATIC SUV (類別：左から2桁目が2) | AB3: 53 4MATIC+ SUV (類別:左から2桁目が2) | AC3: 450+ (類別：左から2桁目が3) | AD3: 53 4MATIC+ (類別:左から2桁目が3) | AE3: 680 SUV(類別:左から2桁目が１) | AF3: 類別:左から2桁目が0 | AG3: Premium RWD(類別0003) 車台番号下6桁508248以降 | AJ3: L | AK3: M Sport(類別:2001～2004) | AM3: 類別:1001, 1002 | AN3: Exclusive M Sport | AO3: Excellence(類別:0031～0034) | AP3: Excellence(類別:0031～0034) | AQ3: 類別:0031～0034 | AR3: 類別:0031～0034 | AS3: Excellence | AU3: Excellence | AX3: 類別：左から2桁目が1 | AZ3: M Sport（類別:1101～1104） | BA3: M Sport (類別:0101～0104) | BB3: xLine | BC3: M Sport (類別:0101～0104) | BD3: M Sport(類別:0002) | BF3: E | BG3: E（類別:0101～0102） | BH3: E | BI3: E TRACK STYLE EDITION | BJ3: E TRACK STYLE EDITION | BK3: － | BL3: ET-SS (類別:0001) | BM3: ET-SS（類別:0001） | BN3: パッセンジャーロングレンジ | BO3: － | BP3: －
C4: Z 2WD | D4: Z (2WD) | E4: Z (4WD) | F4: B6 e-4ORCE (類別区分番号：0041～0056) | G4: B5 X | H4: 類別：0012 | I4: 類別:0112 | J4: AWD | K4: Long Range | L4: Voyage | M4: Voyage | N4: Version L（類別：0003以降） | P4: First Edition | U4: version L | V4: version L | X4: 200 with EQ Technology Launch Edition | Z4: 350 4MATIC (類別:左から2桁目が0） | AA4: 350 4MATIC SUV (類別：左から2桁目が1) | AB4: 53 4MATIC+ SUV (類別:左から2桁目が1) | AC4: 450 4MATIC SUV (類別:左から2桁目が2) | AE4: 680 SUV (類別:左から2桁目が0) | AF4: Edition 1(類別:左から2桁目が0) | AG4: RWD(類別:0003) 車台番号下6桁508248以降 | AH4: Plaid | AI4: Plaid | AJ4: Premium RWD(類別0003) | AK4: M Sport(類別:1001～1004) | AO4: Excellence(類別:0021～0024) | AP4: Excellence(類別:0021～0024) | AQ4: 類別:0021～0024 | AR4: 類別:0021～0024 | AS4: M Sport | AU4: M Sport | AX4: 類別：左から2桁目が1 | AZ4: M Sport | BA4: M Sport | BB4: M Sport (類別:0101～0104) | BC4: M Sport | BE4: M Sport | BF4: SE | BG4: E | BH4: SE Paul Smith Edition | BI4: E | BJ4: E | BL4: ET-SS (類別:0007、0008) | BM4: ET-SS（類別:0005） | BN4: パッセンジャースタンダード
C5: Z 4WD | D5: Z (4WD) | F5: B9 (類別区分番号：0049～0080) | G5: B5 S | H5: 類別：0012以外 | I5: 類別:0012 | J5: Limited | K5: Long Range Grateful PINK | L5: Lounge Two-tone | M5: Lounge | U5: Rr Comfort package | X5: 200 Shooting Brake with EQ Technology | Z5: 350 4MATIC (類別：左から2桁目が2) | AA5: 350 4MATIC SUV (類別：左から2桁目が0) | AB5: 53 4MATIC+ (類別：左から2桁目が3) | AC5: 450 4MATIC SUV (類別:左から2桁目が1) | AG5: RWD(類別:0003) | AJ5: Premium ロングレンジ AWD (類別0003) | AO5: Excellence(類別:0011～0014) | AP5: Excellence(類別:0011～0014) | AQ5: 類別:0011～0014 | AR5: 類別:0011～0014 | BB5: M Sport | BG5: SE ALL4（類別:0101～0102） | BH5: SE | BL5: ET-HS (類別:0001～0003) | BM5: ET-HS（類別:000１・0002）
D6: G (FWD) | F6: B9 e-4ORCE (類別区分番号：0057～0088) | G6: AUTECH B5 | I6: － | K6: Grateful PINK | L6: Lounge | M6: Voyage AWD | X6: 200 Shooting Brake with EQ Technology Launch Edition | AA6: 350 4MATIC SUV ローンチエディション | AC6: 450 4MATIC SUV (類別:左から2桁目が0) | AG6: Premium ロングレンジ AWD(類別:0003) | AJ6: RWD(類別:0003) | AO6: Excellence | AP6: Excellence(類別:1001～1004) | BG6: SE ALL4 | BL6: ET-HS (類別:0004～0006) | BM6: ET-HS（類別:0003・0004）
D7: G (2WD) | F7: NISMO B6 e-4ORCE (車台番号：330001以降) | G7: NISMO_B5 | I7: Edition Pale Green AWD | K7: Limited | L7: N Line | M7: Lounge AWD | X7: 250+ with EQ Technology | AA7: 350+ Electric Art (類別：左から2桁目が2) | AC7: 580 4MATIC SUV Sports (類別:左から2桁目が2) | AG7: AWD ロングレンジ(類別:0003) | AJ7: RWD | AO7: M Sport(類別:0031～0034) | AP7: Excellence(類別:0001～0004) | BL7: ET-SS（型式:ZAA-XEAM10X）
D8: G (4WD) | F8: NISMO B9 e-4ORCE (車台番号：330001以降) | G8: B7 G | I8: AWD(類別:0112) | K8: － | L8: Mauna Loa | M8: Lounge AWD（型式：ZAA-NE4LRG） | X8: 250+ Shooting Brake with EQ Technology | AA8: 350+ (類別：左から2桁目が4) | AC8: 580 4MATIC SUV スポーツ (類別:左から2桁目が1) | AG8: AWD ロングレンジ(類別:0002) | AJ8: AWD ロングレンジ(類別:0003) | AO8: M Sport(類別:0021～0024) | AP8: M Sport(類別:0031～0034) | BL8: ET-SS（型式:ZAA-YEAM15X）
F9: B6 | G9: B7 X | I9: AWD(類別:0012) | K9: Long Range Limited | M9: Voyage L | AC9: 580 4MATIC SUV スポーツ (類別:左から2桁目が0) | AG9: パフォーマンス AWD(類別:0002) | AJ9: AWD ロングレンジ(類別:0002) | AO9: M Sport(類別:0011～0014) | AP9: M Sport(類別:0021～0024) | BL9: ET-HS
F10: B9 | G10: AUTECH B7 | I10: AWD | M10: Voyage L AWD | AG10: パフォーマンス (類別:0002) | AJ10: AWD ロングレンジ | AO10: M Sport | AP10: M Sport(類別:0011～0014)
F11: B6 limited | G11: NISMO_B7 | M11: Voyage L+ | AG11: パフォーマンス | AJ11: パフォーマンス | AP11: M Sport(類別:1001～1004)
F12: B9 limited | G12: S | M12: Voyage L+ AWD | AP12: M Sport(類別:0001～0004)
F13: B6 e-4ORCE | G13: X
F14: B9 e-4ORCE | G14: X V セレクション 90周年記念車
F15: B9 e-4ORCE プレミア | G15: X V セレクション
F16: B6 e-4ORCE limited | G16: アーバンクロム
F17: B9 e-4ORCE limited | G17: G
F18: NISMO B6 e-4ORCE | G18: NISMO
F19: NISMO B9 e-4ORCE | G19: e+ X 90周年記念車
G20: e+ X
G21: e+ アーバンクロム
G22: e+ G
G23: AUTECH
G24: e+ AUTECH

Sheet 選択リスト（トラック・バス）
A1: EVトラック
B2: 車種 | C2: _eCanter | D2: _エルフmio_EV | E2: _エルフEV | F2: _デュトロZ_EV | G2: _N_VANe_G | H2: _N_VANe_L2 | I2: _N_VANe_L4 | J2: _N_VANe_FUN | K2: _N_ONEe_G | L2: _N_ONEe_L | M2: _23MYeKクロスEV_Gビジネスパッケージグレード | N2: _23MYeKクロスEV_Gグレード | O2: _23MYeKクロスEV_Pグレード | P2: _25MYeKクロスEV_Gビジネスパッケージグレード | Q2: _25MYeKクロスEV_Gグレード | R2: _25MYeKクロスEV_Pグレード | S2: _MINICAB_MiEV2シーター | T2: _MINICAB_MiEV4シーター | U2: _MINICABEV2シーター | V2: _MINICABEV4シーター | W2: _クリッパーEV2シーター | X2: _クリッパーEV4シーター | Y2: _サクラ_Sグレード | Z2: _サクラ_Xグレード | AA2: _サクラ_Gグレード | AB2: _サクラ_90周年記念車 | AC2: _ピクシスバン | AD2: _eエブリイ_2シーター | AE2: _eエブリイ_4シーター | AF2: _e_HIJET_2シーター | AG2: _e_HIJET_4シーター | AH2: _e_ATRAI | AI2: _FKV | AJ2: _FKT | AK2: _F1VS | AL2: _F1TS | AM2: _F11VS | AN2: _F11TS | AO2: _F3T | AP2: _ASF2.0 | AQ2: _ZM5_標準シャシ | AR2: _ZM5_ロングシャシ_バッテリーS | AS2: _ZM5_ロングシャシ_バッテリーM | AT2: _ZM6 | AU2: _eAUMARK | AV2: _ELEMO_K_SPECⅡ | AW2: _ELEMO_M_SPECⅡ | AX2: _ELEMO_L | AY2: _T35 | AZ2: _PV5カーゴスタンダード | BA2: _PV5カーゴロングレンジ | BB2: _CEV_BC_スズキ | BC2: _CEV_BF_スズキ | BD2: _CEV_BC_ニッサン | BE2: _CEV_BF_ニッサン | BF2: _CEV_BC_マツダ | BG2: _CEV_BF_マツダ | BH2: _CEV_BC_三菱 | BI2: _CEV_BF_三菱 | BJ2: _ハイゼット改造BEV | BK2: _TVC_700
B3: 型式 | C3: ZAB-FEB8U（旧型） | D3: ZAB-NHR48AF | E3: ZAB-NJR48AF | F3: ZAB-XED100V | G3: ZAB-JJ3AGDY | H3: ZAB-JJ3AGEY | I3: ZAB-JJ3AGFY | J3: ZAB-JJ3AGGY | K3: ZAA-JG5APEY | L3: ZAA-JG5APFY | M3: ZAA-B5AWLDCB | N3: ZAA-B5AWLDCB | O3: ZAA-B5AWLDEB | P3: ZAA-B5AWLDCB | Q3: ZAA-B5AWLDCB | R3: ZAA-B5AWLDEB | S3: ZAB-U68VHLDDD | T3: ZAB-U68VHLDDA | U3: ZAB-U69VHLDDG | V3: ZAB-U69VHLDDF | W3: ZAB-U79VHLDDG（26年型（類別番号：0107、0109）） | X3: ZAB-U79VHLDDF（26年型（類別番号：0110）） | Y3: ZAA-B6AW（車台番号：～0199999） | Z3: ZAA-B6AW（車台番号：～0199999） | AA3: ZAA-B6AW（車台番号：～0199999） | AB3: ZAA-B6AW（車台番号：～0199999） | AC3: ZAB-S781M | AD3: ZAB-S781Z | AE3: ZAB-S781Z | AF3: ZAB-S781V | AG3: ZAB-S781V | AH3: ZAB-S781V | AI3: 不明 | AJ3: 不明 | AK3: 不明 | AL3: 不明 | AM3: 不明 | AN3: 不明 | AO3: 不明 | AP3: 不明 | AQ3: 不明 | AR3: 不明 | AS3: 不明 | AT3: 不明 | AU3: 不明 | AV3: 不明 | AW3: 不明 | AX3: 不明 | AY3: 不明 | AZ3: 不明 | BA3: 不明 | BB3: EBD-DA64V改 | BC3: EBD-DA64V改 | BD3: EBD-DR64V改 | BE3: EBD-DR64V改 | BF3: EBD-DG64V改 | BG3: EBD-DG64V改 | BH3: EBD-DS64V改 | BI3: EBD-DS64V改 | BJ3: 3BD-S700V改 | BK3: 不明
C4: ZAB-FEAVKバッテリーSサイズ（車台番号:610000～） | E4: ZAB-NJR48AM | F4: ZAB-XED100 | U4: ZAB-U69VHLDDI | V4: ZAB-U69VHLDDH | W4: ZAB-U79VHLDDG（26年型（ルートバン、類別番号：0106、0108）） | X4: ZAB-U79VHLDDH（26年型（急速充電機能付、類別番号：0115）） | Y4: ZAA-B6AW（車台番号：0200000～） | Z4: ZAA-B6AW（車台番号：0200000～） | AA4: ZAA-B6AW（車台番号：0200000～） | AP4: ZAB-WA20VP | BB4: GBD-DA64V改 | BC4: GBD-DA64V改 | BD4: HBD-DR64V改 | BE4: HBD-DR64V改 | BF4: GBD-DG64V改 | BG4: GBD-DG64V改 | BH4: HBD-DS64V改 | BI4: HBD-DS64V改
C5: ZAB-FEAVKバッテリーMサイズ（車台番号:610000～） | E5: ZAB-NLR48AM | W5: ZAB-U79VHLDDI（26年型（急速充電機能付、類別番号：0112、0114）） | BB5: HBD-DA64V改 | BC5: HBD-DA64V改 | BF5: HBD-DG64V改 | BG5: HBD-DG64V改
C6: ZAB-FEBVKバッテリーSサイズ（車台番号:610000～） | E6: ZAB-NPR48AM | W6: ZAB-U79VHLDDI（26年型（ルートバン、急速充電機能付、類別番号：0111、0113））
C7: ZAB-FEBVKバッテリーMサイズ（車台番号:610000～） | E7: ZAB-NMR48AM
C8: ZAB-FEB8K（車台番号:610000～） | E8: ZAB-NKR48AM
C9: ZAB-FEC9K（車台番号:610000～）
C10: ZAB-FED9K（車台番号:610000～）
C11: ZAB-FEAVKバッテリーSサイズ（車台番号:620000～）
C12: ZAB-FEAVKバッテリーMサイズ（車台番号:620000～）
C13: ZAB-FEBVKバッテリーSサイズ（車台番号:620000～）
C14: ZAB-FEBVKバッテリーMサイズ（車台番号:620000～）
C15: ZAB-FEB8KバッテリーSサイズ（車台番号:620000～）
C16: ZAB-FEB8KバッテリーMサイズ（車台番号:620000～）
C17: ZAB-FEC9KバッテリーMサイズ（車台番号:620000～）
C18: ZAB-FEC9KバッテリーLサイズ（車台番号:620000～）
C19: ZAB-FED9K（車台番号:620000～）
A22: HVトラック
B23: 車種 | C23: エルフハイブリッド | D23: ブルーリボンハイブリッド | E23: デュトロハイブリッド
B24: 型式 | C24: 2SG-NJR88AM | D24: 2SG-HL2ANBP | E24: 2SG-XKC605M
C25: 2SG-NLR88AM | E25: 2SG-XKU605M
C26: 2SG-NKR88AM
C27: 2SG-NMR88AM
C28: 2SG-NMR88M
C29: 2SG-NPR88AM
A39: EVバス
B40: 車種 | C40: _エルガＥＶ | D40: _エルガＥＶ_26.5型 | E40: _BYD | F40: _e_Palette | G40: _ELEC_CITY_TOWN | H40: _ブルーリボンZEV | I40: _e_JEST | J40: _ECITY_L6 | K40: _ECITY_L7 | L40: _ECITY_L9 | M40: _ECITY_L10 | N40: _ECITY_L12 | O40: _onoenSTAR_11.45mタイプ | P40: _onoenSTAR_10.5mタイプ | Q40: _onoenSTAR_9mタイプ | R40: _onoenSTAR_7mタイプ | S40: _onoenSTAR_6mタイプ | T40: _onoenSTAR_マイクロバスタイプ
B41: 型式 | C41: ZAC-LV828L1 | D41: ZAC-LV828L1 | E41: J6（都市型） | F41: 試作車 | G41: 不明 | H41: ZAC-KV828L1 | I41: 不明 | J41: 不明 | K41: 不明 | L41: 不明 | M41: 不明 | N41: 不明 | O41: 不明 | P41: 不明 | Q41: 不明 | R41: 不明 | S41: 不明 | T41: 不明
E42: J6（郊外型）
E43: J7
E44: K8
