Workbook

Sheet 請求書
N2: 京都市参考様式
B4: 介護予防支援及び介護予防ケアマネジメント委託業務請求書
G6: （令和 年 月分）
L8: 令和 年 月 日
A10: （あて先）
A12: （京都市○○地域包括支援センター）
H13: （請求者）
I14: 所在地： | J14: 〒○○○‐○○○
I17: 法人名：
I18: 事業所名：
I19: 登録番号： | J19: T
I20: 代表者氏名：
D23: 請求額 | F23: 千 | G23: 百 | H23: 十 | I23: 万 | J23: 千 | K23: 百 | L23: 十 | M23: 円
F24: =IF($L$45=0,"",MID(RIGHT(" "&TEXT($L$45,"¥#"),8),COLUMN(A1),1)) | G24: =IF($L$45=0,"",MID(RIGHT(" "&TEXT($L$45,"¥#"),8),COLUMN(B1),1)) | H24: =IF($L$45=0,"",MID(RIGHT(" "&TEXT($L$45,"¥#"),8),COLUMN(C1),1)) | I24: =IF($L$45=0,"",MID(RIGHT(" "&TEXT($L$45,"¥#"),8),COLUMN(D1),1)) | J24: =IF($L$45=0,"",MID(RIGHT(" "&TEXT($L$45,"¥#"),8),COLUMN(E1),1)) | K24: =IF($L$45=0,"",MID(RIGHT(" "&TEXT($L$45,"¥#"),8),COLUMN(F1),1)) | L24: =IF($L$45=0,"",MID(RIGHT(" "&TEXT($L$45,"¥#"),8),COLUMN(G1),1)) | M24: =IF($L$45=0,"",MID(RIGHT(" "&TEXT($L$45,"¥#"),8),COLUMN(H1),1))
B26: 請求内訳
B27: 内訳 | F27: 委託単価 | I27: 件数 | L27: 金額
B28: 介護予防支援 | C28: 支援費（Ⅰ） | F28: =単価!$E$6 -> 3783 | I28: =報告書!J47 -> 0 | L28: =F28*I28 -> 0
C29: 高齢者虐待防止措置未実施減算 | F29: =単価!$E$7 -> -34 | I29: =報告書!L47 -> 0 | L29: =F29*I29 -> 0
C30: 業務継続計画未策定減算 | F30: =単価!$E$8 -> -34 | I30: =報告書!N47 -> 0 | L30: =F30*I30 -> 0
C31: 初回加算 | F31: =単価!$E$12 -> 2568 | I31: =報告書!P47 -> 0 | L31: =F31*I31 -> 0
C32: 委託連携加算 | F32: =単価!$E$13 -> 2568 | I32: =報告書!R47 -> 0 | L32: =F32*I32 -> 0
C33: 計 | L33: =SUM(L28:O32) -> 0
B34: 介護予防ケアマネジメント | C34: ケアマネジメント費（Ⅰ） | F34: =単価!$E$6 -> 3783 | I34: =報告書!J85 -> 0 | L34: =F34*I34 -> 0
C35: ケアマネジメント費（Ⅱ） | F35: =単価!$E$9 -> 4040 | I35: =報告書!J86 -> 0 | L35: =F35*I35 -> 0
C36: 高齢者虐待防止措置未実施減算 | F36: =単価!$E$10 -> -43 | I36: =報告書!L83 -> 0 | L36: =F36*I36 -> 0
C37: 業務継続計画未策定減算 | F37: =単価!$E$11 -> -43 | I37: =報告書!N83 -> 0 | L37: =F37*I37 -> 0
C38: 初回加算 | F38: =単価!$E$12 -> 2568 | I38: =報告書!P83 -> 0 | L38: =F38*I38 -> 0
C39: 委託連携加算 | F39: =単価!$E$13 -> 2568 | I39: =報告書!R83 -> 0 | L39: =F39*I39 -> 0
C40: 計 | L40: =SUM(L34:O39) -> 0
B41: 処遇改善加算 | L41: =報告書!V47+報告書!V83 -> 0
B42: 自立支援加算 | L42: =単価!M46*(報告書!X47+報告書!X83) -> 0
B43: 合計（税抜き） | L43: =L33+L40+L41+L42 -> 0 | Q43: ←「仕様書別表の合計委託料×報告件数」の種別ごとの足し上げ
B44: 消費税 | L44: =ROUNDDOWN(L43*0.1,0) -> 0
B45: 合計 | L45: =ROUNDDOWN(L43*1.1,0) -> 0
A47: 振込先
A48: 金融機関名・金融機関コード | D48: 店舗名・支店番号 | G48: 預金種目 | J48: 口座番号
G49: 普通（総合） 当座 貯蓄 その他
A50: 口座名義 （フリガナ）
A52: 口座名義 （漢字等）

Sheet 報告書
W2: 京都市参考様式
C4: 介護予防支援及び介護予防ケアマネジメント委託業務報告書
F6: （令和 年 月分）
T7: 令和 年 月 日
A8: あて先
A9: =請求書!A11 -> 0
A10: =請求書!A12 -> （京都市○○地域包括支援センター）
P12: 事業所名： | R12: =請求書!J18 -> 0
A14: 介護予防支援
A15: No. | B15: 計画作成 年月 | D15: 被保険者番号 | G15: 氏名 | J15: 支援費 | L15: 虐防減算 | N15: 業未減算 | P15: 初回 | R15: 委託連携 | T15: 処遇改善 | V15: 処遇改善 加算額 | X15: 自立支援 加算
A17: 1 | T17: ○ | V17: {=_xlfn.IFS(AND(J17="Ⅱ",L17="○",N17="○",P17="○",R17="○",T17="○"),単価!$J$41,AND(J17="Ⅱ",L17="○",N17="○",R17="○",T17="○"),単価!$J$40,AND(J17="Ⅱ",L17="○",N17="○",P17="○",T17="○"),単価!$J$39,AND(J17="Ⅱ",L17="○",N17="○",T17="○"),単価!$J$38,AND(J17="Ⅱ",N17="○",P17="○",R17="○",T17="○"),単価!$J$37,AND(J17="Ⅱ",N17="○",R17="○",T17="○"),単価!$J$36,AND(J17="Ⅱ",N17="○",P17="○",T17="○"),単価!$J$35,AND(J17="Ⅱ",N17="○",T17="○"),単価!$J$34,AND(J17="Ⅱ",L17="○",P17="○",R17="○",T17="○"),単価!$J$37,AND(J17="Ⅱ",L17="○",R17="○",T17="○"),単価!$J$36,AND(J17="Ⅱ",L17="○",P17="○",T17="○"),単価!$J$35,AND(J17="Ⅱ",L17="○",T17="○"),単価!$J$34,AND(J17="Ⅱ",P17="○",R17="○",T17="○"),単価!$J$33,AND(J17="Ⅱ",R17="○",T17="○"),単価!$J$32,AND(J17="Ⅱ",P17="○",T17="○"),単価!$J$31,AND(J17="Ⅱ",T17="○"),単価!$J$30,AND(J17="Ⅰ",L17="○",N17="○",P17="○",R17="○",T17="○"),単価!$J$29,AND(J17="Ⅰ",L17="○",N17="○",R17="○",T17="○"),単価!$J$28,AND(J17="Ⅰ",L17="○",N17="○",P17="○",T17="○"),単価!$J$27,AND(J17="Ⅰ",L17="○",N17="○",T17="○"),単価!$J$26,AND(J17="Ⅰ",N17="○",P17="○",R17="○",T17="○"),単価!$J$25,AND(J17="Ⅰ",N17="○",R17="○",T17="○"),単価!$J$24,AND(J17="Ⅰ",N17="○",P17="○",T17="○"),単価!$J$23,AND(J17="Ⅰ",N17="○",T17="○"),単価!$J$22,AND(J17="Ⅰ",L17="○",P17="○",R17="○",T17="○"),単価!$J$25,AND(J17="Ⅰ",L17="○",R17="○",T17="○"),単価!$J$24,AND(J17="Ⅰ",L17="○",P17="○",T17="○"),単価!$J$23,AND(J17="Ⅰ",L17="○",T17="○"),単価!$J$22,AND(J17="Ⅰ",P17="○",R17="○",T17="○"),単価!$J$21,AND(J17="Ⅰ",R17="○",T17="○"),単価!$J$20,AND(J17="Ⅰ",P17="○",T17="○"),単価!$J$19,AND(J17="Ⅰ",T17="○"),単価!$J$18,TRUE,0)} -> 0
A19: 2 | T19: ○ | V19: {=_xlfn.IFS(AND(J19="Ⅱ",L19="○",N19="○",P19="○",R19="○",T19="○"),単価!$J$41,AND(J19="Ⅱ",L19="○",N19="○",R19="○",T19="○"),単価!$J$40,AND(J19="Ⅱ",L19="○",N19="○",P19="○",T19="○"),単価!$J$39,AND(J19="Ⅱ",L19="○",N19="○",T19="○"),単価!$J$38,AND(J19="Ⅱ",N19="○",P19="○",R19="○",T19="○"),単価!$J$37,AND(J19="Ⅱ",N19="○",R19="○",T19="○"),単価!$J$36,AND(J19="Ⅱ",N19="○",P19="○",T19="○"),単価!$J$35,AND(J19="Ⅱ",N19="○",T19="○"),単価!$J$34,AND(J19="Ⅱ",L19="○",P19="○",R19="○",T19="○"),単価!$J$37,AND(J19="Ⅱ",L19="○",R19="○",T19="○"),単価!$J$36,AND(J19="Ⅱ",L19="○",P19="○",T19="○"),単価!$J$35,AND(J19="Ⅱ",L19="○",T19="○"),単価!$J$34,AND(J19="Ⅱ",P19="○",R19="○",T19="○"),単価!$J$33,AND(J19="Ⅱ",R19="○",T19="○"),単価!$J$32,AND(J19="Ⅱ",P19="○",T19="○"),単価!$J$31,AND(J19="Ⅱ",T19="○"),単価!$J$30,AND(J19="Ⅰ",L19="○",N19="○",P19="○",R19="○",T19="○"),単価!$J$29,AND(J19="Ⅰ",L19="○",N19="○",R19="○",T19="○"),単価!$J$28,AND(J19="Ⅰ",L19="○",N19="○",P19="○",T19="○"),単価!$J$27,AND(J19="Ⅰ",L19="○",N19="○",T19="○"),単価!$J$26,AND(J19="Ⅰ",N19="○",P19="○",R19="○",T19="○"),単価!$J$25,AND(J19="Ⅰ",N19="○",R19="○",T19="○"),単価!$J$24,AND(J19="Ⅰ",N19="○",P19="○",T19="○"),単価!$J$23,AND(J19="Ⅰ",N19="○",T19="○"),単価!$J$22,AND(J19="Ⅰ",L19="○",P19="○",R19="○",T19="○"),単価!$J$25,AND(J19="Ⅰ",L19="○",R19="○",T19="○"),単価!$J$24,AND(J19="Ⅰ",L19="○",P19="○",T19="○"),単価!$J$23,AND(J19="Ⅰ",L19="○",T19="○"),単価!$J$22,AND(J19="Ⅰ",P19="○",R19="○",T19="○"),単価!$J$21,AND(J19="Ⅰ",R19="○",T19="○"),単価!$J$20,AND(J19="Ⅰ",P19="○",T19="○"),単価!$J$19,AND(J19="Ⅰ",T19="○"),単価!$J$18,TRUE,0)} -> 0
A21: 3 | T21: ○ | V21: {=_xlfn.IFS(AND(J21="Ⅱ",L21="○",N21="○",P21="○",R21="○",T21="○"),単価!$J$41,AND(J21="Ⅱ",L21="○",N21="○",R21="○",T21="○"),単価!$J$40,AND(J21="Ⅱ",L21="○",N21="○",P21="○",T21="○"),単価!$J$39,AND(J21="Ⅱ",L21="○",N21="○",T21="○"),単価!$J$38,AND(J21="Ⅱ",N21="○",P21="○",R21="○",T21="○"),単価!$J$37,AND(J21="Ⅱ",N21="○",R21="○",T21="○"),単価!$J$36,AND(J21="Ⅱ",N21="○",P21="○",T21="○"),単価!$J$35,AND(J21="Ⅱ",N21="○",T21="○"),単価!$J$34,AND(J21="Ⅱ",L21="○",P21="○",R21="○",T21="○"),単価!$J$37,AND(J21="Ⅱ",L21="○",R21="○",T21="○"),単価!$J$36,AND(J21="Ⅱ",L21="○",P21="○",T21="○"),単価!$J$35,AND(J21="Ⅱ",L21="○",T21="○"),単価!$J$34,AND(J21="Ⅱ",P21="○",R21="○",T21="○"),単価!$J$33,AND(J21="Ⅱ",R21="○",T21="○"),単価!$J$32,AND(J21="Ⅱ",P21="○",T21="○"),単価!$J$31,AND(J21="Ⅱ",T21="○"),単価!$J$30,AND(J21="Ⅰ",L21="○",N21="○",P21="○",R21="○",T21="○"),単価!$J$29,AND(J21="Ⅰ",L21="○",N21="○",R21="○",T21="○"),単価!$J$28,AND(J21="Ⅰ",L21="○",N21="○",P21="○",T21="○"),単価!$J$27,AND(J21="Ⅰ",L21="○",N21="○",T21="○"),単価!$J$26,AND(J21="Ⅰ",N21="○",P21="○",R21="○",T21="○"),単価!$J$25,AND(J21="Ⅰ",N21="○",R21="○",T21="○"),単価!$J$24,AND(J21="Ⅰ",N21="○",P21="○",T21="○"),単価!$J$23,AND(J21="Ⅰ",N21="○",T21="○"),単価!$J$22,AND(J21="Ⅰ",L21="○",P21="○",R21="○",T21="○"),単価!$J$25,AND(J21="Ⅰ",L21="○",R21="○",T21="○"),単価!$J$24,AND(J21="Ⅰ",L21="○",P21="○",T21="○"),単価!$J$23,AND(J21="Ⅰ",L21="○",T21="○"),単価!$J$22,AND(J21="Ⅰ",P21="○",R21="○",T21="○"),単価!$J$21,AND(J21="Ⅰ",R21="○",T21="○"),単価!$J$20,AND(J21="Ⅰ",P21="○",T21="○"),単価!$J$19,AND(J21="Ⅰ",T21="○"),単価!$J$18,TRUE,0)} -> 0
A23: 4 | T23: ○ | V23: {=_xlfn.IFS(AND(J23="Ⅱ",L23="○",N23="○",P23="○",R23="○",T23="○"),単価!$J$41,AND(J23="Ⅱ",L23="○",N23="○",R23="○",T23="○"),単価!$J$40,AND(J23="Ⅱ",L23="○",N23="○",P23="○",T23="○"),単価!$J$39,AND(J23="Ⅱ",L23="○",N23="○",T23="○"),単価!$J$38,AND(J23="Ⅱ",N23="○",P23="○",R23="○",T23="○"),単価!$J$37,AND(J23="Ⅱ",N23="○",R23="○",T23="○"),単価!$J$36,AND(J23="Ⅱ",N23="○",P23="○",T23="○"),単価!$J$35,AND(J23="Ⅱ",N23="○",T23="○"),単価!$J$34,AND(J23="Ⅱ",L23="○",P23="○",R23="○",T23="○"),単価!$J$37,AND(J23="Ⅱ",L23="○",R23="○",T23="○"),単価!$J$36,AND(J23="Ⅱ",L23="○",P23="○",T23="○"),単価!$J$35,AND(J23="Ⅱ",L23="○",T23="○"),単価!$J$34,AND(J23="Ⅱ",P23="○",R23="○",T23="○"),単価!$J$33,AND(J23="Ⅱ",R23="○",T23="○"),単価!$J$32,AND(J23="Ⅱ",P23="○",T23="○"),単価!$J$31,AND(J23="Ⅱ",T23="○"),単価!$J$30,AND(J23="Ⅰ",L23="○",N23="○",P23="○",R23="○",T23="○"),単価!$J$29,AND(J23="Ⅰ",L23="○",N23="○",R23="○",T23="○"),単価!$J$28,AND(J23="Ⅰ",L23="○",N23="○",P23="○",T23="○"),単価!$J$27,AND(J23="Ⅰ",L23="○",N23="○",T23="○"),単価!$J$26,AND(J23="Ⅰ",N23="○",P23="○",R23="○",T23="○"),単価!$J$25,AND(J23="Ⅰ",N23="○",R23="○",T23="○"),単価!$J$24,AND(J23="Ⅰ",N23="○",P23="○",T23="○"),単価!$J$23,AND(J23="Ⅰ",N23="○",T23="○"),単価!$J$22,AND(J23="Ⅰ",L23="○",P23="○",R23="○",T23="○"),単価!$J$25,AND(J23="Ⅰ",L23="○",R23="○",T23="○"),単価!$J$24,AND(J23="Ⅰ",L23="○",P23="○",T23="○"),単価!$J$23,AND(J23="Ⅰ",L23="○",T23="○"),単価!$J$22,AND(J23="Ⅰ",P23="○",R23="○",T23="○"),単価!$J$21,AND(J23="Ⅰ",R23="○",T23="○"),単価!$J$20,AND(J23="Ⅰ",P23="○",T23="○"),単価!$J$19,AND(J23="Ⅰ",T23="○"),単価!$J$18,TRUE,0)} -> 0
A25: 5 | T25: ○ | V25: {=_xlfn.IFS(AND(J25="Ⅱ",L25="○",N25="○",P25="○",R25="○",T25="○"),単価!$J$41,AND(J25="Ⅱ",L25="○",N25="○",R25="○",T25="○"),単価!$J$40,AND(J25="Ⅱ",L25="○",N25="○",P25="○",T25="○"),単価!$J$39,AND(J25="Ⅱ",L25="○",N25="○",T25="○"),単価!$J$38,AND(J25="Ⅱ",N25="○",P25="○",R25="○",T25="○"),単価!$J$37,AND(J25="Ⅱ",N25="○",R25="○",T25="○"),単価!$J$36,AND(J25="Ⅱ",N25="○",P25="○",T25="○"),単価!$J$35,AND(J25="Ⅱ",N25="○",T25="○"),単価!$J$34,AND(J25="Ⅱ",L25="○",P25="○",R25="○",T25="○"),単価!$J$37,AND(J25="Ⅱ",L25="○",R25="○",T25="○"),単価!$J$36,AND(J25="Ⅱ",L25="○",P25="○",T25="○"),単価!$J$35,AND(J25="Ⅱ",L25="○",T25="○"),単価!$J$34,AND(J25="Ⅱ",P25="○",R25="○",T25="○"),単価!$J$33,AND(J25="Ⅱ",R25="○",T25="○"),単価!$J$32,AND(J25="Ⅱ",P25="○",T25="○"),単価!$J$31,AND(J25="Ⅱ",T25="○"),単価!$J$30,AND(J25="Ⅰ",L25="○",N25="○",P25="○",R25="○",T25="○"),単価!$J$29,AND(J25="Ⅰ",L25="○",N25="○",R25="○",T25="○"),単価!$J$28,AND(J25="Ⅰ",L25="○",N25="○",P25="○",T25="○"),単価!$J$27,AND(J25="Ⅰ",L25="○",N25="○",T25="○"),単価!$J$26,AND(J25="Ⅰ",N25="○",P25="○",R25="○",T25="○"),単価!$J$25,AND(J25="Ⅰ",N25="○",R25="○",T25="○"),単価!$J$24,AND(J25="Ⅰ",N25="○",P25="○",T25="○"),単価!$J$23,AND(J25="Ⅰ",N25="○",T25="○"),単価!$J$22,AND(J25="Ⅰ",L25="○",P25="○",R25="○",T25="○"),単価!$J$25,AND(J25="Ⅰ",L25="○",R25="○",T25="○"),単価!$J$24,AND(J25="Ⅰ",L25="○",P25="○",T25="○"),単価!$J$23,AND(J25="Ⅰ",L25="○",T25="○"),単価!$J$22,AND(J25="Ⅰ",P25="○",R25="○",T25="○"),単価!$J$21,AND(J25="Ⅰ",R25="○",T25="○"),単価!$J$20,AND(J25="Ⅰ",P25="○",T25="○"),単価!$J$19,AND(J25="Ⅰ",T25="○"),単価!$J$18,TRUE,0)} -> 0
A27: 6 | T27: ○ | V27: {=_xlfn.IFS(AND(J27="Ⅱ",L27="○",N27="○",P27="○",R27="○",T27="○"),単価!$J$41,AND(J27="Ⅱ",L27="○",N27="○",R27="○",T27="○"),単価!$J$40,AND(J27="Ⅱ",L27="○",N27="○",P27="○",T27="○"),単価!$J$39,AND(J27="Ⅱ",L27="○",N27="○",T27="○"),単価!$J$38,AND(J27="Ⅱ",N27="○",P27="○",R27="○",T27="○"),単価!$J$37,AND(J27="Ⅱ",N27="○",R27="○",T27="○"),単価!$J$36,AND(J27="Ⅱ",N27="○",P27="○",T27="○"),単価!$J$35,AND(J27="Ⅱ",N27="○",T27="○"),単価!$J$34,AND(J27="Ⅱ",L27="○",P27="○",R27="○",T27="○"),単価!$J$37,AND(J27="Ⅱ",L27="○",R27="○",T27="○"),単価!$J$36,AND(J27="Ⅱ",L27="○",P27="○",T27="○"),単価!$J$35,AND(J27="Ⅱ",L27="○",T27="○"),単価!$J$34,AND(J27="Ⅱ",P27="○",R27="○",T27="○"),単価!$J$33,AND(J27="Ⅱ",R27="○",T27="○"),単価!$J$32,AND(J27="Ⅱ",P27="○",T27="○"),単価!$J$31,AND(J27="Ⅱ",T27="○"),単価!$J$30,AND(J27="Ⅰ",L27="○",N27="○",P27="○",R27="○",T27="○"),単価!$J$29,AND(J27="Ⅰ",L27="○",N27="○",R27="○",T27="○"),単価!$J$28,AND(J27="Ⅰ",L27="○",N27="○",P27="○",T27="○"),単価!$J$27,AND(J27="Ⅰ",L27="○",N27="○",T27="○"),単価!$J$26,AND(J27="Ⅰ",N27="○",P27="○",R27="○",T27="○"),単価!$J$25,AND(J27="Ⅰ",N27="○",R27="○",T27="○"),単価!$J$24,AND(J27="Ⅰ",N27="○",P27="○",T27="○"),単価!$J$23,AND(J27="Ⅰ",N27="○",T27="○"),単価!$J$22,AND(J27="Ⅰ",L27="○",P27="○",R27="○",T27="○"),単価!$J$25,AND(J27="Ⅰ",L27="○",R27="○",T27="○"),単価!$J$24,AND(J27="Ⅰ",L27="○",P27="○",T27="○"),単価!$J$23,AND(J27="Ⅰ",L27="○",T27="○"),単価!$J$22,AND(J27="Ⅰ",P27="○",R27="○",T27="○"),単価!$J$21,AND(J27="Ⅰ",R27="○",T27="○"),単価!$J$20,AND(J27="Ⅰ",P27="○",T27="○"),単価!$J$19,AND(J27="Ⅰ",T27="○"),単価!$J$18,TRUE,0)} -> 0
A29: 7 | T29: ○ | V29: {=_xlfn.IFS(AND(J29="Ⅱ",L29="○",N29="○",P29="○",R29="○",T29="○"),単価!$J$41,AND(J29="Ⅱ",L29="○",N29="○",R29="○",T29="○"),単価!$J$40,AND(J29="Ⅱ",L29="○",N29="○",P29="○",T29="○"),単価!$J$39,AND(J29="Ⅱ",L29="○",N29="○",T29="○"),単価!$J$38,AND(J29="Ⅱ",N29="○",P29="○",R29="○",T29="○"),単価!$J$37,AND(J29="Ⅱ",N29="○",R29="○",T29="○"),単価!$J$36,AND(J29="Ⅱ",N29="○",P29="○",T29="○"),単価!$J$35,AND(J29="Ⅱ",N29="○",T29="○"),単価!$J$34,AND(J29="Ⅱ",L29="○",P29="○",R29="○",T29="○"),単価!$J$37,AND(J29="Ⅱ",L29="○",R29="○",T29="○"),単価!$J$36,AND(J29="Ⅱ",L29="○",P29="○",T29="○"),単価!$J$35,AND(J29="Ⅱ",L29="○",T29="○"),単価!$J$34,AND(J29="Ⅱ",P29="○",R29="○",T29="○"),単価!$J$33,AND(J29="Ⅱ",R29="○",T29="○"),単価!$J$32,AND(J29="Ⅱ",P29="○",T29="○"),単価!$J$31,AND(J29="Ⅱ",T29="○"),単価!$J$30,AND(J29="Ⅰ",L29="○",N29="○",P29="○",R29="○",T29="○"),単価!$J$29,AND(J29="Ⅰ",L29="○",N29="○",R29="○",T29="○"),単価!$J$28,AND(J29="Ⅰ",L29="○",N29="○",P29="○",T29="○"),単価!$J$27,AND(J29="Ⅰ",L29="○",N29="○",T29="○"),単価!$J$26,AND(J29="Ⅰ",N29="○",P29="○",R29="○",T29="○"),単価!$J$25,AND(J29="Ⅰ",N29="○",R29="○",T29="○"),単価!$J$24,AND(J29="Ⅰ",N29="○",P29="○",T29="○"),単価!$J$23,AND(J29="Ⅰ",N29="○",T29="○"),単価!$J$22,AND(J29="Ⅰ",L29="○",P29="○",R29="○",T29="○"),単価!$J$25,AND(J29="Ⅰ",L29="○",R29="○",T29="○"),単価!$J$24,AND(J29="Ⅰ",L29="○",P29="○",T29="○"),単価!$J$23,AND(J29="Ⅰ",L29="○",T29="○"),単価!$J$22,AND(J29="Ⅰ",P29="○",R29="○",T29="○"),単価!$J$21,AND(J29="Ⅰ",R29="○",T29="○"),単価!$J$20,AND(J29="Ⅰ",P29="○",T29="○"),単価!$J$19,AND(J29="Ⅰ",T29="○"),単価!$J$18,TRUE,0)} -> 0
A31: 8 | T31: ○ | V31: {=_xlfn.IFS(AND(J31="Ⅱ",L31="○",N31="○",P31="○",R31="○",T31="○"),単価!$J$41,AND(J31="Ⅱ",L31="○",N31="○",R31="○",T31="○"),単価!$J$40,AND(J31="Ⅱ",L31="○",N31="○",P31="○",T31="○"),単価!$J$39,AND(J31="Ⅱ",L31="○",N31="○",T31="○"),単価!$J$38,AND(J31="Ⅱ",N31="○",P31="○",R31="○",T31="○"),単価!$J$37,AND(J31="Ⅱ",N31="○",R31="○",T31="○"),単価!$J$36,AND(J31="Ⅱ",N31="○",P31="○",T31="○"),単価!$J$35,AND(J31="Ⅱ",N31="○",T31="○"),単価!$J$34,AND(J31="Ⅱ",L31="○",P31="○",R31="○",T31="○"),単価!$J$37,AND(J31="Ⅱ",L31="○",R31="○",T31="○"),単価!$J$36,AND(J31="Ⅱ",L31="○",P31="○",T31="○"),単価!$J$35,AND(J31="Ⅱ",L31="○",T31="○"),単価!$J$34,AND(J31="Ⅱ",P31="○",R31="○",T31="○"),単価!$J$33,AND(J31="Ⅱ",R31="○",T31="○"),単価!$J$32,AND(J31="Ⅱ",P31="○",T31="○"),単価!$J$31,AND(J31="Ⅱ",T31="○"),単価!$J$30,AND(J31="Ⅰ",L31="○",N31="○",P31="○",R31="○",T31="○"),単価!$J$29,AND(J31="Ⅰ",L31="○",N31="○",R31="○",T31="○"),単価!$J$28,AND(J31="Ⅰ",L31="○",N31="○",P31="○",T31="○"),単価!$J$27,AND(J31="Ⅰ",L31="○",N31="○",T31="○"),単価!$J$26,AND(J31="Ⅰ",N31="○",P31="○",R31="○",T31="○"),単価!$J$25,AND(J31="Ⅰ",N31="○",R31="○",T31="○"),単価!$J$24,AND(J31="Ⅰ",N31="○",P31="○",T31="○"),単価!$J$23,AND(J31="Ⅰ",N31="○",T31="○"),単価!$J$22,AND(J31="Ⅰ",L31="○",P31="○",R31="○",T31="○"),単価!$J$25,AND(J31="Ⅰ",L31="○",R31="○",T31="○"),単価!$J$24,AND(J31="Ⅰ",L31="○",P31="○",T31="○"),単価!$J$23,AND(J31="Ⅰ",L31="○",T31="○"),単価!$J$22,AND(J31="Ⅰ",P31="○",R31="○",T31="○"),単価!$J$21,AND(J31="Ⅰ",R31="○",T31="○"),単価!$J$20,AND(J31="Ⅰ",P31="○",T31="○"),単価!$J$19,AND(J31="Ⅰ",T31="○"),単価!$J$18,TRUE,0)} -> 0
A33: 9 | T33: ○ | V33: {=_xlfn.IFS(AND(J33="Ⅱ",L33="○",N33="○",P33="○",R33="○",T33="○"),単価!$J$41,AND(J33="Ⅱ",L33="○",N33="○",R33="○",T33="○"),単価!$J$40,AND(J33="Ⅱ",L33="○",N33="○",P33="○",T33="○"),単価!$J$39,AND(J33="Ⅱ",L33="○",N33="○",T33="○"),単価!$J$38,AND(J33="Ⅱ",N33="○",P33="○",R33="○",T33="○"),単価!$J$37,AND(J33="Ⅱ",N33="○",R33="○",T33="○"),単価!$J$36,AND(J33="Ⅱ",N33="○",P33="○",T33="○"),単価!$J$35,AND(J33="Ⅱ",N33="○",T33="○"),単価!$J$34,AND(J33="Ⅱ",L33="○",P33="○",R33="○",T33="○"),単価!$J$37,AND(J33="Ⅱ",L33="○",R33="○",T33="○"),単価!$J$36,AND(J33="Ⅱ",L33="○",P33="○",T33="○"),単価!$J$35,AND(J33="Ⅱ",L33="○",T33="○"),単価!$J$34,AND(J33="Ⅱ",P33="○",R33="○",T33="○"),単価!$J$33,AND(J33="Ⅱ",R33="○",T33="○"),単価!$J$32,AND(J33="Ⅱ",P33="○",T33="○"),単価!$J$31,AND(J33="Ⅱ",T33="○"),単価!$J$30,AND(J33="Ⅰ",L33="○",N33="○",P33="○",R33="○",T33="○"),単価!$J$29,AND(J33="Ⅰ",L33="○",N33="○",R33="○",T33="○"),単価!$J$28,AND(J33="Ⅰ",L33="○",N33="○",P33="○",T33="○"),単価!$J$27,AND(J33="Ⅰ",L33="○",N33="○",T33="○"),単価!$J$26,AND(J33="Ⅰ",N33="○",P33="○",R33="○",T33="○"),単価!$J$25,AND(J33="Ⅰ",N33="○",R33="○",T33="○"),単価!$J$24,AND(J33="Ⅰ",N33="○",P33="○",T33="○"),単価!$J$23,AND(J33="Ⅰ",N33="○",T33="○"),単価!$J$22,AND(J33="Ⅰ",L33="○",P33="○",R33="○",T33="○"),単価!$J$25,AND(J33="Ⅰ",L33="○",R33="○",T33="○"),単価!$J$24,AND(J33="Ⅰ",L33="○",P33="○",T33="○"),単価!$J$23,AND(J33="Ⅰ",L33="○",T33="○"),単価!$J$22,AND(J33="Ⅰ",P33="○",R33="○",T33="○"),単価!$J$21,AND(J33="Ⅰ",R33="○",T33="○"),単価!$J$20,AND(J33="Ⅰ",P33="○",T33="○"),単価!$J$19,AND(J33="Ⅰ",T33="○"),単価!$J$18,TRUE,0)} -> 0
A35: 10 | T35: ○ | V35: {=_xlfn.IFS(AND(J35="Ⅱ",L35="○",N35="○",P35="○",R35="○",T35="○"),単価!$J$41,AND(J35="Ⅱ",L35="○",N35="○",R35="○",T35="○"),単価!$J$40,AND(J35="Ⅱ",L35="○",N35="○",P35="○",T35="○"),単価!$J$39,AND(J35="Ⅱ",L35="○",N35="○",T35="○"),単価!$J$38,AND(J35="Ⅱ",N35="○",P35="○",R35="○",T35="○"),単価!$J$37,AND(J35="Ⅱ",N35="○",R35="○",T35="○"),単価!$J$36,AND(J35="Ⅱ",N35="○",P35="○",T35="○"),単価!$J$35,AND(J35="Ⅱ",N35="○",T35="○"),単価!$J$34,AND(J35="Ⅱ",L35="○",P35="○",R35="○",T35="○"),単価!$J$37,AND(J35="Ⅱ",L35="○",R35="○",T35="○"),単価!$J$36,AND(J35="Ⅱ",L35="○",P35="○",T35="○"),単価!$J$35,AND(J35="Ⅱ",L35="○",T35="○"),単価!$J$34,AND(J35="Ⅱ",P35="○",R35="○",T35="○"),単価!$J$33,AND(J35="Ⅱ",R35="○",T35="○"),単価!$J$32,AND(J35="Ⅱ",P35="○",T35="○"),単価!$J$31,AND(J35="Ⅱ",T35="○"),単価!$J$30,AND(J35="Ⅰ",L35="○",N35="○",P35="○",R35="○",T35="○"),単価!$J$29,AND(J35="Ⅰ",L35="○",N35="○",R35="○",T35="○"),単価!$J$28,AND(J35="Ⅰ",L35="○",N35="○",P35="○",T35="○"),単価!$J$27,AND(J35="Ⅰ",L35="○",N35="○",T35="○"),単価!$J$26,AND(J35="Ⅰ",N35="○",P35="○",R35="○",T35="○"),単価!$J$25,AND(J35="Ⅰ",N35="○",R35="○",T35="○"),単価!$J$24,AND(J35="Ⅰ",N35="○",P35="○",T35="○"),単価!$J$23,AND(J35="Ⅰ",N35="○",T35="○"),単価!$J$22,AND(J35="Ⅰ",L35="○",P35="○",R35="○",T35="○"),単価!$J$25,AND(J35="Ⅰ",L35="○",R35="○",T35="○"),単価!$J$24,AND(J35="Ⅰ",L35="○",P35="○",T35="○"),単価!$J$23,AND(J35="Ⅰ",L35="○",T35="○"),単価!$J$22,AND(J35="Ⅰ",P35="○",R35="○",T35="○"),単価!$J$21,AND(J35="Ⅰ",R35="○",T35="○"),単価!$J$20,AND(J35="Ⅰ",P35="○",T35="○"),単価!$J$19,AND(J35="Ⅰ",T35="○"),単価!$J$18,TRUE,0)} -> 0
A37: 11 | T37: ○ | V37: {=_xlfn.IFS(AND(J37="Ⅱ",L37="○",N37="○",P37="○",R37="○",T37="○"),単価!$J$41,AND(J37="Ⅱ",L37="○",N37="○",R37="○",T37="○"),単価!$J$40,AND(J37="Ⅱ",L37="○",N37="○",P37="○",T37="○"),単価!$J$39,AND(J37="Ⅱ",L37="○",N37="○",T37="○"),単価!$J$38,AND(J37="Ⅱ",N37="○",P37="○",R37="○",T37="○"),単価!$J$37,AND(J37="Ⅱ",N37="○",R37="○",T37="○"),単価!$J$36,AND(J37="Ⅱ",N37="○",P37="○",T37="○"),単価!$J$35,AND(J37="Ⅱ",N37="○",T37="○"),単価!$J$34,AND(J37="Ⅱ",L37="○",P37="○",R37="○",T37="○"),単価!$J$37,AND(J37="Ⅱ",L37="○",R37="○",T37="○"),単価!$J$36,AND(J37="Ⅱ",L37="○",P37="○",T37="○"),単価!$J$35,AND(J37="Ⅱ",L37="○",T37="○"),単価!$J$34,AND(J37="Ⅱ",P37="○",R37="○",T37="○"),単価!$J$33,AND(J37="Ⅱ",R37="○",T37="○"),単価!$J$32,AND(J37="Ⅱ",P37="○",T37="○"),単価!$J$31,AND(J37="Ⅱ",T37="○"),単価!$J$30,AND(J37="Ⅰ",L37="○",N37="○",P37="○",R37="○",T37="○"),単価!$J$29,AND(J37="Ⅰ",L37="○",N37="○",R37="○",T37="○"),単価!$J$28,AND(J37="Ⅰ",L37="○",N37="○",P37="○",T37="○"),単価!$J$27,AND(J37="Ⅰ",L37="○",N37="○",T37="○"),単価!$J$26,AND(J37="Ⅰ",N37="○",P37="○",R37="○",T37="○"),単価!$J$25,AND(J37="Ⅰ",N37="○",R37="○",T37="○"),単価!$J$24,AND(J37="Ⅰ",N37="○",P37="○",T37="○"),単価!$J$23,AND(J37="Ⅰ",N37="○",T37="○"),単価!$J$22,AND(J37="Ⅰ",L37="○",P37="○",R37="○",T37="○"),単価!$J$25,AND(J37="Ⅰ",L37="○",R37="○",T37="○"),単価!$J$24,AND(J37="Ⅰ",L37="○",P37="○",T37="○"),単価!$J$23,AND(J37="Ⅰ",L37="○",T37="○"),単価!$J$22,AND(J37="Ⅰ",P37="○",R37="○",T37="○"),単価!$J$21,AND(J37="Ⅰ",R37="○",T37="○"),単価!$J$20,AND(J37="Ⅰ",P37="○",T37="○"),単価!$J$19,AND(J37="Ⅰ",T37="○"),単価!$J$18,TRUE,0)} -> 0
A39: 12 | T39: ○ | V39: {=_xlfn.IFS(AND(J39="Ⅱ",L39="○",N39="○",P39="○",R39="○",T39="○"),単価!$J$41,AND(J39="Ⅱ",L39="○",N39="○",R39="○",T39="○"),単価!$J$40,AND(J39="Ⅱ",L39="○",N39="○",P39="○",T39="○"),単価!$J$39,AND(J39="Ⅱ",L39="○",N39="○",T39="○"),単価!$J$38,AND(J39="Ⅱ",N39="○",P39="○",R39="○",T39="○"),単価!$J$37,AND(J39="Ⅱ",N39="○",R39="○",T39="○"),単価!$J$36,AND(J39="Ⅱ",N39="○",P39="○",T39="○"),単価!$J$35,AND(J39="Ⅱ",N39="○",T39="○"),単価!$J$34,AND(J39="Ⅱ",L39="○",P39="○",R39="○",T39="○"),単価!$J$37,AND(J39="Ⅱ",L39="○",R39="○",T39="○"),単価!$J$36,AND(J39="Ⅱ",L39="○",P39="○",T39="○"),単価!$J$35,AND(J39="Ⅱ",L39="○",T39="○"),単価!$J$34,AND(J39="Ⅱ",P39="○",R39="○",T39="○"),単価!$J$33,AND(J39="Ⅱ",R39="○",T39="○"),単価!$J$32,AND(J39="Ⅱ",P39="○",T39="○"),単価!$J$31,AND(J39="Ⅱ",T39="○"),単価!$J$30,AND(J39="Ⅰ",L39="○",N39="○",P39="○",R39="○",T39="○"),単価!$J$29,AND(J39="Ⅰ",L39="○",N39="○",R39="○",T39="○"),単価!$J$28,AND(J39="Ⅰ",L39="○",N39="○",P39="○",T39="○"),単価!$J$27,AND(J39="Ⅰ",L39="○",N39="○",T39="○"),単価!$J$26,AND(J39="Ⅰ",N39="○",P39="○",R39="○",T39="○"),単価!$J$25,AND(J39="Ⅰ",N39="○",R39="○",T39="○"),単価!$J$24,AND(J39="Ⅰ",N39="○",P39="○",T39="○"),単価!$J$23,AND(J39="Ⅰ",N39="○",T39="○"),単価!$J$22,AND(J39="Ⅰ",L39="○",P39="○",R39="○",T39="○"),単価!$J$25,AND(J39="Ⅰ",L39="○",R39="○",T39="○"),単価!$J$24,AND(J39="Ⅰ",L39="○",P39="○",T39="○"),単価!$J$23,AND(J39="Ⅰ",L39="○",T39="○"),単価!$J$22,AND(J39="Ⅰ",P39="○",R39="○",T39="○"),単価!$J$21,AND(J39="Ⅰ",R39="○",T39="○"),単価!$J$20,AND(J39="Ⅰ",P39="○",T39="○"),単価!$J$19,AND(J39="Ⅰ",T39="○"),単価!$J$18,TRUE,0)} -> 0
... A45: 15 | T45: ○ | V45: {=_xlfn.IFS(AND(J45="Ⅱ",L45="○",N45="○",P45="○",R45="○",T45="○"),単価!$J$41,AND(J45="Ⅱ",L45="○",N45="○",R45="○",T45="○"),単価!$J$40,AND(J45="Ⅱ",L45="○",N45="○",P45="○",T45="○"),単価!$J$39,AND(J45="Ⅱ",L45="○",N45="○",T45="○"),単価!$J$38,AND(J45="Ⅱ",N45="○",P45="○",R45="○",T45="○"),単価!$J$37,AND(J45="Ⅱ",N45="○",R45="○",T45="○"),単価!$J$36,AND(J45="Ⅱ",N45="○",P45="○",T45="○"),単価!$J$35,AND(J45="Ⅱ",N45="○",T45="○"),単価!$J$34,AND(J45="Ⅱ",L45="○",P45="○",R45="○",T45="○"),単価!$J$37,AND(J45="Ⅱ",L45="○",R45="○",T45="○"),単価!$J$36,AND(J45="Ⅱ",L45="○",P45="○",T45="○"),単価!$J$35,AND(J45="Ⅱ",L45="○",T45="○"),単価!$J$34,AND(J45="Ⅱ",P45="○",R45="○",T45="○"),単価!$J$33,AND(J45="Ⅱ",R45="○",T45="○"),単価!$J$32,AND(J45="Ⅱ",P45="○",T45="○"),単価!$J$31,AND(J45="Ⅱ",T45="○"),単価!$J$30,AND(J45="Ⅰ",L45="○",N45="○",P45="○",R45="○",T45="○"),単価!$J$29,AND(J45="Ⅰ",L45="○",N45="○",R45="○",T45="○"),単価!$J$28,AND(J45="Ⅰ",L45="○",N45="○",P45="○",T45="○"),単価!$J$27,AND(J45="Ⅰ",L45="○",N45="○",T45="○"),単価!$J$26,AND(J45="Ⅰ",N45="○",P45="○",R45="○",T45="○"),単価!$J$25,AND(J45="Ⅰ",N45="○",R45="○",T45="○"),単価!$J$24,AND(J45="Ⅰ",N45="○",P45="○",T45="○"),単価!$J$23,AND(J45="Ⅰ",N45="○",T45="○"),単価!$J$22,AND(J45="Ⅰ",L45="○",P45="○",R45="○",T45="○"),単価!$J$25,AND(J45="Ⅰ",L45="○",R45="○",T45="○"),単価!$J$24,AND(J45="Ⅰ",L45="○",P45="○",T45="○"),単価!$J$23,AND(J45="Ⅰ",L45="○",T45="○"),単価!$J$22,AND(J45="Ⅰ",P45="○",R45="○",T45="○"),単価!$J$21,AND(J45="Ⅰ",R45="○",T45="○"),単価!$J$20,AND(J45="Ⅰ",P45="○",T45="○"),単価!$J$19,AND(J45="Ⅰ",T45="○"),単価!$J$18,TRUE,0)} -> 0
A47: 合計 | J47: =COUNTIF(J17:K46,"Ⅰ") -> 0 | L47: =COUNTIF(L17:M46,"○") -> 0 | N47: =COUNTIF(N17:O46,"○") -> 0 | P47: =COUNTIF(P17:Q46,"○") -> 0 | R47: =COUNTIF(R17:S46,"○") -> 0 | V47: =SUM(V17:W46) -> 0 | X47: =COUNTIF(X17:Y46,"○") -> 0
A50: 介護予防ケアマネジメント
A51: No. | B51: 計画作成 年月 | D51: 被保険者番号 | G51: 氏名 | J51: ケアマネジメント費 | L51: 虐防減算 | N51: 業未減算 | P51: 初回 | R51: 委託連携 | T51: 処遇改善 | V51: 処遇改善 加算額 | X51: 自立支援 加算
A53: 1 | T53: ○ | V53: {=_xlfn.IFS(AND(J53="Ⅱ",L53="○",N53="○",P53="○",R53="○",T53="○"),単価!$J$41,AND(J53="Ⅱ",L53="○",N53="○",R53="○",T53="○"),単価!$J$40,AND(J53="Ⅱ",L53="○",N53="○",P53="○",T53="○"),単価!$J$39,AND(J53="Ⅱ",L53="○",N53="○",T53="○"),単価!$J$38,AND(J53="Ⅱ",N53="○",P53="○",R53="○",T53="○"),単価!$J$37,AND(J53="Ⅱ",N53="○",R53="○",T53="○"),単価!$J$36,AND(J53="Ⅱ",N53="○",P53="○",T53="○"),単価!$J$35,AND(J53="Ⅱ",N53="○",T53="○"),単価!$J$34,AND(J53="Ⅱ",L53="○",P53="○",R53="○",T53="○"),単価!$J$37,AND(J53="Ⅱ",L53="○",R53="○",T53="○"),単価!$J$36,AND(J53="Ⅱ",L53="○",P53="○",T53="○"),単価!$J$35,AND(J53="Ⅱ",L53="○",T53="○"),単価!$J$34,AND(J53="Ⅱ",P53="○",R53="○",T53="○"),単価!$J$33,AND(J53="Ⅱ",R53="○",T53="○"),単価!$J$32,AND(J53="Ⅱ",P53="○",T53="○"),単価!$J$31,AND(J53="Ⅱ",T53="○"),単価!$J$30,AND(J53="Ⅰ",L53="○",N53="○",P53="○",R53="○",T53="○"),単価!$J$29,AND(J53="Ⅰ",L53="○",N53="○",R53="○",T53="○"),単価!$J$28,AND(J53="Ⅰ",L53="○",N53="○",P53="○",T53="○"),単価!$J$27,AND(J53="Ⅰ",L53="○",N53="○",T53="○"),単価!$J$26,AND(J53="Ⅰ",N53="○",P53="○",R53="○",T53="○"),単価!$J$25,AND(J53="Ⅰ",N53="○",R53="○",T53="○"),単価!$J$24,AND(J53="Ⅰ",N53="○",P53="○",T53="○"),単価!$J$23,AND(J53="Ⅰ",N53="○",T53="○"),単価!$J$22,AND(J53="Ⅰ",L53="○",P53="○",R53="○",T53="○"),単価!$J$25,AND(J53="Ⅰ",L53="○",R53="○",T53="○"),単価!$J$24,AND(J53="Ⅰ",L53="○",P53="○",T53="○"),単価!$J$23,AND(J53="Ⅰ",L53="○",T53="○"),単価!$J$22,AND(J53="Ⅰ",P53="○",R53="○",T53="○"),単価!$J$21,AND(J53="Ⅰ",R53="○",T53="○"),単価!$J$20,AND(J53="Ⅰ",P53="○",T53="○"),単価!$J$19,AND(J53="Ⅰ",T53="○"),単価!$J$18,TRUE,0)} -> 0
A55: 2 | T55: ○ | V55: {=_xlfn.IFS(AND(J55="Ⅱ",L55="○",N55="○",P55="○",R55="○",T55="○"),単価!$J$41,AND(J55="Ⅱ",L55="○",N55="○",R55="○",T55="○"),単価!$J$40,AND(J55="Ⅱ",L55="○",N55="○",P55="○",T55="○"),単価!$J$39,AND(J55="Ⅱ",L55="○",N55="○",T55="○"),単価!$J$38,AND(J55="Ⅱ",N55="○",P55="○",R55="○",T55="○"),単価!$J$37,AND(J55="Ⅱ",N55="○",R55="○",T55="○"),単価!$J$36,AND(J55="Ⅱ",N55="○",P55="○",T55="○"),単価!$J$35,AND(J55="Ⅱ",N55="○",T55="○"),単価!$J$34,AND(J55="Ⅱ",L55="○",P55="○",R55="○",T55="○"),単価!$J$37,AND(J55="Ⅱ",L55="○",R55="○",T55="○"),単価!$J$36,AND(J55="Ⅱ",L55="○",P55="○",T55="○"),単価!$J$35,AND(J55="Ⅱ",L55="○",T55="○"),単価!$J$34,AND(J55="Ⅱ",P55="○",R55="○",T55="○"),単価!$J$33,AND(J55="Ⅱ",R55="○",T55="○"),単価!$J$32,AND(J55="Ⅱ",P55="○",T55="○"),単価!$J$31,AND(J55="Ⅱ",T55="○"),単価!$J$30,AND(J55="Ⅰ",L55="○",N55="○",P55="○",R55="○",T55="○"),単価!$J$29,AND(J55="Ⅰ",L55="○",N55="○",R55="○",T55="○"),単価!$J$28,AND(J55="Ⅰ",L55="○",N55="○",P55="○",T55="○"),単価!$J$27,AND(J55="Ⅰ",L55="○",N55="○",T55="○"),単価!$J$26,AND(J55="Ⅰ",N55="○",P55="○",R55="○",T55="○"),単価!$J$25,AND(J55="Ⅰ",N55="○",R55="○",T55="○"),単価!$J$24,AND(J55="Ⅰ",N55="○",P55="○",T55="○"),単価!$J$23,AND(J55="Ⅰ",N55="○",T55="○"),単価!$J$22,AND(J55="Ⅰ",L55="○",P55="○",R55="○",T55="○"),単価!$J$25,AND(J55="Ⅰ",L55="○",R55="○",T55="○"),単価!$J$24,AND(J55="Ⅰ",L55="○",P55="○",T55="○"),単価!$J$23,AND(J55="Ⅰ",L55="○",T55="○"),単価!$J$22,AND(J55="Ⅰ",P55="○",R55="○",T55="○"),単価!$J$21,AND(J55="Ⅰ",R55="○",T55="○"),単価!$J$20,AND(J55="Ⅰ",P55="○",T55="○"),単価!$J$19,AND(J55="Ⅰ",T55="○"),単価!$J$18,TRUE,0)} -> 0
A57: 3 | T57: ○ | V57: {=_xlfn.IFS(AND(J57="Ⅱ",L57="○",N57="○",P57="○",R57="○",T57="○"),単価!$J$41,AND(J57="Ⅱ",L57="○",N57="○",R57="○",T57="○"),単価!$J$40,AND(J57="Ⅱ",L57="○",N57="○",P57="○",T57="○"),単価!$J$39,AND(J57="Ⅱ",L57="○",N57="○",T57="○"),単価!$J$38,AND(J57="Ⅱ",N57="○",P57="○",R57="○",T57="○"),単価!$J$37,AND(J57="Ⅱ",N57="○",R57="○",T57="○"),単価!$J$36,AND(J57="Ⅱ",N57="○",P57="○",T57="○"),単価!$J$35,AND(J57="Ⅱ",N57="○",T57="○"),単価!$J$34,AND(J57="Ⅱ",L57="○",P57="○",R57="○",T57="○"),単価!$J$37,AND(J57="Ⅱ",L57="○",R57="○",T57="○"),単価!$J$36,AND(J57="Ⅱ",L57="○",P57="○",T57="○"),単価!$J$35,AND(J57="Ⅱ",L57="○",T57="○"),単価!$J$34,AND(J57="Ⅱ",P57="○",R57="○",T57="○"),単価!$J$33,AND(J57="Ⅱ",R57="○",T57="○"),単価!$J$32,AND(J57="Ⅱ",P57="○",T57="○"),単価!$J$31,AND(J57="Ⅱ",T57="○"),単価!$J$30,AND(J57="Ⅰ",L57="○",N57="○",P57="○",R57="○",T57="○"),単価!$J$29,AND(J57="Ⅰ",L57="○",N57="○",R57="○",T57="○"),単価!$J$28,AND(J57="Ⅰ",L57="○",N57="○",P57="○",T57="○"),単価!$J$27,AND(J57="Ⅰ",L57="○",N57="○",T57="○"),単価!$J$26,AND(J57="Ⅰ",N57="○",P57="○",R57="○",T57="○"),単価!$J$25,AND(J57="Ⅰ",N57="○",R57="○",T57="○"),単価!$J$24,AND(J57="Ⅰ",N57="○",P57="○",T57="○"),単価!$J$23,AND(J57="Ⅰ",N57="○",T57="○"),単価!$J$22,AND(J57="Ⅰ",L57="○",P57="○",R57="○",T57="○"),単価!$J$25,AND(J57="Ⅰ",L57="○",R57="○",T57="○"),単価!$J$24,AND(J57="Ⅰ",L57="○",P57="○",T57="○"),単価!$J$23,AND(J57="Ⅰ",L57="○",T57="○"),単価!$J$22,AND(J57="Ⅰ",P57="○",R57="○",T57="○"),単価!$J$21,AND(J57="Ⅰ",R57="○",T57="○"),単価!$J$20,AND(J57="Ⅰ",P57="○",T57="○"),単価!$J$19,AND(J57="Ⅰ",T57="○"),単価!$J$18,TRUE,0)} -> 0
A59: 4 | T59: ○ | V59: {=_xlfn.IFS(AND(J59="Ⅱ",L59="○",N59="○",P59="○",R59="○",T59="○"),単価!$J$41,AND(J59="Ⅱ",L59="○",N59="○",R59="○",T59="○"),単価!$J$40,AND(J59="Ⅱ",L59="○",N59="○",P59="○",T59="○"),単価!$J$39,AND(J59="Ⅱ",L59="○",N59="○",T59="○"),単価!$J$38,AND(J59="Ⅱ",N59="○",P59="○",R59="○",T59="○"),単価!$J$37,AND(J59="Ⅱ",N59="○",R59="○",T59="○"),単価!$J$36,AND(J59="Ⅱ",N59="○",P59="○",T59="○"),単価!$J$35,AND(J59="Ⅱ",N59="○",T59="○"),単価!$J$34,AND(J59="Ⅱ",L59="○",P59="○",R59="○",T59="○"),単価!$J$37,AND(J59="Ⅱ",L59="○",R59="○",T59="○"),単価!$J$36,AND(J59="Ⅱ",L59="○",P59="○",T59="○"),単価!$J$35,AND(J59="Ⅱ",L59="○",T59="○"),単価!$J$34,AND(J59="Ⅱ",P59="○",R59="○",T59="○"),単価!$J$33,AND(J59="Ⅱ",R59="○",T59="○"),単価!$J$32,AND(J59="Ⅱ",P59="○",T59="○"),単価!$J$31,AND(J59="Ⅱ",T59="○"),単価!$J$30,AND(J59="Ⅰ",L59="○",N59="○",P59="○",R59="○",T59="○"),単価!$J$29,AND(J59="Ⅰ",L59="○",N59="○",R59="○",T59="○"),単価!$J$28,AND(J59="Ⅰ",L59="○",N59="○",P59="○",T59="○"),単価!$J$27,AND(J59="Ⅰ",L59="○",N59="○",T59="○"),単価!$J$26,AND(J59="Ⅰ",N59="○",P59="○",R59="○",T59="○"),単価!$J$25,AND(J59="Ⅰ",N59="○",R59="○",T59="○"),単価!$J$24,AND(J59="Ⅰ",N59="○",P59="○",T59="○"),単価!$J$23,AND(J59="Ⅰ",N59="○",T59="○"),単価!$J$22,AND(J59="Ⅰ",L59="○",P59="○",R59="○",T59="○"),単価!$J$25,AND(J59="Ⅰ",L59="○",R59="○",T59="○"),単価!$J$24,AND(J59="Ⅰ",L59="○",P59="○",T59="○"),単価!$J$23,AND(J59="Ⅰ",L59="○",T59="○"),単価!$J$22,AND(J59="Ⅰ",P59="○",R59="○",T59="○"),単価!$J$21,AND(J59="Ⅰ",R59="○",T59="○"),単価!$J$20,AND(J59="Ⅰ",P59="○",T59="○"),単価!$J$19,AND(J59="Ⅰ",T59="○"),単価!$J$18,TRUE,0)} -> 0
A61: 5 | T61: ○ | V61: {=_xlfn.IFS(AND(J61="Ⅱ",L61="○",N61="○",P61="○",R61="○",T61="○"),単価!$J$41,AND(J61="Ⅱ",L61="○",N61="○",R61="○",T61="○"),単価!$J$40,AND(J61="Ⅱ",L61="○",N61="○",P61="○",T61="○"),単価!$J$39,AND(J61="Ⅱ",L61="○",N61="○",T61="○"),単価!$J$38,AND(J61="Ⅱ",N61="○",P61="○",R61="○",T61="○"),単価!$J$37,AND(J61="Ⅱ",N61="○",R61="○",T61="○"),単価!$J$36,AND(J61="Ⅱ",N61="○",P61="○",T61="○"),単価!$J$35,AND(J61="Ⅱ",N61="○",T61="○"),単価!$J$34,AND(J61="Ⅱ",L61="○",P61="○",R61="○",T61="○"),単価!$J$37,AND(J61="Ⅱ",L61="○",R61="○",T61="○"),単価!$J$36,AND(J61="Ⅱ",L61="○",P61="○",T61="○"),単価!$J$35,AND(J61="Ⅱ",L61="○",T61="○"),単価!$J$34,AND(J61="Ⅱ",P61="○",R61="○",T61="○"),単価!$J$33,AND(J61="Ⅱ",R61="○",T61="○"),単価!$J$32,AND(J61="Ⅱ",P61="○",T61="○"),単価!$J$31,AND(J61="Ⅱ",T61="○"),単価!$J$30,AND(J61="Ⅰ",L61="○",N61="○",P61="○",R61="○",T61="○"),単価!$J$29,AND(J61="Ⅰ",L61="○",N61="○",R61="○",T61="○"),単価!$J$28,AND(J61="Ⅰ",L61="○",N61="○",P61="○",T61="○"),単価!$J$27,AND(J61="Ⅰ",L61="○",N61="○",T61="○"),単価!$J$26,AND(J61="Ⅰ",N61="○",P61="○",R61="○",T61="○"),単価!$J$25,AND(J61="Ⅰ",N61="○",R61="○",T61="○"),単価!$J$24,AND(J61="Ⅰ",N61="○",P61="○",T61="○"),単価!$J$23,AND(J61="Ⅰ",N61="○",T61="○"),単価!$J$22,AND(J61="Ⅰ",L61="○",P61="○",R61="○",T61="○"),単価!$J$25,AND(J61="Ⅰ",L61="○",R61="○",T61="○"),単価!$J$24,AND(J61="Ⅰ",L61="○",P61="○",T61="○"),単価!$J$23,AND(J61="Ⅰ",L61="○",T61="○"),単価!$J$22,AND(J61="Ⅰ",P61="○",R61="○",T61="○"),単価!$J$21,AND(J61="Ⅰ",R61="○",T61="○"),単価!$J$20,AND(J61="Ⅰ",P61="○",T61="○"),単価!$J$19,AND(J61="Ⅰ",T61="○"),単価!$J$18,TRUE,0)} -> 0
A63: 6 | T63: ○ | V63: {=_xlfn.IFS(AND(J63="Ⅱ",L63="○",N63="○",P63="○",R63="○",T63="○"),単価!$J$41,AND(J63="Ⅱ",L63="○",N63="○",R63="○",T63="○"),単価!$J$40,AND(J63="Ⅱ",L63="○",N63="○",P63="○",T63="○"),単価!$J$39,AND(J63="Ⅱ",L63="○",N63="○",T63="○"),単価!$J$38,AND(J63="Ⅱ",N63="○",P63="○",R63="○",T63="○"),単価!$J$37,AND(J63="Ⅱ",N63="○",R63="○",T63="○"),単価!$J$36,AND(J63="Ⅱ",N63="○",P63="○",T63="○"),単価!$J$35,AND(J63="Ⅱ",N63="○",T63="○"),単価!$J$34,AND(J63="Ⅱ",L63="○",P63="○",R63="○",T63="○"),単価!$J$37,AND(J63="Ⅱ",L63="○",R63="○",T63="○"),単価!$J$36,AND(J63="Ⅱ",L63="○",P63="○",T63="○"),単価!$J$35,AND(J63="Ⅱ",L63="○",T63="○"),単価!$J$34,AND(J63="Ⅱ",P63="○",R63="○",T63="○"),単価!$J$33,AND(J63="Ⅱ",R63="○",T63="○"),単価!$J$32,AND(J63="Ⅱ",P63="○",T63="○"),単価!$J$31,AND(J63="Ⅱ",T63="○"),単価!$J$30,AND(J63="Ⅰ",L63="○",N63="○",P63="○",R63="○",T63="○"),単価!$J$29,AND(J63="Ⅰ",L63="○",N63="○",R63="○",T63="○"),単価!$J$28,AND(J63="Ⅰ",L63="○",N63="○",P63="○",T63="○"),単価!$J$27,AND(J63="Ⅰ",L63="○",N63="○",T63="○"),単価!$J$26,AND(J63="Ⅰ",N63="○",P63="○",R63="○",T63="○"),単価!$J$25,AND(J63="Ⅰ",N63="○",R63="○",T63="○"),単価!$J$24,AND(J63="Ⅰ",N63="○",P63="○",T63="○"),単価!$J$23,AND(J63="Ⅰ",N63="○",T63="○"),単価!$J$22,AND(J63="Ⅰ",L63="○",P63="○",R63="○",T63="○"),単価!$J$25,AND(J63="Ⅰ",L63="○",R63="○",T63="○"),単価!$J$24,AND(J63="Ⅰ",L63="○",P63="○",T63="○"),単価!$J$23,AND(J63="Ⅰ",L63="○",T63="○"),単価!$J$22,AND(J63="Ⅰ",P63="○",R63="○",T63="○"),単価!$J$21,AND(J63="Ⅰ",R63="○",T63="○"),単価!$J$20,AND(J63="Ⅰ",P63="○",T63="○"),単価!$J$19,AND(J63="Ⅰ",T63="○"),単価!$J$18,TRUE,0)} -> 0
A65: 7 | T65: ○ | V65: {=_xlfn.IFS(AND(J65="Ⅱ",L65="○",N65="○",P65="○",R65="○",T65="○"),単価!$J$41,AND(J65="Ⅱ",L65="○",N65="○",R65="○",T65="○"),単価!$J$40,AND(J65="Ⅱ",L65="○",N65="○",P65="○",T65="○"),単価!$J$39,AND(J65="Ⅱ",L65="○",N65="○",T65="○"),単価!$J$38,AND(J65="Ⅱ",N65="○",P65="○",R65="○",T65="○"),単価!$J$37,AND(J65="Ⅱ",N65="○",R65="○",T65="○"),単価!$J$36,AND(J65="Ⅱ",N65="○",P65="○",T65="○"),単価!$J$35,AND(J65="Ⅱ",N65="○",T65="○"),単価!$J$34,AND(J65="Ⅱ",L65="○",P65="○",R65="○",T65="○"),単価!$J$37,AND(J65="Ⅱ",L65="○",R65="○",T65="○"),単価!$J$36,AND(J65="Ⅱ",L65="○",P65="○",T65="○"),単価!$J$35,AND(J65="Ⅱ",L65="○",T65="○"),単価!$J$34,AND(J65="Ⅱ",P65="○",R65="○",T65="○"),単価!$J$33,AND(J65="Ⅱ",R65="○",T65="○"),単価!$J$32,AND(J65="Ⅱ",P65="○",T65="○"),単価!$J$31,AND(J65="Ⅱ",T65="○"),単価!$J$30,AND(J65="Ⅰ",L65="○",N65="○",P65="○",R65="○",T65="○"),単価!$J$29,AND(J65="Ⅰ",L65="○",N65="○",R65="○",T65="○"),単価!$J$28,AND(J65="Ⅰ",L65="○",N65="○",P65="○",T65="○"),単価!$J$27,AND(J65="Ⅰ",L65="○",N65="○",T65="○"),単価!$J$26,AND(J65="Ⅰ",N65="○",P65="○",R65="○",T65="○"),単価!$J$25,AND(J65="Ⅰ",N65="○",R65="○",T65="○"),単価!$J$24,AND(J65="Ⅰ",N65="○",P65="○",T65="○"),単価!$J$23,AND(J65="Ⅰ",N65="○",T65="○"),単価!$J$22,AND(J65="Ⅰ",L65="○",P65="○",R65="○",T65="○"),単価!$J$25,AND(J65="Ⅰ",L65="○",R65="○",T65="○"),単価!$J$24,AND(J65="Ⅰ",L65="○",P65="○",T65="○"),単価!$J$23,AND(J65="Ⅰ",L65="○",T65="○"),単価!$J$22,AND(J65="Ⅰ",P65="○",R65="○",T65="○"),単価!$J$21,AND(J65="Ⅰ",R65="○",T65="○"),単価!$J$20,AND(J65="Ⅰ",P65="○",T65="○"),単価!$J$19,AND(J65="Ⅰ",T65="○"),単価!$J$18,TRUE,0)} -> 0
A67: 8 | T67: ○ | V67: {=_xlfn.IFS(AND(J67="Ⅱ",L67="○",N67="○",P67="○",R67="○",T67="○"),単価!$J$41,AND(J67="Ⅱ",L67="○",N67="○",R67="○",T67="○"),単価!$J$40,AND(J67="Ⅱ",L67="○",N67="○",P67="○",T67="○"),単価!$J$39,AND(J67="Ⅱ",L67="○",N67="○",T67="○"),単価!$J$38,AND(J67="Ⅱ",N67="○",P67="○",R67="○",T67="○"),単価!$J$37,AND(J67="Ⅱ",N67="○",R67="○",T67="○"),単価!$J$36,AND(J67="Ⅱ",N67="○",P67="○",T67="○"),単価!$J$35,AND(J67="Ⅱ",N67="○",T67="○"),単価!$J$34,AND(J67="Ⅱ",L67="○",P67="○",R67="○",T67="○"),単価!$J$37,AND(J67="Ⅱ",L67="○",R67="○",T67="○"),単価!$J$36,AND(J67="Ⅱ",L67="○",P67="○",T67="○"),単価!$J$35,AND(J67="Ⅱ",L67="○",T67="○"),単価!$J$34,AND(J67="Ⅱ",P67="○",R67="○",T67="○"),単価!$J$33,AND(J67="Ⅱ",R67="○",T67="○"),単価!$J$32,AND(J67="Ⅱ",P67="○",T67="○"),単価!$J$31,AND(J67="Ⅱ",T67="○"),単価!$J$30,AND(J67="Ⅰ",L67="○",N67="○",P67="○",R67="○",T67="○"),単価!$J$29,AND(J67="Ⅰ",L67="○",N67="○",R67="○",T67="○"),単価!$J$28,AND(J67="Ⅰ",L67="○",N67="○",P67="○",T67="○"),単価!$J$27,AND(J67="Ⅰ",L67="○",N67="○",T67="○"),単価!$J$26,AND(J67="Ⅰ",N67="○",P67="○",R67="○",T67="○"),単価!$J$25,AND(J67="Ⅰ",N67="○",R67="○",T67="○"),単価!$J$24,AND(J67="Ⅰ",N67="○",P67="○",T67="○"),単価!$J$23,AND(J67="Ⅰ",N67="○",T67="○"),単価!$J$22,AND(J67="Ⅰ",L67="○",P67="○",R67="○",T67="○"),単価!$J$25,AND(J67="Ⅰ",L67="○",R67="○",T67="○"),単価!$J$24,AND(J67="Ⅰ",L67="○",P67="○",T67="○"),単価!$J$23,AND(J67="Ⅰ",L67="○",T67="○"),単価!$J$22,AND(J67="Ⅰ",P67="○",R67="○",T67="○"),単価!$J$21,AND(J67="Ⅰ",R67="○",T67="○"),単価!$J$20,AND(J67="Ⅰ",P67="○",T67="○"),単価!$J$19,AND(J67="Ⅰ",T67="○"),単価!$J$18,TRUE,0)} -> 0
A69: 9 | T69: ○ | V69: {=_xlfn.IFS(AND(J69="Ⅱ",L69="○",N69="○",P69="○",R69="○",T69="○"),単価!$J$41,AND(J69="Ⅱ",L69="○",N69="○",R69="○",T69="○"),単価!$J$40,AND(J69="Ⅱ",L69="○",N69="○",P69="○",T69="○"),単価!$J$39,AND(J69="Ⅱ",L69="○",N69="○",T69="○"),単価!$J$38,AND(J69="Ⅱ",N69="○",P69="○",R69="○",T69="○"),単価!$J$37,AND(J69="Ⅱ",N69="○",R69="○",T69="○"),単価!$J$36,AND(J69="Ⅱ",N69="○",P69="○",T69="○"),単価!$J$35,AND(J69="Ⅱ",N69="○",T69="○"),単価!$J$34,AND(J69="Ⅱ",L69="○",P69="○",R69="○",T69="○"),単価!$J$37,AND(J69="Ⅱ",L69="○",R69="○",T69="○"),単価!$J$36,AND(J69="Ⅱ",L69="○",P69="○",T69="○"),単価!$J$35,AND(J69="Ⅱ",L69="○",T69="○"),単価!$J$34,AND(J69="Ⅱ",P69="○",R69="○",T69="○"),単価!$J$33,AND(J69="Ⅱ",R69="○",T69="○"),単価!$J$32,AND(J69="Ⅱ",P69="○",T69="○"),単価!$J$31,AND(J69="Ⅱ",T69="○"),単価!$J$30,AND(J69="Ⅰ",L69="○",N69="○",P69="○",R69="○",T69="○"),単価!$J$29,AND(J69="Ⅰ",L69="○",N69="○",R69="○",T69="○"),単価!$J$28,AND(J69="Ⅰ",L69="○",N69="○",P69="○",T69="○"),単価!$J$27,AND(J69="Ⅰ",L69="○",N69="○",T69="○"),単価!$J$26,AND(J69="Ⅰ",N69="○",P69="○",R69="○",T69="○"),単価!$J$25,AND(J69="Ⅰ",N69="○",R69="○",T69="○"),単価!$J$24,AND(J69="Ⅰ",N69="○",P69="○",T69="○"),単価!$J$23,AND(J69="Ⅰ",N69="○",T69="○"),単価!$J$22,AND(J69="Ⅰ",L69="○",P69="○",R69="○",T69="○"),単価!$J$25,AND(J69="Ⅰ",L69="○",R69="○",T69="○"),単価!$J$24,AND(J69="Ⅰ",L69="○",P69="○",T69="○"),単価!$J$23,AND(J69="Ⅰ",L69="○",T69="○"),単価!$J$22,AND(J69="Ⅰ",P69="○",R69="○",T69="○"),単価!$J$21,AND(J69="Ⅰ",R69="○",T69="○"),単価!$J$20,AND(J69="Ⅰ",P69="○",T69="○"),単価!$J$19,AND(J69="Ⅰ",T69="○"),単価!$J$18,TRUE,0)} -> 0
A71: 10 | T71: ○ | V71: {=_xlfn.IFS(AND(J71="Ⅱ",L71="○",N71="○",P71="○",R71="○",T71="○"),単価!$J$41,AND(J71="Ⅱ",L71="○",N71="○",R71="○",T71="○"),単価!$J$40,AND(J71="Ⅱ",L71="○",N71="○",P71="○",T71="○"),単価!$J$39,AND(J71="Ⅱ",L71="○",N71="○",T71="○"),単価!$J$38,AND(J71="Ⅱ",N71="○",P71="○",R71="○",T71="○"),単価!$J$37,AND(J71="Ⅱ",N71="○",R71="○",T71="○"),単価!$J$36,AND(J71="Ⅱ",N71="○",P71="○",T71="○"),単価!$J$35,AND(J71="Ⅱ",N71="○",T71="○"),単価!$J$34,AND(J71="Ⅱ",L71="○",P71="○",R71="○",T71="○"),単価!$J$37,AND(J71="Ⅱ",L71="○",R71="○",T71="○"),単価!$J$36,AND(J71="Ⅱ",L71="○",P71="○",T71="○"),単価!$J$35,AND(J71="Ⅱ",L71="○",T71="○"),単価!$J$34,AND(J71="Ⅱ",P71="○",R71="○",T71="○"),単価!$J$33,AND(J71="Ⅱ",R71="○",T71="○"),単価!$J$32,AND(J71="Ⅱ",P71="○",T71="○"),単価!$J$31,AND(J71="Ⅱ",T71="○"),単価!$J$30,AND(J71="Ⅰ",L71="○",N71="○",P71="○",R71="○",T71="○"),単価!$J$29,AND(J71="Ⅰ",L71="○",N71="○",R71="○",T71="○"),単価!$J$28,AND(J71="Ⅰ",L71="○",N71="○",P71="○",T71="○"),単価!$J$27,AND(J71="Ⅰ",L71="○",N71="○",T71="○"),単価!$J$26,AND(J71="Ⅰ",N71="○",P71="○",R71="○",T71="○"),単価!$J$25,AND(J71="Ⅰ",N71="○",R71="○",T71="○"),単価!$J$24,AND(J71="Ⅰ",N71="○",P71="○",T71="○"),単価!$J$23,AND(J71="Ⅰ",N71="○",T71="○"),単価!$J$22,AND(J71="Ⅰ",L71="○",P71="○",R71="○",T71="○"),単価!$J$25,AND(J71="Ⅰ",L71="○",R71="○",T71="○"),単価!$J$24,AND(J71="Ⅰ",L71="○",P71="○",T71="○"),単価!$J$23,AND(J71="Ⅰ",L71="○",T71="○"),単価!$J$22,AND(J71="Ⅰ",P71="○",R71="○",T71="○"),単価!$J$21,AND(J71="Ⅰ",R71="○",T71="○"),単価!$J$20,AND(J71="Ⅰ",P71="○",T71="○"),単価!$J$19,AND(J71="Ⅰ",T71="○"),単価!$J$18,TRUE,0)} -> 0
A73: 11 | T73: ○ | V73: {=_xlfn.IFS(AND(J73="Ⅱ",L73="○",N73="○",P73="○",R73="○",T73="○"),単価!$J$41,AND(J73="Ⅱ",L73="○",N73="○",R73="○",T73="○"),単価!$J$40,AND(J73="Ⅱ",L73="○",N73="○",P73="○",T73="○"),単価!$J$39,AND(J73="Ⅱ",L73="○",N73="○",T73="○"),単価!$J$38,AND(J73="Ⅱ",N73="○",P73="○",R73="○",T73="○"),単価!$J$37,AND(J73="Ⅱ",N73="○",R73="○",T73="○"),単価!$J$36,AND(J73="Ⅱ",N73="○",P73="○",T73="○"),単価!$J$35,AND(J73="Ⅱ",N73="○",T73="○"),単価!$J$34,AND(J73="Ⅱ",L73="○",P73="○",R73="○",T73="○"),単価!$J$37,AND(J73="Ⅱ",L73="○",R73="○",T73="○"),単価!$J$36,AND(J73="Ⅱ",L73="○",P73="○",T73="○"),単価!$J$35,AND(J73="Ⅱ",L73="○",T73="○"),単価!$J$34,AND(J73="Ⅱ",P73="○",R73="○",T73="○"),単価!$J$33,AND(J73="Ⅱ",R73="○",T73="○"),単価!$J$32,AND(J73="Ⅱ",P73="○",T73="○"),単価!$J$31,AND(J73="Ⅱ",T73="○"),単価!$J$30,AND(J73="Ⅰ",L73="○",N73="○",P73="○",R73="○",T73="○"),単価!$J$29,AND(J73="Ⅰ",L73="○",N73="○",R73="○",T73="○"),単価!$J$28,AND(J73="Ⅰ",L73="○",N73="○",P73="○",T73="○"),単価!$J$27,AND(J73="Ⅰ",L73="○",N73="○",T73="○"),単価!$J$26,AND(J73="Ⅰ",N73="○",P73="○",R73="○",T73="○"),単価!$J$25,AND(J73="Ⅰ",N73="○",R73="○",T73="○"),単価!$J$24,AND(J73="Ⅰ",N73="○",P73="○",T73="○"),単価!$J$23,AND(J73="Ⅰ",N73="○",T73="○"),単価!$J$22,AND(J73="Ⅰ",L73="○",P73="○",R73="○",T73="○"),単価!$J$25,AND(J73="Ⅰ",L73="○",R73="○",T73="○"),単価!$J$24,AND(J73="Ⅰ",L73="○",P73="○",T73="○"),単価!$J$23,AND(J73="Ⅰ",L73="○",T73="○"),単価!$J$22,AND(J73="Ⅰ",P73="○",R73="○",T73="○"),単価!$J$21,AND(J73="Ⅰ",R73="○",T73="○"),単価!$J$20,AND(J73="Ⅰ",P73="○",T73="○"),単価!$J$19,AND(J73="Ⅰ",T73="○"),単価!$J$18,TRUE,0)} -> 0
A75: 12 | T75: ○ | V75: {=_xlfn.IFS(AND(J75="Ⅱ",L75="○",N75="○",P75="○",R75="○",T75="○"),単価!$J$41,AND(J75="Ⅱ",L75="○",N75="○",R75="○",T75="○"),単価!$J$40,AND(J75="Ⅱ",L75="○",N75="○",P75="○",T75="○"),単価!$J$39,AND(J75="Ⅱ",L75="○",N75="○",T75="○"),単価!$J$38,AND(J75="Ⅱ",N75="○",P75="○",R75="○",T75="○"),単価!$J$37,AND(J75="Ⅱ",N75="○",R75="○",T75="○"),単価!$J$36,AND(J75="Ⅱ",N75="○",P75="○",T75="○"),単価!$J$35,AND(J75="Ⅱ",N75="○",T75="○"),単価!$J$34,AND(J75="Ⅱ",L75="○",P75="○",R75="○",T75="○"),単価!$J$37,AND(J75="Ⅱ",L75="○",R75="○",T75="○"),単価!$J$36,AND(J75="Ⅱ",L75="○",P75="○",T75="○"),単価!$J$35,AND(J75="Ⅱ",L75="○",T75="○"),単価!$J$34,AND(J75="Ⅱ",P75="○",R75="○",T75="○"),単価!$J$33,AND(J75="Ⅱ",R75="○",T75="○"),単価!$J$32,AND(J75="Ⅱ",P75="○",T75="○"),単価!$J$31,AND(J75="Ⅱ",T75="○"),単価!$J$30,AND(J75="Ⅰ",L75="○",N75="○",P75="○",R75="○",T75="○"),単価!$J$29,AND(J75="Ⅰ",L75="○",N75="○",R75="○",T75="○"),単価!$J$28,AND(J75="Ⅰ",L75="○",N75="○",P75="○",T75="○"),単価!$J$27,AND(J75="Ⅰ",L75="○",N75="○",T75="○"),単価!$J$26,AND(J75="Ⅰ",N75="○",P75="○",R75="○",T75="○"),単価!$J$25,AND(J75="Ⅰ",N75="○",R75="○",T75="○"),単価!$J$24,AND(J75="Ⅰ",N75="○",P75="○",T75="○"),単価!$J$23,AND(J75="Ⅰ",N75="○",T75="○"),単価!$J$22,AND(J75="Ⅰ",L75="○",P75="○",R75="○",T75="○"),単価!$J$25,AND(J75="Ⅰ",L75="○",R75="○",T75="○"),単価!$J$24,AND(J75="Ⅰ",L75="○",P75="○",T75="○"),単価!$J$23,AND(J75="Ⅰ",L75="○",T75="○"),単価!$J$22,AND(J75="Ⅰ",P75="○",R75="○",T75="○"),単価!$J$21,AND(J75="Ⅰ",R75="○",T75="○"),単価!$J$20,AND(J75="Ⅰ",P75="○",T75="○"),単価!$J$19,AND(J75="Ⅰ",T75="○"),単価!$J$18,TRUE,0)} -> 0
... A81: 15 | T81: ○ | V81: {=_xlfn.IFS(AND(J81="Ⅱ",L81="○",N81="○",P81="○",R81="○",T81="○"),単価!$J$41,AND(J81="Ⅱ",L81="○",N81="○",R81="○",T81="○"),単価!$J$40,AND(J81="Ⅱ",L81="○",N81="○",P81="○",T81="○"),単価!$J$39,AND(J81="Ⅱ",L81="○",N81="○",T81="○"),単価!$J$38,AND(J81="Ⅱ",N81="○",P81="○",R81="○",T81="○"),単価!$J$37,AND(J81="Ⅱ",N81="○",R81="○",T81="○"),単価!$J$36,AND(J81="Ⅱ",N81="○",P81="○",T81="○"),単価!$J$35,AND(J81="Ⅱ",N81="○",T81="○"),単価!$J$34,AND(J81="Ⅱ",L81="○",P81="○",R81="○",T81="○"),単価!$J$37,AND(J81="Ⅱ",L81="○",R81="○",T81="○"),単価!$J$36,AND(J81="Ⅱ",L81="○",P81="○",T81="○"),単価!$J$35,AND(J81="Ⅱ",L81="○",T81="○"),単価!$J$34,AND(J81="Ⅱ",P81="○",R81="○",T81="○"),単価!$J$33,AND(J81="Ⅱ",R81="○",T81="○"),単価!$J$32,AND(J81="Ⅱ",P81="○",T81="○"),単価!$J$31,AND(J81="Ⅱ",T81="○"),単価!$J$30,AND(J81="Ⅰ",L81="○",N81="○",P81="○",R81="○",T81="○"),単価!$J$29,AND(J81="Ⅰ",L81="○",N81="○",R81="○",T81="○"),単価!$J$28,AND(J81="Ⅰ",L81="○",N81="○",P81="○",T81="○"),単価!$J$27,AND(J81="Ⅰ",L81="○",N81="○",T81="○"),単価!$J$26,AND(J81="Ⅰ",N81="○",P81="○",R81="○",T81="○"),単価!$J$25,AND(J81="Ⅰ",N81="○",R81="○",T81="○"),単価!$J$24,AND(J81="Ⅰ",N81="○",P81="○",T81="○"),単価!$J$23,AND(J81="Ⅰ",N81="○",T81="○"),単価!$J$22,AND(J81="Ⅰ",L81="○",P81="○",R81="○",T81="○"),単価!$J$25,AND(J81="Ⅰ",L81="○",R81="○",T81="○"),単価!$J$24,AND(J81="Ⅰ",L81="○",P81="○",T81="○"),単価!$J$23,AND(J81="Ⅰ",L81="○",T81="○"),単価!$J$22,AND(J81="Ⅰ",P81="○",R81="○",T81="○"),単価!$J$21,AND(J81="Ⅰ",R81="○",T81="○"),単価!$J$20,AND(J81="Ⅰ",P81="○",T81="○"),単価!$J$19,AND(J81="Ⅰ",T81="○"),単価!$J$18,TRUE,0)} -> 0
A83: 合計 | J83: =COUNTIF(J53:K82,"Ⅰ")+COUNTIF(J53:K82,"Ⅱ") -> 0 | L83: =COUNTIF(L53:M82,"○") -> 0 | N83: =COUNTIF(N53:O82,"○") -> 0 | P83: =COUNTIF(P53:Q82,"○") -> 0 | R83: =COUNTIF(R53:S82,"○") -> 0 | V83: =SUM(V53:W82) -> 0 | X83: =COUNTIF(X53:Y82,"○") -> 0
F85: ケアマネジメント費（Ⅰ） | J85: =COUNTIF(J53:K82,"Ⅰ") -> 0 | L85: =COUNTIFS(J53:K82,"Ⅰ",L53:M82,"○") -> 0 | N85: =COUNTIFS(J53:K82,"Ⅰ",N53:O82,"○") -> 0
F86: ケアマネジメント費（Ⅱ） | J86: =COUNTIF(J53:K82,"Ⅱ") -> 0 | L86: =COUNTIFS(J53:K82,"Ⅱ",L53:M82,"○") -> 0 | N86: =COUNTIFS(J53:K82,"Ⅱ",N53:O82,"○") -> 0

Sheet 単価
A2: 地域単価 | B2: 10.7 | D2: 委託率 | E2: 0.8
A4: 1件当たりの委託料 | B4: 計算式：報酬額＝単位×地域単価、委託料＝報酬額×委託率
A5: 区分 | B5: 単位 | C5: 報酬額 （切り捨て後） | D5: 委託率反映後 （切り捨て後） | E5: 委託料
A6: 支援費及びケアマネジメント費（Ⅰ） | B6: 442 | C6: =ROUNDDOWN(B6*B2,0) -> 4729 | D6: =ROUNDDOWN(C6*$E$2,0) -> 3783 | E6: =D6 -> 3783
A7: 高齢者虐待防止措置未実施減算 | B7: -4 | C7: =ROUNDDOWN((B6+B7)*B2,0)-ROUNDDOWN(B6*B2,0) -> -43 | D7: =ROUNDDOWN(C7*$E$2,0) -> -34 | E7: =D7 -> -34
A8: 業務継続計画未策定減算 | B8: -4 | C8: =ROUNDDOWN((B6+B8)*B2,0)-ROUNDDOWN(B6*B2,0) -> -43 | D8: =ROUNDDOWN(C8*$E$2,0) -> -34 | E8: =D8 -> -34
A9: ケアマネジメント費（Ⅱ） | B9: 472 | C9: =ROUNDDOWN(B9*B2,0) -> 5050 | D9: =ROUNDDOWN(C9*$E$2,0) -> 4040 | E9: =D9 -> 4040
A10: 高齢者虐待防止措置未実施減算 | B10: -5 | C10: =ROUNDDOWN((B9+B10)*B2,0)-ROUNDDOWN(B9*B2,0) -> -54 | D10: =ROUNDDOWN(C10*$E$2,0) -> -43 | E10: =D10 -> -43
A11: 業務継続計画未策定減算 | B11: -5 | C11: =ROUNDDOWN((B9+B11)*B2,0)-ROUNDDOWN(B9*B2,0) -> -54 | D11: =ROUNDDOWN(C11*$E$2,0) -> -43 | E11: =D11 -> -43
A12: 初回加算 | B12: 300 | C12: =ROUNDDOWN(B12*B2,0) -> 3210 | D12: =ROUNDDOWN(C12*$E$2,0) -> 2568 | E12: =D12 -> 2568
A13: 委託連携加算 | B13: 300 | C13: =ROUNDDOWN(B13*B2,0) -> 3210 | D13: =ROUNDDOWN(C13*$E$2,0) -> 2568 | E13: =D13 -> 2568
A14: ※単位数は、京都市総合事業（介護予防ケアマネジメント） サービスコード表を参照
A16: 処遇改善加算額 | B16: 計算式：報酬額＝単位×地域単価、委託料＝報酬額×委託率
B17: 初回 | C17: 委託連携 | D17: 処遇改善 | E17: 算定パターン | F17: 単位数 | G17: 合計 単位数 | H17: 報酬額 （切り捨て後） | I17: 委託料 （処遇改善加算込み） | J17: 委託料に おける加算額
A18: Ⅰ | B18: なし | C18: なし | D18: あり | E18: 1 | F18: 9 | G18: =B$6+F18 -> 451 | H18: =ROUNDDOWN(G18*$B$2,0) -> 4825 | I18: =ROUNDDOWN(H18*E$2,0) -> 3860 | J18: =I18-D6 -> 77
B19: あり | C19: なし | D19: あり | E19: 4 | F19: 16 | G19: =B$6+B12+F19 -> 758 | H19: =ROUNDDOWN(G19*$B$2,0) -> 8110 | I19: =ROUNDDOWN(H19*E$2,0) -> 6488 | J19: =I19-(D6+D12) -> 137
B20: なし | C20: あり | D20: あり | E20: 4 | F20: 16 | G20: =B$6+B13+F20 -> 758 | H20: =ROUNDDOWN(G20*$B$2,0) -> 8110 | I20: =ROUNDDOWN(H20*E$2,0) -> 6488 | J20: =I20-(D6+D13) -> 137
B21: あり | C21: あり | D21: あり | E21: 5 | F21: 22 | G21: =B$6+B12+B13+F21 -> 1064 | H21: =ROUNDDOWN(G21*$B$2,0) -> 11384 | I21: =ROUNDDOWN(H21*E$2,0) -> 9107 | J21: =I21-(D6+D12+D13) -> 188
A22: Ⅰ 減算どちらか１つ | B22: なし | C22: なし | D22: あり | E22: 1 | F22: 9 | G22: =B$6+B$7+F22 -> 447 | H22: =ROUNDDOWN(G22*$B$2,0) -> 4782 | I22: =ROUNDDOWN(H22*E$2,0) -> 3825 | J22: =I22-(D6+D7) -> 76
B23: あり | C23: なし | D23: あり | E23: 3 | F23: 15 | G23: =B$6+B$7+B12+F23 -> 753 | H23: =ROUNDDOWN(G23*$B$2,0) -> 8057 | I23: =ROUNDDOWN(H23*E$2,0) -> 6445 | J23: =I23-(D6+D7+D12) -> 128
B24: なし | C24: あり | D24: あり | E24: 3 | F24: 15 | G24: =B$6+B$7+B13+F24 -> 753 | H24: =ROUNDDOWN(G24*$B$2,0) -> 8057 | I24: =ROUNDDOWN(H24*E$2,0) -> 6445 | J24: =I24-(D6+D8+D13) -> 128
B25: あり | C25: あり | D25: あり | E25: 5 | F25: 22 | G25: =B$6+B$7+B12+B13+F25 -> 1060 | H25: =ROUNDDOWN(G25*$B$2,0) -> 11342 | I25: =ROUNDDOWN(H25*E$2,0) -> 9073 | J25: =I25-(D6+D7+D12+D13) -> 188
A26: Ⅰ 減算どちらも | B26: なし | C26: なし | D26: あり | E26: 1 | F26: 9 | G26: =B$6+B$7+B$8+F26 -> 443 | H26: =ROUNDDOWN(G26*$B$2,0) -> 4740 | I26: =ROUNDDOWN(H26*E$2,0) -> 3792 | J26: =I26-(D6+D7+D8) -> 77
B27: あり | C27: なし | D27: あり | E27: 3 | F27: 15 | G27: =B$6+B$7+B$8+B12+F27 -> 749 | H27: =ROUNDDOWN(G27*$B$2,0) -> 8014 | I27: =ROUNDDOWN(H27*E$2,0) -> 6411 | J27: =I27-(D6+D7+D8+D12) -> 128
B28: なし | C28: あり | D28: あり | E28: 3 | F28: 15 | G28: =B$6+B$7+B$8+B13+F28 -> 749 | H28: =ROUNDDOWN(G28*$B$2,0) -> 8014 | I28: =ROUNDDOWN(H28*E$2,0) -> 6411 | J28: =I28-(D6+D7+D8+D13) -> 128
B29: あり | C29: あり | D29: あり | E29: 5 | F29: 22 | G29: =B$6+B$7+B$8+B12+B13+F29 -> 1056 | H29: =ROUNDDOWN(G29*$B$2,0) -> 11299 | I29: =ROUNDDOWN(H29*E$2,0) -> 9039 | J29: =I29-(D6+D7+D8+D12+D13) -> 188
A30: Ⅱ | B30: なし | C30: なし | D30: あり | E30: 2 | F30: 10 | G30: =B$9+F30 -> 482 | H30: =ROUNDDOWN(G30*$B$2,0) -> 5157 | I30: =ROUNDDOWN(H30*E$2,0) -> 4125 | J30: =I30-D9 -> 85
B31: あり | C31: なし | D31: あり | E31: 4 | F31: 16 | G31: =B$9+B12+F31 -> 788 | H31: =ROUNDDOWN(G31*$B$2,0) -> 8431 | I31: =ROUNDDOWN(H31*E$2,0) -> 6744 | J31: =I31-(D9+D12) -> 136
B32: なし | C32: あり | D32: あり | E32: 4 | F32: 16 | G32: =B$9+B13+F32 -> 788 | H32: =ROUNDDOWN(G32*$B$2,0) -> 8431 | I32: =ROUNDDOWN(H32*E$2,0) -> 6744 | J32: =I32-(D9+D13) -> 136
B33: あり | C33: あり | D33: あり | E33: 6 | F33: 23 | G33: =B$9+B12+B13+F33 -> 1095 | H33: =ROUNDDOWN(G33*$B$2,0) -> 11716 | I33: =ROUNDDOWN(H33*E$2,0) -> 9372 | J33: =I33-(D9+D12+D13) -> 196
A34: Ⅱ 減算どちらか１つ | B34: なし | C34: なし | D34: あり | E34: 2 | F34: 10 | G34: =B$9+B$10+F34 -> 477 | H34: =ROUNDDOWN(G34*$B$2,0) -> 5103 | I34: =ROUNDDOWN(H34*E$2,0) -> 4082 | J34: =I34-(D9+D10) -> 85
B35: あり | C35: なし | D35: あり | E35: 4 | F35: 16 | G35: =B$9+B$10+B12+F35 -> 783 | H35: =ROUNDDOWN(G35*$B$2,0) -> 8378 | I35: =ROUNDDOWN(H35*E$2,0) -> 6702 | J35: =I35-(D9+D10+D12) -> 137
B36: なし | C36: あり | D36: あり | E36: 4 | F36: 16 | G36: =B$9+B$10+B13+F36 -> 783 | H36: =ROUNDDOWN(G36*$B$2,0) -> 8378 | I36: =ROUNDDOWN(H36*E$2,0) -> 6702 | J36: =I36-(D9+D10+D13) -> 137
B37: あり | C37: あり | D37: あり | E37: 5 | F37: 22 | G37: =B$9+B$10+B12+B13+F37 -> 1089 | H37: =ROUNDDOWN(G37*$B$2,0) -> 11652 | I37: =ROUNDDOWN(H37*E$2,0) -> 9321 | J37: =I37-(D9+D10+D12+D13) -> 188
A38: Ⅱ 減算どちらも | B38: なし | C38: なし | D38: あり | E38: 2 | F38: 10 | G38: =B$9+B$10+B$11+F38 -> 472 | H38: =ROUNDDOWN(G38*$B$2,0) -> 5050 | I38: =ROUNDDOWN(H38*E$2,0) -> 4040 | J38: =I38-(D9+D10+D11) -> 86
B39: あり | C39: なし | D39: あり | E39: 4 | F39: 16 | G39: =B$9+B$10+B$11+B12+F39 -> 778 | H39: =ROUNDDOWN(G39*$B$2,0) -> 8324 | I39: =ROUNDDOWN(H39*E$2,0) -> 6659 | J39: =I39-(D9+D10+D11+D12) -> 137
B40: なし | C40: あり | D40: あり | E40: 4 | F40: 16 | G40: =B$9+B$10+B$11+B13+F40 -> 778 | H40: =ROUNDDOWN(G40*$B$2,0) -> 8324 | I40: =ROUNDDOWN(H40*E$2,0) -> 6659 | J40: =I40-(D9+D10+D11+D13) -> 137
B41: あり | C41: あり | D41: あり | E41: 5 | F41: 22 | G41: =B$9+B$10+B$11+B12+B13+F41 -> 1084 | H41: =ROUNDDOWN(G41*$B$2,0) -> 11598 | I41: =ROUNDDOWN(H41*E$2,0) -> 9278 | J41: =I41-(D9+D10+D11+D12+D13) -> 188
A42: ※算定パターン及び単位数は、京都市総合事業（介護予防ケアマネジメント） サービスコード表を参照
A44: 処遇改善加算額込みの1件当たりの委託料（減算事由に該当しない場合） | J44: 自立支援加算 | K44: 計算式：報酬額＝単位×地域単価、委託料＝報酬額×委託率
B45: 参考値 （委託率8割） | C45: 委託料 | J45: 単位 | K45: 報酬額 | L45: 委託率反映後 | M45: 委託料(自立支援加算)
A46: Ⅰのみ | B46: 3860 | C46: =E6+J18 -> 3860 | J46: 5000 | K46: =J46*B2 -> 53500 | L46: =K46*E2 -> 42800 | M46: =L46 -> 42800
A47: Ⅰ、初回 | B47: 6488 | C47: =E6+E12+J19 -> 6488
A48: Ⅰ、委託連携 | B48: 6488 | C48: =E6+E13+J20 -> 6488
A49: Ⅰ、初回、委託連携加算 | B49: 9107 | C49: =E6+E12+E13+J21 -> 9107
A50: 支援費Ⅱのみ | B50: 4125 | C50: =E9+J30 -> 4125
A51: 支援費Ⅱ、初回 | B51: 6744 | C51: =E9+E12+J31 -> 6744
A52: 支援費Ⅱ、委託連携 | B52: 6744 | C52: =E9+E13+J32 -> 6744
A53: 全て | B53: 9372 | C53: =E9+E12+E13+J33 -> 9372

Sheet 【記載例】請求書 
N2: 京都市参考様式
B4: 介護予防支援及び介護予防ケアマネジメント委託業務請求書
G6: （令和○年●月分）
L8: 令和○年 ●月 △日
A10: （あて先）
A11: ○○○○法人 □□□□
A12: （京都市○○地域包括支援センター）
H13: （請求者）
I14: 所在地： | J14: 〒○○○‐○○○ 京都市○○区○○通○○町○○番地
I17: 法人名： | J17: ●●●●法人 ■■■■
I18: 事業所名： | J18: 居宅介護支援事業所 ●●
I19: 登録番号： | J19: T0123456789012
I20: 代表者氏名： | J20: △△ ▲▲
D23: 請求額 | F23: 千 | G23: 百 | H23: 十 | I23: 万 | J23: 千 | K23: 百 | L23: 十 | M23: 円
F24: =LEFT(RIGHT(TEXT($L$45," \0;;"),9-COLUMN(A1))) | G24: =LEFT(RIGHT(TEXT($L$45," \0;;"),9-COLUMN(B1))) -> ¥ | H24: =LEFT(RIGHT(TEXT($L$45," \0;;"),9-COLUMN(C1))) -> 1 | I24: =LEFT(RIGHT(TEXT($L$45," \0;;"),9-COLUMN(D1))) -> 4 | J24: =LEFT(RIGHT(TEXT($L$45," \0;;"),9-COLUMN(E1))) -> 0 | K24: =LEFT(RIGHT(TEXT($L$45," \0;;"),9-COLUMN(F1))) -> 3 | L24: =LEFT(RIGHT(TEXT($L$45," \0;;"),9-COLUMN(G1))) -> 9 | M24: =LEFT(RIGHT(TEXT($L$45," \0;;"),9-COLUMN(H1))) -> 0
B26: 請求内訳
B27: 内訳 | F27: 委託単価 | I27: 件数 | L27: 金額
B28: 介護予防支援 | C28: 支援費（Ⅰ） | F28: =単価!$E$6 -> 3783 | I28: ='【記載例】報告書 '!J47 -> 7 | L28: =F28*I28 -> 26481
C29: 高齢者虐待防止措置未実施減算 | F29: =単価!$E$7 -> -34 | I29: ='【記載例】報告書 '!L47 -> 0 | L29: =F29*I29 -> 0
C30: 業務継続計画未策定減算 | F30: =単価!$E$8 -> -34 | I30: ='【記載例】報告書 '!N47 -> 0 | L30: =F30*I30 -> 0
C31: 初回加算 | F31: =単価!$E$12 -> 2568 | I31: ='【記載例】報告書 '!P47 -> 2 | L31: =F31*I31 -> 5136
C32: 委託連携加算 | F32: =単価!$E$13 -> 2568 | I32: ='【記載例】報告書 '!R47 -> 3 | L32: =F32*I32 -> 7704
C33: 計 | L33: =SUM(L28:O32) -> 39321
B34: 介護予防ケアマネジメント | C34: ケアマネジメント費（Ⅰ） | F34: =単価!$E$6 -> 3783 | I34: ='【記載例】報告書 '!J85 -> 4 | L34: =F34*I34 -> 15132
C35: ケアマネジメント費（Ⅱ） | F35: =単価!$E$9 -> 4040 | I35: ='【記載例】報告書 '!J86 -> 4 | L35: =F35*I35 -> 16160
C36: 高齢者虐待防止措置未実施減算 | F36: =単価!$E$10 -> -43 | I36: ='【記載例】報告書 '!L83 -> 0 | L36: =F36*I36 -> 0
C37: 業務継続計画未策定減算 | F37: =単価!$E$11 -> -43 | I37: ='【記載例】報告書 '!N83 -> 0 | L37: =F37*I37 -> 0
C38: 初回加算 | F38: =単価!$E$12 -> 2568 | I38: ='【記載例】報告書 '!P83 -> 3 | L38: =F38*I38 -> 7704
C39: 委託連携加算 | F39: =単価!$E$13 -> 2568 | I39: ='【記載例】報告書 '!R83 -> 2 | L39: =F39*I39 -> 5136
C40: 計 | L40: =SUM(L34:O39) -> 44132
B41: 処遇改善加算 | L41: ='【記載例】報告書 '!V47+'【記載例】報告書 '!V83 -> 1375
B42: 自立支援加算 | L42: =単価!M46*('【記載例】報告書 '!X47+'【記載例】報告書 '!X83) -> 42800
B43: 合計（税抜き） | L43: =L33+L40+L41+L42 -> 127628 | Q43: ←「仕様書別表の合計委託料×報告件数」の種別ごとの足し上げ
B44: 消費税 | L44: =ROUNDDOWN(L43*0.1,0) -> 12762
B45: 合計 | L45: =ROUNDDOWN(L43*1.1,0) -> 140390
A47: 振込先
A48: 金融機関名・金融機関コード | D48: 店舗名・支店番号 | G48: 預金種目 | J48: 口座番号
A49: ○○銀行 1234 | D49: ○○支店 123 | G49: 普通（総合） 当座 貯蓄 その他 | J49: 1 | K49: 2 | L49: 3 | M49: 4 | N49: 5 | O49: 6 | P49: 7
A50: 口座名義 （フリガナ） | D50: ○○○○○○○○
A52: 口座名義 （漢字等） | D52: ○○○○○○○○

Sheet 【記載例】報告書 
W2: 京都市参考様式
C4: 介護予防支援及び介護予防ケアマネジメント委託業務報告書
F6: （令和○年●月分）
T7: 令和○年 ●月 △日
A8: あて先
A9: ='【記載例】請求書 '!A11 -> ○○○○法人 □□□□
A10: ='【記載例】請求書 '!A12 -> （京都市○○地域包括支援センター）
P12: 事業所名： | R12: ='【記載例】請求書 '!J18 -> 居宅介護支援事業所 ●●
A14: 介護予防支援
A15: No. | B15: 計画作成 年月 | D15: 被保険者番号 | G15: 氏名 | J15: 支援費 | L15: 虐防減算 | N15: 業未減算 | P15: 初回 | R15: 委託連携 | T15: 処遇改善 | V15: 処遇改善 加算額 | X15: 自立支援 加算
A17: 1 | B17: ○年●月 | D17: 1234567890 | G17: △△ ▲▲ | J17: Ⅰ | T17: ○ | V17: {=_xlfn.IFS(AND(J17="Ⅱ",L17="○",N17="○",P17="○",R17="○",T17="○"),単価!$J$41,AND(J17="Ⅱ",L17="○",N17="○",R17="○",T17="○"),単価!$J$40,AND(J17="Ⅱ",L17="○",N17="○",P17="○",T17="○"),単価!$J$39,AND(J17="Ⅱ",L17="○",N17="○",T17="○"),単価!$J$38,AND(J17="Ⅱ",N17="○",P17="○",R17="○",T17="○"),単価!$J$37,AND(J17="Ⅱ",N17="○",R17="○",T17="○"),単価!$J$36,AND(J17="Ⅱ",N17="○",P17="○",T17="○"),単価!$J$35,AND(J17="Ⅱ",N17="○",T17="○"),単価!$J$34,AND(J17="Ⅱ",L17="○",P17="○",R17="○",T17="○"),単価!$J$37,AND(J17="Ⅱ",L17="○",R17="○",T17="○"),単価!$J$36,AND(J17="Ⅱ",L17="○",P17="○",T17="○"),単価!$J$35,AND(J17="Ⅱ",L17="○",T17="○"),単価!$J$34,AND(J17="Ⅱ",P17="○",R17="○",T17="○"),単価!$J$33,AND(J17="Ⅱ",R17="○",T17="○"),単価!$J$32,AND(J17="Ⅱ",P17="○",T17="○"),単価!$J$31,AND(J17="Ⅱ",T17="○"),単価!$J$30,AND(J17="Ⅰ",L17="○",N17="○",P17="○",R17="○",T17="○"),単価!$J$29,AND(J17="Ⅰ",L17="○",N17="○",R17="○",T17="○"),単価!$J$28,AND(J17="Ⅰ",L17="○",N17="○",P17="○",T17="○"),単価!$J$27,AND(J17="Ⅰ",L17="○",N17="○",T17="○"),単価!$J$26,AND(J17="Ⅰ",N17="○",P17="○",R17="○",T17="○"),単価!$J$25,AND(J17="Ⅰ",N17="○",R17="○",T17="○"),単価!$J$24,AND(J17="Ⅰ",N17="○",P17="○",T17="○"),単価!$J$23,AND(J17="Ⅰ",N17="○",T17="○"),単価!$J$22,AND(J17="Ⅰ",L17="○",P17="○",R17="○",T17="○"),単価!$J$25,AND(J17="Ⅰ",L17="○",R17="○",T17="○"),単価!$J$24,AND(J17="Ⅰ",L17="○",P17="○",T17="○"),単価!$J$23,AND(J17="Ⅰ",L17="○",T17="○"),単価!$J$22,AND(J17="Ⅰ",P17="○",R17="○",T17="○"),単価!$J$21,AND(J17="Ⅰ",R17="○",T17="○"),単価!$J$20,AND(J17="Ⅰ",P17="○",T17="○"),単価!$J$19,AND(J17="Ⅰ",T17="○"),単価!$J$18,TRUE,0)} -> 77
A19: 2 | B19: ○年●月 | D19: 2345678901 | G19: ▲▲ △△ | J19: Ⅰ | P19: ○ | T19: ○ | V19: {=_xlfn.IFS(AND(J19="Ⅱ",L19="○",N19="○",P19="○",R19="○",T19="○"),単価!$J$41,AND(J19="Ⅱ",L19="○",N19="○",R19="○",T19="○"),単価!$J$40,AND(J19="Ⅱ",L19="○",N19="○",P19="○",T19="○"),単価!$J$39,AND(J19="Ⅱ",L19="○",N19="○",T19="○"),単価!$J$38,AND(J19="Ⅱ",N19="○",P19="○",R19="○",T19="○"),単価!$J$37,AND(J19="Ⅱ",N19="○",R19="○",T19="○"),単価!$J$36,AND(J19="Ⅱ",N19="○",P19="○",T19="○"),単価!$J$35,AND(J19="Ⅱ",N19="○",T19="○"),単価!$J$34,AND(J19="Ⅱ",L19="○",P19="○",R19="○",T19="○"),単価!$J$37,AND(J19="Ⅱ",L19="○",R19="○",T19="○"),単価!$J$36,AND(J19="Ⅱ",L19="○",P19="○",T19="○"),単価!$J$35,AND(J19="Ⅱ",L19="○",T19="○"),単価!$J$34,AND(J19="Ⅱ",P19="○",R19="○",T19="○"),単価!$J$33,AND(J19="Ⅱ",R19="○",T19="○"),単価!$J$32,AND(J19="Ⅱ",P19="○",T19="○"),単価!$J$31,AND(J19="Ⅱ",T19="○"),単価!$J$30,AND(J19="Ⅰ",L19="○",N19="○",P19="○",R19="○",T19="○"),単価!$J$29,AND(J19="Ⅰ",L19="○",N19="○",R19="○",T19="○"),単価!$J$28,AND(J19="Ⅰ",L19="○",N19="○",P19="○",T19="○"),単価!$J$27,AND(J19="Ⅰ",L19="○",N19="○",T19="○"),単価!$J$26,AND(J19="Ⅰ",N19="○",P19="○",R19="○",T19="○"),単価!$J$25,AND(J19="Ⅰ",N19="○",R19="○",T19="○"),単価!$J$24,AND(J19="Ⅰ",N19="○",P19="○",T19="○"),単価!$J$23,AND(J19="Ⅰ",N19="○",T19="○"),単価!$J$22,AND(J19="Ⅰ",L19="○",P19="○",R19="○",T19="○"),単価!$J$25,AND(J19="Ⅰ",L19="○",R19="○",T19="○"),単価!$J$24,AND(J19="Ⅰ",L19="○",P19="○",T19="○"),単価!$J$23,AND(J19="Ⅰ",L19="○",T19="○"),単価!$J$22,AND(J19="Ⅰ",P19="○",R19="○",T19="○"),単価!$J$21,AND(J19="Ⅰ",R19="○",T19="○"),単価!$J$20,AND(J19="Ⅰ",P19="○",T19="○"),単価!$J$19,AND(J19="Ⅰ",T19="○"),単価!$J$18,TRUE,0)} -> 137
A21: 3 | B21: ○年●月 | D21: 3456789012 | G21: □□ ■■ | J21: Ⅰ | R21: ○ | T21: ○ | V21: {=_xlfn.IFS(AND(J21="Ⅱ",L21="○",N21="○",P21="○",R21="○",T21="○"),単価!$J$41,AND(J21="Ⅱ",L21="○",N21="○",R21="○",T21="○"),単価!$J$40,AND(J21="Ⅱ",L21="○",N21="○",P21="○",T21="○"),単価!$J$39,AND(J21="Ⅱ",L21="○",N21="○",T21="○"),単価!$J$38,AND(J21="Ⅱ",N21="○",P21="○",R21="○",T21="○"),単価!$J$37,AND(J21="Ⅱ",N21="○",R21="○",T21="○"),単価!$J$36,AND(J21="Ⅱ",N21="○",P21="○",T21="○"),単価!$J$35,AND(J21="Ⅱ",N21="○",T21="○"),単価!$J$34,AND(J21="Ⅱ",L21="○",P21="○",R21="○",T21="○"),単価!$J$37,AND(J21="Ⅱ",L21="○",R21="○",T21="○"),単価!$J$36,AND(J21="Ⅱ",L21="○",P21="○",T21="○"),単価!$J$35,AND(J21="Ⅱ",L21="○",T21="○"),単価!$J$34,AND(J21="Ⅱ",P21="○",R21="○",T21="○"),単価!$J$33,AND(J21="Ⅱ",R21="○",T21="○"),単価!$J$32,AND(J21="Ⅱ",P21="○",T21="○"),単価!$J$31,AND(J21="Ⅱ",T21="○"),単価!$J$30,AND(J21="Ⅰ",L21="○",N21="○",P21="○",R21="○",T21="○"),単価!$J$29,AND(J21="Ⅰ",L21="○",N21="○",R21="○",T21="○"),単価!$J$28,AND(J21="Ⅰ",L21="○",N21="○",P21="○",T21="○"),単価!$J$27,AND(J21="Ⅰ",L21="○",N21="○",T21="○"),単価!$J$26,AND(J21="Ⅰ",N21="○",P21="○",R21="○",T21="○"),単価!$J$25,AND(J21="Ⅰ",N21="○",R21="○",T21="○"),単価!$J$24,AND(J21="Ⅰ",N21="○",P21="○",T21="○"),単価!$J$23,AND(J21="Ⅰ",N21="○",T21="○"),単価!$J$22,AND(J21="Ⅰ",L21="○",P21="○",R21="○",T21="○"),単価!$J$25,AND(J21="Ⅰ",L21="○",R21="○",T21="○"),単価!$J$24,AND(J21="Ⅰ",L21="○",P21="○",T21="○"),単価!$J$23,AND(J21="Ⅰ",L21="○",T21="○"),単価!$J$22,AND(J21="Ⅰ",P21="○",R21="○",T21="○"),単価!$J$21,AND(J21="Ⅰ",R21="○",T21="○"),単価!$J$20,AND(J21="Ⅰ",P21="○",T21="○"),単価!$J$19,AND(J21="Ⅰ",T21="○"),単価!$J$18,TRUE,0)} -> 137
A23: 4 | B23: ○年●月 | D23: 4567890123 | G23: ■■ □□ | J23: Ⅰ | P23: ○ | R23: ○ | T23: ○ | V23: {=_xlfn.IFS(AND(J23="Ⅱ",L23="○",N23="○",P23="○",R23="○",T23="○"),単価!$J$41,AND(J23="Ⅱ",L23="○",N23="○",R23="○",T23="○"),単価!$J$40,AND(J23="Ⅱ",L23="○",N23="○",P23="○",T23="○"),単価!$J$39,AND(J23="Ⅱ",L23="○",N23="○",T23="○"),単価!$J$38,AND(J23="Ⅱ",N23="○",P23="○",R23="○",T23="○"),単価!$J$37,AND(J23="Ⅱ",N23="○",R23="○",T23="○"),単価!$J$36,AND(J23="Ⅱ",N23="○",P23="○",T23="○"),単価!$J$35,AND(J23="Ⅱ",N23="○",T23="○"),単価!$J$34,AND(J23="Ⅱ",L23="○",P23="○",R23="○",T23="○"),単価!$J$37,AND(J23="Ⅱ",L23="○",R23="○",T23="○"),単価!$J$36,AND(J23="Ⅱ",L23="○",P23="○",T23="○"),単価!$J$35,AND(J23="Ⅱ",L23="○",T23="○"),単価!$J$34,AND(J23="Ⅱ",P23="○",R23="○",T23="○"),単価!$J$33,AND(J23="Ⅱ",R23="○",T23="○"),単価!$J$32,AND(J23="Ⅱ",P23="○",T23="○"),単価!$J$31,AND(J23="Ⅱ",T23="○"),単価!$J$30,AND(J23="Ⅰ",L23="○",N23="○",P23="○",R23="○",T23="○"),単価!$J$29,AND(J23="Ⅰ",L23="○",N23="○",R23="○",T23="○"),単価!$J$28,AND(J23="Ⅰ",L23="○",N23="○",P23="○",T23="○"),単価!$J$27,AND(J23="Ⅰ",L23="○",N23="○",T23="○"),単価!$J$26,AND(J23="Ⅰ",N23="○",P23="○",R23="○",T23="○"),単価!$J$25,AND(J23="Ⅰ",N23="○",R23="○",T23="○"),単価!$J$24,AND(J23="Ⅰ",N23="○",P23="○",T23="○"),単価!$J$23,AND(J23="Ⅰ",N23="○",T23="○"),単価!$J$22,AND(J23="Ⅰ",L23="○",P23="○",R23="○",T23="○"),単価!$J$25,AND(J23="Ⅰ",L23="○",R23="○",T23="○"),単価!$J$24,AND(J23="Ⅰ",L23="○",P23="○",T23="○"),単価!$J$23,AND(J23="Ⅰ",L23="○",T23="○"),単価!$J$22,AND(J23="Ⅰ",P23="○",R23="○",T23="○"),単価!$J$21,AND(J23="Ⅰ",R23="○",T23="○"),単価!$J$20,AND(J23="Ⅰ",P23="○",T23="○"),単価!$J$19,AND(J23="Ⅰ",T23="○"),単価!$J$18,TRUE,0)} -> 188
A25: 5 | B25: ○年●月 | D25: 5678901234 | G25: ▼▼ ▽▽ | J25: Ⅰ | T25: ○ | V25: {=_xlfn.IFS(AND(J25="Ⅱ",L25="○",N25="○",P25="○",R25="○",T25="○"),単価!$J$41,AND(J25="Ⅱ",L25="○",N25="○",R25="○",T25="○"),単価!$J$40,AND(J25="Ⅱ",L25="○",N25="○",P25="○",T25="○"),単価!$J$39,AND(J25="Ⅱ",L25="○",N25="○",T25="○"),単価!$J$38,AND(J25="Ⅱ",N25="○",P25="○",R25="○",T25="○"),単価!$J$37,AND(J25="Ⅱ",N25="○",R25="○",T25="○"),単価!$J$36,AND(J25="Ⅱ",N25="○",P25="○",T25="○"),単価!$J$35,AND(J25="Ⅱ",N25="○",T25="○"),単価!$J$34,AND(J25="Ⅱ",L25="○",P25="○",R25="○",T25="○"),単価!$J$37,AND(J25="Ⅱ",L25="○",R25="○",T25="○"),単価!$J$36,AND(J25="Ⅱ",L25="○",P25="○",T25="○"),単価!$J$35,AND(J25="Ⅱ",L25="○",T25="○"),単価!$J$34,AND(J25="Ⅱ",P25="○",R25="○",T25="○"),単価!$J$33,AND(J25="Ⅱ",R25="○",T25="○"),単価!$J$32,AND(J25="Ⅱ",P25="○",T25="○"),単価!$J$31,AND(J25="Ⅱ",T25="○"),単価!$J$30,AND(J25="Ⅰ",L25="○",N25="○",P25="○",R25="○",T25="○"),単価!$J$29,AND(J25="Ⅰ",L25="○",N25="○",R25="○",T25="○"),単価!$J$28,AND(J25="Ⅰ",L25="○",N25="○",P25="○",T25="○"),単価!$J$27,AND(J25="Ⅰ",L25="○",N25="○",T25="○"),単価!$J$26,AND(J25="Ⅰ",N25="○",P25="○",R25="○",T25="○"),単価!$J$25,AND(J25="Ⅰ",N25="○",R25="○",T25="○"),単価!$J$24,AND(J25="Ⅰ",N25="○",P25="○",T25="○"),単価!$J$23,AND(J25="Ⅰ",N25="○",T25="○"),単価!$J$22,AND(J25="Ⅰ",L25="○",P25="○",R25="○",T25="○"),単価!$J$25,AND(J25="Ⅰ",L25="○",R25="○",T25="○"),単価!$J$24,AND(J25="Ⅰ",L25="○",P25="○",T25="○"),単価!$J$23,AND(J25="Ⅰ",L25="○",T25="○"),単価!$J$22,AND(J25="Ⅰ",P25="○",R25="○",T25="○"),単価!$J$21,AND(J25="Ⅰ",R25="○",T25="○"),単価!$J$20,AND(J25="Ⅰ",P25="○",T25="○"),単価!$J$19,AND(J25="Ⅰ",T25="○"),単価!$J$18,TRUE,0)} -> 77
A27: 6 | B27: ○年●月 | D27: 6789012345 | G27: ▽▽ ▼▼ | J27: Ⅰ | V27: {=_xlfn.IFS(AND(J27="Ⅱ",L27="○",N27="○",P27="○",R27="○",T27="○"),単価!$J$41,AND(J27="Ⅱ",L27="○",N27="○",R27="○",T27="○"),単価!$J$40,AND(J27="Ⅱ",L27="○",N27="○",P27="○",T27="○"),単価!$J$39,AND(J27="Ⅱ",L27="○",N27="○",T27="○"),単価!$J$38,AND(J27="Ⅱ",N27="○",P27="○",R27="○",T27="○"),単価!$J$37,AND(J27="Ⅱ",N27="○",R27="○",T27="○"),単価!$J$36,AND(J27="Ⅱ",N27="○",P27="○",T27="○"),単価!$J$35,AND(J27="Ⅱ",N27="○",T27="○"),単価!$J$34,AND(J27="Ⅱ",L27="○",P27="○",R27="○",T27="○"),単価!$J$37,AND(J27="Ⅱ",L27="○",R27="○",T27="○"),単価!$J$36,AND(J27="Ⅱ",L27="○",P27="○",T27="○"),単価!$J$35,AND(J27="Ⅱ",L27="○",T27="○"),単価!$J$34,AND(J27="Ⅱ",P27="○",R27="○",T27="○"),単価!$J$33,AND(J27="Ⅱ",R27="○",T27="○"),単価!$J$32,AND(J27="Ⅱ",P27="○",T27="○"),単価!$J$31,AND(J27="Ⅱ",T27="○"),単価!$J$30,AND(J27="Ⅰ",L27="○",N27="○",P27="○",R27="○",T27="○"),単価!$J$29,AND(J27="Ⅰ",L27="○",N27="○",R27="○",T27="○"),単価!$J$28,AND(J27="Ⅰ",L27="○",N27="○",P27="○",T27="○"),単価!$J$27,AND(J27="Ⅰ",L27="○",N27="○",T27="○"),単価!$J$26,AND(J27="Ⅰ",N27="○",P27="○",R27="○",T27="○"),単価!$J$25,AND(J27="Ⅰ",N27="○",R27="○",T27="○"),単価!$J$24,AND(J27="Ⅰ",N27="○",P27="○",T27="○"),単価!$J$23,AND(J27="Ⅰ",N27="○",T27="○"),単価!$J$22,AND(J27="Ⅰ",L27="○",P27="○",R27="○",T27="○"),単価!$J$25,AND(J27="Ⅰ",L27="○",R27="○",T27="○"),単価!$J$24,AND(J27="Ⅰ",L27="○",P27="○",T27="○"),単価!$J$23,AND(J27="Ⅰ",L27="○",T27="○"),単価!$J$22,AND(J27="Ⅰ",P27="○",R27="○",T27="○"),単価!$J$21,AND(J27="Ⅰ",R27="○",T27="○"),単価!$J$20,AND(J27="Ⅰ",P27="○",T27="○"),単価!$J$19,AND(J27="Ⅰ",T27="○"),単価!$J$18,TRUE,0)} -> 0
A29: 7 | B29: ○年●月 | D29: 7890123456 | G29: ☆☆ ★★ | J29: Ⅰ | R29: ○ | V29: {=_xlfn.IFS(AND(J29="Ⅱ",L29="○",N29="○",P29="○",R29="○",T29="○"),単価!$J$41,AND(J29="Ⅱ",L29="○",N29="○",R29="○",T29="○"),単価!$J$40,AND(J29="Ⅱ",L29="○",N29="○",P29="○",T29="○"),単価!$J$39,AND(J29="Ⅱ",L29="○",N29="○",T29="○"),単価!$J$38,AND(J29="Ⅱ",N29="○",P29="○",R29="○",T29="○"),単価!$J$37,AND(J29="Ⅱ",N29="○",R29="○",T29="○"),単価!$J$36,AND(J29="Ⅱ",N29="○",P29="○",T29="○"),単価!$J$35,AND(J29="Ⅱ",N29="○",T29="○"),単価!$J$34,AND(J29="Ⅱ",L29="○",P29="○",R29="○",T29="○"),単価!$J$37,AND(J29="Ⅱ",L29="○",R29="○",T29="○"),単価!$J$36,AND(J29="Ⅱ",L29="○",P29="○",T29="○"),単価!$J$35,AND(J29="Ⅱ",L29="○",T29="○"),単価!$J$34,AND(J29="Ⅱ",P29="○",R29="○",T29="○"),単価!$J$33,AND(J29="Ⅱ",R29="○",T29="○"),単価!$J$32,AND(J29="Ⅱ",P29="○",T29="○"),単価!$J$31,AND(J29="Ⅱ",T29="○"),単価!$J$30,AND(J29="Ⅰ",L29="○",N29="○",P29="○",R29="○",T29="○"),単価!$J$29,AND(J29="Ⅰ",L29="○",N29="○",R29="○",T29="○"),単価!$J$28,AND(J29="Ⅰ",L29="○",N29="○",P29="○",T29="○"),単価!$J$27,AND(J29="Ⅰ",L29="○",N29="○",T29="○"),単価!$J$26,AND(J29="Ⅰ",N29="○",P29="○",R29="○",T29="○"),単価!$J$25,AND(J29="Ⅰ",N29="○",R29="○",T29="○"),単価!$J$24,AND(J29="Ⅰ",N29="○",P29="○",T29="○"),単価!$J$23,AND(J29="Ⅰ",N29="○",T29="○"),単価!$J$22,AND(J29="Ⅰ",L29="○",P29="○",R29="○",T29="○"),単価!$J$25,AND(J29="Ⅰ",L29="○",R29="○",T29="○"),単価!$J$24,AND(J29="Ⅰ",L29="○",P29="○",T29="○"),単価!$J$23,AND(J29="Ⅰ",L29="○",T29="○"),単価!$J$22,AND(J29="Ⅰ",P29="○",R29="○",T29="○"),単価!$J$21,AND(J29="Ⅰ",R29="○",T29="○"),単価!$J$20,AND(J29="Ⅰ",P29="○",T29="○"),単価!$J$19,AND(J29="Ⅰ",T29="○"),単価!$J$18,TRUE,0)} -> 0
A31: 8 | T31: ○ | V31: {=_xlfn.IFS(AND(J31="Ⅱ",L31="○",N31="○",P31="○",R31="○",T31="○"),単価!$J$41,AND(J31="Ⅱ",L31="○",N31="○",R31="○",T31="○"),単価!$J$40,AND(J31="Ⅱ",L31="○",N31="○",P31="○",T31="○"),単価!$J$39,AND(J31="Ⅱ",L31="○",N31="○",T31="○"),単価!$J$38,AND(J31="Ⅱ",N31="○",P31="○",R31="○",T31="○"),単価!$J$37,AND(J31="Ⅱ",N31="○",R31="○",T31="○"),単価!$J$36,AND(J31="Ⅱ",N31="○",P31="○",T31="○"),単価!$J$35,AND(J31="Ⅱ",N31="○",T31="○"),単価!$J$34,AND(J31="Ⅱ",L31="○",P31="○",R31="○",T31="○"),単価!$J$37,AND(J31="Ⅱ",L31="○",R31="○",T31="○"),単価!$J$36,AND(J31="Ⅱ",L31="○",P31="○",T31="○"),単価!$J$35,AND(J31="Ⅱ",L31="○",T31="○"),単価!$J$34,AND(J31="Ⅱ",P31="○",R31="○",T31="○"),単価!$J$33,AND(J31="Ⅱ",R31="○",T31="○"),単価!$J$32,AND(J31="Ⅱ",P31="○",T31="○"),単価!$J$31,AND(J31="Ⅱ",T31="○"),単価!$J$30,AND(J31="Ⅰ",L31="○",N31="○",P31="○",R31="○",T31="○"),単価!$J$29,AND(J31="Ⅰ",L31="○",N31="○",R31="○",T31="○"),単価!$J$28,AND(J31="Ⅰ",L31="○",N31="○",P31="○",T31="○"),単価!$J$27,AND(J31="Ⅰ",L31="○",N31="○",T31="○"),単価!$J$26,AND(J31="Ⅰ",N31="○",P31="○",R31="○",T31="○"),単価!$J$25,AND(J31="Ⅰ",N31="○",R31="○",T31="○"),単価!$J$24,AND(J31="Ⅰ",N31="○",P31="○",T31="○"),単価!$J$23,AND(J31="Ⅰ",N31="○",T31="○"),単価!$J$22,AND(J31="Ⅰ",L31="○",P31="○",R31="○",T31="○"),単価!$J$25,AND(J31="Ⅰ",L31="○",R31="○",T31="○"),単価!$J$24,AND(J31="Ⅰ",L31="○",P31="○",T31="○"),単価!$J$23,AND(J31="Ⅰ",L31="○",T31="○"),単価!$J$22,AND(J31="Ⅰ",P31="○",R31="○",T31="○"),単価!$J$21,AND(J31="Ⅰ",R31="○",T31="○"),単価!$J$20,AND(J31="Ⅰ",P31="○",T31="○"),単価!$J$19,AND(J31="Ⅰ",T31="○"),単価!$J$18,TRUE,0)} -> 0
A33: 9 | T33: ○ | V33: {=_xlfn.IFS(AND(J33="Ⅱ",L33="○",N33="○",P33="○",R33="○",T33="○"),単価!$J$41,AND(J33="Ⅱ",L33="○",N33="○",R33="○",T33="○"),単価!$J$40,AND(J33="Ⅱ",L33="○",N33="○",P33="○",T33="○"),単価!$J$39,AND(J33="Ⅱ",L33="○",N33="○",T33="○"),単価!$J$38,AND(J33="Ⅱ",N33="○",P33="○",R33="○",T33="○"),単価!$J$37,AND(J33="Ⅱ",N33="○",R33="○",T33="○"),単価!$J$36,AND(J33="Ⅱ",N33="○",P33="○",T33="○"),単価!$J$35,AND(J33="Ⅱ",N33="○",T33="○"),単価!$J$34,AND(J33="Ⅱ",L33="○",P33="○",R33="○",T33="○"),単価!$J$37,AND(J33="Ⅱ",L33="○",R33="○",T33="○"),単価!$J$36,AND(J33="Ⅱ",L33="○",P33="○",T33="○"),単価!$J$35,AND(J33="Ⅱ",L33="○",T33="○"),単価!$J$34,AND(J33="Ⅱ",P33="○",R33="○",T33="○"),単価!$J$33,AND(J33="Ⅱ",R33="○",T33="○"),単価!$J$32,AND(J33="Ⅱ",P33="○",T33="○"),単価!$J$31,AND(J33="Ⅱ",T33="○"),単価!$J$30,AND(J33="Ⅰ",L33="○",N33="○",P33="○",R33="○",T33="○"),単価!$J$29,AND(J33="Ⅰ",L33="○",N33="○",R33="○",T33="○"),単価!$J$28,AND(J33="Ⅰ",L33="○",N33="○",P33="○",T33="○"),単価!$J$27,AND(J33="Ⅰ",L33="○",N33="○",T33="○"),単価!$J$26,AND(J33="Ⅰ",N33="○",P33="○",R33="○",T33="○"),単価!$J$25,AND(J33="Ⅰ",N33="○",R33="○",T33="○"),単価!$J$24,AND(J33="Ⅰ",N33="○",P33="○",T33="○"),単価!$J$23,AND(J33="Ⅰ",N33="○",T33="○"),単価!$J$22,AND(J33="Ⅰ",L33="○",P33="○",R33="○",T33="○"),単価!$J$25,AND(J33="Ⅰ",L33="○",R33="○",T33="○"),単価!$J$24,AND(J33="Ⅰ",L33="○",P33="○",T33="○"),単価!$J$23,AND(J33="Ⅰ",L33="○",T33="○"),単価!$J$22,AND(J33="Ⅰ",P33="○",R33="○",T33="○"),単価!$J$21,AND(J33="Ⅰ",R33="○",T33="○"),単価!$J$20,AND(J33="Ⅰ",P33="○",T33="○"),単価!$J$19,AND(J33="Ⅰ",T33="○"),単価!$J$18,TRUE,0)} -> 0
A35: 10 | T35: ○ | V35: {=_xlfn.IFS(AND(J35="Ⅱ",L35="○",N35="○",P35="○",R35="○",T35="○"),単価!$J$41,AND(J35="Ⅱ",L35="○",N35="○",R35="○",T35="○"),単価!$J$40,AND(J35="Ⅱ",L35="○",N35="○",P35="○",T35="○"),単価!$J$39,AND(J35="Ⅱ",L35="○",N35="○",T35="○"),単価!$J$38,AND(J35="Ⅱ",N35="○",P35="○",R35="○",T35="○"),単価!$J$37,AND(J35="Ⅱ",N35="○",R35="○",T35="○"),単価!$J$36,AND(J35="Ⅱ",N35="○",P35="○",T35="○"),単価!$J$35,AND(J35="Ⅱ",N35="○",T35="○"),単価!$J$34,AND(J35="Ⅱ",L35="○",P35="○",R35="○",T35="○"),単価!$J$37,AND(J35="Ⅱ",L35="○",R35="○",T35="○"),単価!$J$36,AND(J35="Ⅱ",L35="○",P35="○",T35="○"),単価!$J$35,AND(J35="Ⅱ",L35="○",T35="○"),単価!$J$34,AND(J35="Ⅱ",P35="○",R35="○",T35="○"),単価!$J$33,AND(J35="Ⅱ",R35="○",T35="○"),単価!$J$32,AND(J35="Ⅱ",P35="○",T35="○"),単価!$J$31,AND(J35="Ⅱ",T35="○"),単価!$J$30,AND(J35="Ⅰ",L35="○",N35="○",P35="○",R35="○",T35="○"),単価!$J$29,AND(J35="Ⅰ",L35="○",N35="○",R35="○",T35="○"),単価!$J$28,AND(J35="Ⅰ",L35="○",N35="○",P35="○",T35="○"),単価!$J$27,AND(J35="Ⅰ",L35="○",N35="○",T35="○"),単価!$J$26,AND(J35="Ⅰ",N35="○",P35="○",R35="○",T35="○"),単価!$J$25,AND(J35="Ⅰ",N35="○",R35="○",T35="○"),単価!$J$24,AND(J35="Ⅰ",N35="○",P35="○",T35="○"),単価!$J$23,AND(J35="Ⅰ",N35="○",T35="○"),単価!$J$22,AND(J35="Ⅰ",L35="○",P35="○",R35="○",T35="○"),単価!$J$25,AND(J35="Ⅰ",L35="○",R35="○",T35="○"),単価!$J$24,AND(J35="Ⅰ",L35="○",P35="○",T35="○"),単価!$J$23,AND(J35="Ⅰ",L35="○",T35="○"),単価!$J$22,AND(J35="Ⅰ",P35="○",R35="○",T35="○"),単価!$J$21,AND(J35="Ⅰ",R35="○",T35="○"),単価!$J$20,AND(J35="Ⅰ",P35="○",T35="○"),単価!$J$19,AND(J35="Ⅰ",T35="○"),単価!$J$18,TRUE,0)} -> 0
A37: 11 | T37: ○ | V37: {=_xlfn.IFS(AND(J37="Ⅱ",L37="○",N37="○",P37="○",R37="○",T37="○"),単価!$J$41,AND(J37="Ⅱ",L37="○",N37="○",R37="○",T37="○"),単価!$J$40,AND(J37="Ⅱ",L37="○",N37="○",P37="○",T37="○"),単価!$J$39,AND(J37="Ⅱ",L37="○",N37="○",T37="○"),単価!$J$38,AND(J37="Ⅱ",N37="○",P37="○",R37="○",T37="○"),単価!$J$37,AND(J37="Ⅱ",N37="○",R37="○",T37="○"),単価!$J$36,AND(J37="Ⅱ",N37="○",P37="○",T37="○"),単価!$J$35,AND(J37="Ⅱ",N37="○",T37="○"),単価!$J$34,AND(J37="Ⅱ",L37="○",P37="○",R37="○",T37="○"),単価!$J$37,AND(J37="Ⅱ",L37="○",R37="○",T37="○"),単価!$J$36,AND(J37="Ⅱ",L37="○",P37="○",T37="○"),単価!$J$35,AND(J37="Ⅱ",L37="○",T37="○"),単価!$J$34,AND(J37="Ⅱ",P37="○",R37="○",T37="○"),単価!$J$33,AND(J37="Ⅱ",R37="○",T37="○"),単価!$J$32,AND(J37="Ⅱ",P37="○",T37="○"),単価!$J$31,AND(J37="Ⅱ",T37="○"),単価!$J$30,AND(J37="Ⅰ",L37="○",N37="○",P37="○",R37="○",T37="○"),単価!$J$29,AND(J37="Ⅰ",L37="○",N37="○",R37="○",T37="○"),単価!$J$28,AND(J37="Ⅰ",L37="○",N37="○",P37="○",T37="○"),単価!$J$27,AND(J37="Ⅰ",L37="○",N37="○",T37="○"),単価!$J$26,AND(J37="Ⅰ",N37="○",P37="○",R37="○",T37="○"),単価!$J$25,AND(J37="Ⅰ",N37="○",R37="○",T37="○"),単価!$J$24,AND(J37="Ⅰ",N37="○",P37="○",T37="○"),単価!$J$23,AND(J37="Ⅰ",N37="○",T37="○"),単価!$J$22,AND(J37="Ⅰ",L37="○",P37="○",R37="○",T37="○"),単価!$J$25,AND(J37="Ⅰ",L37="○",R37="○",T37="○"),単価!$J$24,AND(J37="Ⅰ",L37="○",P37="○",T37="○"),単価!$J$23,AND(J37="Ⅰ",L37="○",T37="○"),単価!$J$22,AND(J37="Ⅰ",P37="○",R37="○",T37="○"),単価!$J$21,AND(J37="Ⅰ",R37="○",T37="○"),単価!$J$20,AND(J37="Ⅰ",P37="○",T37="○"),単価!$J$19,AND(J37="Ⅰ",T37="○"),単価!$J$18,TRUE,0)} -> 0
A39: 12 | T39: ○ | V39: {=_xlfn.IFS(AND(J39="Ⅱ",L39="○",N39="○",P39="○",R39="○",T39="○"),単価!$J$41,AND(J39="Ⅱ",L39="○",N39="○",R39="○",T39="○"),単価!$J$40,AND(J39="Ⅱ",L39="○",N39="○",P39="○",T39="○"),単価!$J$39,AND(J39="Ⅱ",L39="○",N39="○",T39="○"),単価!$J$38,AND(J39="Ⅱ",N39="○",P39="○",R39="○",T39="○"),単価!$J$37,AND(J39="Ⅱ",N39="○",R39="○",T39="○"),単価!$J$36,AND(J39="Ⅱ",N39="○",P39="○",T39="○"),単価!$J$35,AND(J39="Ⅱ",N39="○",T39="○"),単価!$J$34,AND(J39="Ⅱ",L39="○",P39="○",R39="○",T39="○"),単価!$J$37,AND(J39="Ⅱ",L39="○",R39="○",T39="○"),単価!$J$36,AND(J39="Ⅱ",L39="○",P39="○",T39="○"),単価!$J$35,AND(J39="Ⅱ",L39="○",T39="○"),単価!$J$34,AND(J39="Ⅱ",P39="○",R39="○",T39="○"),単価!$J$33,AND(J39="Ⅱ",R39="○",T39="○"),単価!$J$32,AND(J39="Ⅱ",P39="○",T39="○"),単価!$J$31,AND(J39="Ⅱ",T39="○"),単価!$J$30,AND(J39="Ⅰ",L39="○",N39="○",P39="○",R39="○",T39="○"),単価!$J$29,AND(J39="Ⅰ",L39="○",N39="○",R39="○",T39="○"),単価!$J$28,AND(J39="Ⅰ",L39="○",N39="○",P39="○",T39="○"),単価!$J$27,AND(J39="Ⅰ",L39="○",N39="○",T39="○"),単価!$J$26,AND(J39="Ⅰ",N39="○",P39="○",R39="○",T39="○"),単価!$J$25,AND(J39="Ⅰ",N39="○",R39="○",T39="○"),単価!$J$24,AND(J39="Ⅰ",N39="○",P39="○",T39="○"),単価!$J$23,AND(J39="Ⅰ",N39="○",T39="○"),単価!$J$22,AND(J39="Ⅰ",L39="○",P39="○",R39="○",T39="○"),単価!$J$25,AND(J39="Ⅰ",L39="○",R39="○",T39="○"),単価!$J$24,AND(J39="Ⅰ",L39="○",P39="○",T39="○"),単価!$J$23,AND(J39="Ⅰ",L39="○",T39="○"),単価!$J$22,AND(J39="Ⅰ",P39="○",R39="○",T39="○"),単価!$J$21,AND(J39="Ⅰ",R39="○",T39="○"),単価!$J$20,AND(J39="Ⅰ",P39="○",T39="○"),単価!$J$19,AND(J39="Ⅰ",T39="○"),単価!$J$18,TRUE,0)} -> 0
A41: 13 | T41: ○ | V41: {=_xlfn.IFS(AND(J41="Ⅱ",L41="○",N41="○",P41="○",R41="○",T41="○"),単価!$J$41,AND(J41="Ⅱ",L41="○",N41="○",R41="○",T41="○"),単価!$J$40,AND(J41="Ⅱ",L41="○",N41="○",P41="○",T41="○"),単価!$J$39,AND(J41="Ⅱ",L41="○",N41="○",T41="○"),単価!$J$38,AND(J41="Ⅱ",N41="○",P41="○",R41="○",T41="○"),単価!$J$37,AND(J41="Ⅱ",N41="○",R41="○",T41="○"),単価!$J$36,AND(J41="Ⅱ",N41="○",P41="○",T41="○"),単価!$J$35,AND(J41="Ⅱ",N41="○",T41="○"),単価!$J$34,AND(J41="Ⅱ",L41="○",P41="○",R41="○",T41="○"),単価!$J$37,AND(J41="Ⅱ",L41="○",R41="○",T41="○"),単価!$J$36,AND(J41="Ⅱ",L41="○",P41="○",T41="○"),単価!$J$35,AND(J41="Ⅱ",L41="○",T41="○"),単価!$J$34,AND(J41="Ⅱ",P41="○",R41="○",T41="○"),単価!$J$33,AND(J41="Ⅱ",R41="○",T41="○"),単価!$J$32,AND(J41="Ⅱ",P41="○",T41="○"),単価!$J$31,AND(J41="Ⅱ",T41="○"),単価!$J$30,AND(J41="Ⅰ",L41="○",N41="○",P41="○",R41="○",T41="○"),単価!$J$29,AND(J41="Ⅰ",L41="○",N41="○",R41="○",T41="○"),単価!$J$28,AND(J41="Ⅰ",L41="○",N41="○",P41="○",T41="○"),単価!$J$27,AND(J41="Ⅰ",L41="○",N41="○",T41="○"),単価!$J$26,AND(J41="Ⅰ",N41="○",P41="○",R41="○",T41="○"),単価!$J$25,AND(J41="Ⅰ",N41="○",R41="○",T41="○"),単価!$J$24,AND(J41="Ⅰ",N41="○",P41="○",T41="○"),単価!$J$23,AND(J41="Ⅰ",N41="○",T41="○"),単価!$J$22,AND(J41="Ⅰ",L41="○",P41="○",R41="○",T41="○"),単価!$J$25,AND(J41="Ⅰ",L41="○",R41="○",T41="○"),単価!$J$24,AND(J41="Ⅰ",L41="○",P41="○",T41="○"),単価!$J$23,AND(J41="Ⅰ",L41="○",T41="○"),単価!$J$22,AND(J41="Ⅰ",P41="○",R41="○",T41="○"),単価!$J$21,AND(J41="Ⅰ",R41="○",T41="○"),単価!$J$20,AND(J41="Ⅰ",P41="○",T41="○"),単価!$J$19,AND(J41="Ⅰ",T41="○"),単価!$J$18,TRUE,0)} -> 0
A43: 14 | T43: ○ | V43: {=_xlfn.IFS(AND(J43="Ⅱ",L43="○",N43="○",P43="○",R43="○",T43="○"),単価!$J$41,AND(J43="Ⅱ",L43="○",N43="○",R43="○",T43="○"),単価!$J$40,AND(J43="Ⅱ",L43="○",N43="○",P43="○",T43="○"),単価!$J$39,AND(J43="Ⅱ",L43="○",N43="○",T43="○"),単価!$J$38,AND(J43="Ⅱ",N43="○",P43="○",R43="○",T43="○"),単価!$J$37,AND(J43="Ⅱ",N43="○",R43="○",T43="○"),単価!$J$36,AND(J43="Ⅱ",N43="○",P43="○",T43="○"),単価!$J$35,AND(J43="Ⅱ",N43="○",T43="○"),単価!$J$34,AND(J43="Ⅱ",L43="○",P43="○",R43="○",T43="○"),単価!$J$37,AND(J43="Ⅱ",L43="○",R43="○",T43="○"),単価!$J$36,AND(J43="Ⅱ",L43="○",P43="○",T43="○"),単価!$J$35,AND(J43="Ⅱ",L43="○",T43="○"),単価!$J$34,AND(J43="Ⅱ",P43="○",R43="○",T43="○"),単価!$J$33,AND(J43="Ⅱ",R43="○",T43="○"),単価!$J$32,AND(J43="Ⅱ",P43="○",T43="○"),単価!$J$31,AND(J43="Ⅱ",T43="○"),単価!$J$30,AND(J43="Ⅰ",L43="○",N43="○",P43="○",R43="○",T43="○"),単価!$J$29,AND(J43="Ⅰ",L43="○",N43="○",R43="○",T43="○"),単価!$J$28,AND(J43="Ⅰ",L43="○",N43="○",P43="○",T43="○"),単価!$J$27,AND(J43="Ⅰ",L43="○",N43="○",T43="○"),単価!$J$26,AND(J43="Ⅰ",N43="○",P43="○",R43="○",T43="○"),単価!$J$25,AND(J43="Ⅰ",N43="○",R43="○",T43="○"),単価!$J$24,AND(J43="Ⅰ",N43="○",P43="○",T43="○"),単価!$J$23,AND(J43="Ⅰ",N43="○",T43="○"),単価!$J$22,AND(J43="Ⅰ",L43="○",P43="○",R43="○",T43="○"),単価!$J$25,AND(J43="Ⅰ",L43="○",R43="○",T43="○"),単価!$J$24,AND(J43="Ⅰ",L43="○",P43="○",T43="○"),単価!$J$23,AND(J43="Ⅰ",L43="○",T43="○"),単価!$J$22,AND(J43="Ⅰ",P43="○",R43="○",T43="○"),単価!$J$21,AND(J43="Ⅰ",R43="○",T43="○"),単価!$J$20,AND(J43="Ⅰ",P43="○",T43="○"),単価!$J$19,AND(J43="Ⅰ",T43="○"),単価!$J$18,TRUE,0)} -> 0
A45: 15 | T45: ○ | V45: {=_xlfn.IFS(AND(J45="Ⅱ",L45="○",N45="○",P45="○",R45="○",T45="○"),単価!$J$41,AND(J45="Ⅱ",L45="○",N45="○",R45="○",T45="○"),単価!$J$40,AND(J45="Ⅱ",L45="○",N45="○",P45="○",T45="○"),単価!$J$39,AND(J45="Ⅱ",L45="○",N45="○",T45="○"),単価!$J$38,AND(J45="Ⅱ",N45="○",P45="○",R45="○",T45="○"),単価!$J$37,AND(J45="Ⅱ",N45="○",R45="○",T45="○"),単価!$J$36,AND(J45="Ⅱ",N45="○",P45="○",T45="○"),単価!$J$35,AND(J45="Ⅱ",N45="○",T45="○"),単価!$J$34,AND(J45="Ⅱ",L45="○",P45="○",R45="○",T45="○"),単価!$J$37,AND(J45="Ⅱ",L45="○",R45="○",T45="○"),単価!$J$36,AND(J45="Ⅱ",L45="○",P45="○",T45="○"),単価!$J$35,AND(J45="Ⅱ",L45="○",T45="○"),単価!$J$34,AND(J45="Ⅱ",P45="○",R45="○",T45="○"),単価!$J$33,AND(J45="Ⅱ",R45="○",T45="○"),単価!$J$32,AND(J45="Ⅱ",P45="○",T45="○"),単価!$J$31,AND(J45="Ⅱ",T45="○"),単価!$J$30,AND(J45="Ⅰ",L45="○",N45="○",P45="○",R45="○",T45="○"),単価!$J$29,AND(J45="Ⅰ",L45="○",N45="○",R45="○",T45="○"),単価!$J$28,AND(J45="Ⅰ",L45="○",N45="○",P45="○",T45="○"),単価!$J$27,AND(J45="Ⅰ",L45="○",N45="○",T45="○"),単価!$J$26,AND(J45="Ⅰ",N45="○",P45="○",R45="○",T45="○"),単価!$J$25,AND(J45="Ⅰ",N45="○",R45="○",T45="○"),単価!$J$24,AND(J45="Ⅰ",N45="○",P45="○",T45="○"),単価!$J$23,AND(J45="Ⅰ",N45="○",T45="○"),単価!$J$22,AND(J45="Ⅰ",L45="○",P45="○",R45="○",T45="○"),単価!$J$25,AND(J45="Ⅰ",L45="○",R45="○",T45="○"),単価!$J$24,AND(J45="Ⅰ",L45="○",P45="○",T45="○"),単価!$J$23,AND(J45="Ⅰ",L45="○",T45="○"),単価!$J$22,AND(J45="Ⅰ",P45="○",R45="○",T45="○"),単価!$J$21,AND(J45="Ⅰ",R45="○",T45="○"),単価!$J$20,AND(J45="Ⅰ",P45="○",T45="○"),単価!$J$19,AND(J45="Ⅰ",T45="○"),単価!$J$18,TRUE,0)} -> 0
A47: 合計 | J47: =COUNTIF(J17:K46,"Ⅰ") -> 7 | L47: =COUNTIF(L17:M46,"○") -> 0 | N47: =COUNTIF(N17:O46,"○") -> 0 | P47: =COUNTIF(P17:Q46,"○") -> 2 | R47: =COUNTIF(R17:S46,"○") -> 3 | V47: =SUM(V17:W46) -> 616 | X47: =COUNTIF(X17:Y46,"○") -> 0
A50: 介護予防ケアマネジメント
A51: No. | B51: 計画作成 年月 | D51: 被保険者番号 | G51: 氏名 | J51: ケアマネジメント費 | L51: 虐防減算 | N51: 業未減算 | P51: 初回 | R51: 委託連携 | T51: 処遇改善 | V51: 処遇改善 加算額 | X51: 自立支援 加算
A53: 1 | B53: ○年●月 | D53: 8901234567 | G53: ★★ ☆☆ | J53: Ⅰ | P53: ○ | T53: ○ | V53: {=_xlfn.IFS(AND(J53="Ⅱ",L53="○",N53="○",P53="○",R53="○",T53="○"),単価!$J$41,AND(J53="Ⅱ",L53="○",N53="○",R53="○",T53="○"),単価!$J$40,AND(J53="Ⅱ",L53="○",N53="○",P53="○",T53="○"),単価!$J$39,AND(J53="Ⅱ",L53="○",N53="○",T53="○"),単価!$J$38,AND(J53="Ⅱ",N53="○",P53="○",R53="○",T53="○"),単価!$J$37,AND(J53="Ⅱ",N53="○",R53="○",T53="○"),単価!$J$36,AND(J53="Ⅱ",N53="○",P53="○",T53="○"),単価!$J$35,AND(J53="Ⅱ",N53="○",T53="○"),単価!$J$34,AND(J53="Ⅱ",L53="○",P53="○",R53="○",T53="○"),単価!$J$37,AND(J53="Ⅱ",L53="○",R53="○",T53="○"),単価!$J$36,AND(J53="Ⅱ",L53="○",P53="○",T53="○"),単価!$J$35,AND(J53="Ⅱ",L53="○",T53="○"),単価!$J$34,AND(J53="Ⅱ",P53="○",R53="○",T53="○"),単価!$J$33,AND(J53="Ⅱ",R53="○",T53="○"),単価!$J$32,AND(J53="Ⅱ",P53="○",T53="○"),単価!$J$31,AND(J53="Ⅱ",T53="○"),単価!$J$30,AND(J53="Ⅰ",L53="○",N53="○",P53="○",R53="○",T53="○"),単価!$J$29,AND(J53="Ⅰ",L53="○",N53="○",R53="○",T53="○"),単価!$J$28,AND(J53="Ⅰ",L53="○",N53="○",P53="○",T53="○"),単価!$J$27,AND(J53="Ⅰ",L53="○",N53="○",T53="○"),単価!$J$26,AND(J53="Ⅰ",N53="○",P53="○",R53="○",T53="○"),単価!$J$25,AND(J53="Ⅰ",N53="○",R53="○",T53="○"),単価!$J$24,AND(J53="Ⅰ",N53="○",P53="○",T53="○"),単価!$J$23,AND(J53="Ⅰ",N53="○",T53="○"),単価!$J$22,AND(J53="Ⅰ",L53="○",P53="○",R53="○",T53="○"),単価!$J$25,AND(J53="Ⅰ",L53="○",R53="○",T53="○"),単価!$J$24,AND(J53="Ⅰ",L53="○",P53="○",T53="○"),単価!$J$23,AND(J53="Ⅰ",L53="○",T53="○"),単価!$J$22,AND(J53="Ⅰ",P53="○",R53="○",T53="○"),単価!$J$21,AND(J53="Ⅰ",R53="○",T53="○"),単価!$J$20,AND(J53="Ⅰ",P53="○",T53="○"),単価!$J$19,AND(J53="Ⅰ",T53="○"),単価!$J$18,TRUE,0)} -> 137
A55: 2 | B55: ○年●月 | D55: 9012345678 | G55: ◇◇ ◆◆ | J55: Ⅱ | R55: ○ | T55: ○ | V55: {=_xlfn.IFS(AND(J55="Ⅱ",L55="○",N55="○",P55="○",R55="○",T55="○"),単価!$J$41,AND(J55="Ⅱ",L55="○",N55="○",R55="○",T55="○"),単価!$J$40,AND(J55="Ⅱ",L55="○",N55="○",P55="○",T55="○"),単価!$J$39,AND(J55="Ⅱ",L55="○",N55="○",T55="○"),単価!$J$38,AND(J55="Ⅱ",N55="○",P55="○",R55="○",T55="○"),単価!$J$37,AND(J55="Ⅱ",N55="○",R55="○",T55="○"),単価!$J$36,AND(J55="Ⅱ",N55="○",P55="○",T55="○"),単価!$J$35,AND(J55="Ⅱ",N55="○",T55="○"),単価!$J$34,AND(J55="Ⅱ",L55="○",P55="○",R55="○",T55="○"),単価!$J$37,AND(J55="Ⅱ",L55="○",R55="○",T55="○"),単価!$J$36,AND(J55="Ⅱ",L55="○",P55="○",T55="○"),単価!$J$35,AND(J55="Ⅱ",L55="○",T55="○"),単価!$J$34,AND(J55="Ⅱ",P55="○",R55="○",T55="○"),単価!$J$33,AND(J55="Ⅱ",R55="○",T55="○"),単価!$J$32,AND(J55="Ⅱ",P55="○",T55="○"),単価!$J$31,AND(J55="Ⅱ",T55="○"),単価!$J$30,AND(J55="Ⅰ",L55="○",N55="○",P55="○",R55="○",T55="○"),単価!$J$29,AND(J55="Ⅰ",L55="○",N55="○",R55="○",T55="○"),単価!$J$28,AND(J55="Ⅰ",L55="○",N55="○",P55="○",T55="○"),単価!$J$27,AND(J55="Ⅰ",L55="○",N55="○",T55="○"),単価!$J$26,AND(J55="Ⅰ",N55="○",P55="○",R55="○",T55="○"),単価!$J$25,AND(J55="Ⅰ",N55="○",R55="○",T55="○"),単価!$J$24,AND(J55="Ⅰ",N55="○",P55="○",T55="○"),単価!$J$23,AND(J55="Ⅰ",N55="○",T55="○"),単価!$J$22,AND(J55="Ⅰ",L55="○",P55="○",R55="○",T55="○"),単価!$J$25,AND(J55="Ⅰ",L55="○",R55="○",T55="○"),単価!$J$24,AND(J55="Ⅰ",L55="○",P55="○",T55="○"),単価!$J$23,AND(J55="Ⅰ",L55="○",T55="○"),単価!$J$22,AND(J55="Ⅰ",P55="○",R55="○",T55="○"),単価!$J$21,AND(J55="Ⅰ",R55="○",T55="○"),単価!$J$20,AND(J55="Ⅰ",P55="○",T55="○"),単価!$J$19,AND(J55="Ⅰ",T55="○"),単価!$J$18,TRUE,0)} -> 136
A57: 3 | B57: ○年●月 | D57: 2468013579 | G57: ◆◆ ◇◇ | J57: Ⅰ | T57: ○ | V57: {=_xlfn.IFS(AND(J57="Ⅱ",L57="○",N57="○",P57="○",R57="○",T57="○"),単価!$J$41,AND(J57="Ⅱ",L57="○",N57="○",R57="○",T57="○"),単価!$J$40,AND(J57="Ⅱ",L57="○",N57="○",P57="○",T57="○"),単価!$J$39,AND(J57="Ⅱ",L57="○",N57="○",T57="○"),単価!$J$38,AND(J57="Ⅱ",N57="○",P57="○",R57="○",T57="○"),単価!$J$37,AND(J57="Ⅱ",N57="○",R57="○",T57="○"),単価!$J$36,AND(J57="Ⅱ",N57="○",P57="○",T57="○"),単価!$J$35,AND(J57="Ⅱ",N57="○",T57="○"),単価!$J$34,AND(J57="Ⅱ",L57="○",P57="○",R57="○",T57="○"),単価!$J$37,AND(J57="Ⅱ",L57="○",R57="○",T57="○"),単価!$J$36,AND(J57="Ⅱ",L57="○",P57="○",T57="○"),単価!$J$35,AND(J57="Ⅱ",L57="○",T57="○"),単価!$J$34,AND(J57="Ⅱ",P57="○",R57="○",T57="○"),単価!$J$33,AND(J57="Ⅱ",R57="○",T57="○"),単価!$J$32,AND(J57="Ⅱ",P57="○",T57="○"),単価!$J$31,AND(J57="Ⅱ",T57="○"),単価!$J$30,AND(J57="Ⅰ",L57="○",N57="○",P57="○",R57="○",T57="○"),単価!$J$29,AND(J57="Ⅰ",L57="○",N57="○",R57="○",T57="○"),単価!$J$28,AND(J57="Ⅰ",L57="○",N57="○",P57="○",T57="○"),単価!$J$27,AND(J57="Ⅰ",L57="○",N57="○",T57="○"),単価!$J$26,AND(J57="Ⅰ",N57="○",P57="○",R57="○",T57="○"),単価!$J$25,AND(J57="Ⅰ",N57="○",R57="○",T57="○"),単価!$J$24,AND(J57="Ⅰ",N57="○",P57="○",T57="○"),単価!$J$23,AND(J57="Ⅰ",N57="○",T57="○"),単価!$J$22,AND(J57="Ⅰ",L57="○",P57="○",R57="○",T57="○"),単価!$J$25,AND(J57="Ⅰ",L57="○",R57="○",T57="○"),単価!$J$24,AND(J57="Ⅰ",L57="○",P57="○",T57="○"),単価!$J$23,AND(J57="Ⅰ",L57="○",T57="○"),単価!$J$22,AND(J57="Ⅰ",P57="○",R57="○",T57="○"),単価!$J$21,AND(J57="Ⅰ",R57="○",T57="○"),単価!$J$20,AND(J57="Ⅰ",P57="○",T57="○"),単価!$J$19,AND(J57="Ⅰ",T57="○"),単価!$J$18,TRUE,0)} -> 77
A59: 4 | B59: ○年●月 | D59: 1357924680 | G59: △▲ ▲△ | J59: Ⅱ | P59: ○ | T59: ○ | V59: {=_xlfn.IFS(AND(J59="Ⅱ",L59="○",N59="○",P59="○",R59="○",T59="○"),単価!$J$41,AND(J59="Ⅱ",L59="○",N59="○",R59="○",T59="○"),単価!$J$40,AND(J59="Ⅱ",L59="○",N59="○",P59="○",T59="○"),単価!$J$39,AND(J59="Ⅱ",L59="○",N59="○",T59="○"),単価!$J$38,AND(J59="Ⅱ",N59="○",P59="○",R59="○",T59="○"),単価!$J$37,AND(J59="Ⅱ",N59="○",R59="○",T59="○"),単価!$J$36,AND(J59="Ⅱ",N59="○",P59="○",T59="○"),単価!$J$35,AND(J59="Ⅱ",N59="○",T59="○"),単価!$J$34,AND(J59="Ⅱ",L59="○",P59="○",R59="○",T59="○"),単価!$J$37,AND(J59="Ⅱ",L59="○",R59="○",T59="○"),単価!$J$36,AND(J59="Ⅱ",L59="○",P59="○",T59="○"),単価!$J$35,AND(J59="Ⅱ",L59="○",T59="○"),単価!$J$34,AND(J59="Ⅱ",P59="○",R59="○",T59="○"),単価!$J$33,AND(J59="Ⅱ",R59="○",T59="○"),単価!$J$32,AND(J59="Ⅱ",P59="○",T59="○"),単価!$J$31,AND(J59="Ⅱ",T59="○"),単価!$J$30,AND(J59="Ⅰ",L59="○",N59="○",P59="○",R59="○",T59="○"),単価!$J$29,AND(J59="Ⅰ",L59="○",N59="○",R59="○",T59="○"),単価!$J$28,AND(J59="Ⅰ",L59="○",N59="○",P59="○",T59="○"),単価!$J$27,AND(J59="Ⅰ",L59="○",N59="○",T59="○"),単価!$J$26,AND(J59="Ⅰ",N59="○",P59="○",R59="○",T59="○"),単価!$J$25,AND(J59="Ⅰ",N59="○",R59="○",T59="○"),単価!$J$24,AND(J59="Ⅰ",N59="○",P59="○",T59="○"),単価!$J$23,AND(J59="Ⅰ",N59="○",T59="○"),単価!$J$22,AND(J59="Ⅰ",L59="○",P59="○",R59="○",T59="○"),単価!$J$25,AND(J59="Ⅰ",L59="○",R59="○",T59="○"),単価!$J$24,AND(J59="Ⅰ",L59="○",P59="○",T59="○"),単価!$J$23,AND(J59="Ⅰ",L59="○",T59="○"),単価!$J$22,AND(J59="Ⅰ",P59="○",R59="○",T59="○"),単価!$J$21,AND(J59="Ⅰ",R59="○",T59="○"),単価!$J$20,AND(J59="Ⅰ",P59="○",T59="○"),単価!$J$19,AND(J59="Ⅰ",T59="○"),単価!$J$18,TRUE,0)} -> 136
A61: 5 | B61: ○年●月 | D61: 9876543210 | G61: ▽▼ ▼▽ | J61: Ⅰ | P61: ○ | R61: ○ | T61: ○ | V61: {=_xlfn.IFS(AND(J61="Ⅱ",L61="○",N61="○",P61="○",R61="○",T61="○"),単価!$J$41,AND(J61="Ⅱ",L61="○",N61="○",R61="○",T61="○"),単価!$J$40,AND(J61="Ⅱ",L61="○",N61="○",P61="○",T61="○"),単価!$J$39,AND(J61="Ⅱ",L61="○",N61="○",T61="○"),単価!$J$38,AND(J61="Ⅱ",N61="○",P61="○",R61="○",T61="○"),単価!$J$37,AND(J61="Ⅱ",N61="○",R61="○",T61="○"),単価!$J$36,AND(J61="Ⅱ",N61="○",P61="○",T61="○"),単価!$J$35,AND(J61="Ⅱ",N61="○",T61="○"),単価!$J$34,AND(J61="Ⅱ",L61="○",P61="○",R61="○",T61="○"),単価!$J$37,AND(J61="Ⅱ",L61="○",R61="○",T61="○"),単価!$J$36,AND(J61="Ⅱ",L61="○",P61="○",T61="○"),単価!$J$35,AND(J61="Ⅱ",L61="○",T61="○"),単価!$J$34,AND(J61="Ⅱ",P61="○",R61="○",T61="○"),単価!$J$33,AND(J61="Ⅱ",R61="○",T61="○"),単価!$J$32,AND(J61="Ⅱ",P61="○",T61="○"),単価!$J$31,AND(J61="Ⅱ",T61="○"),単価!$J$30,AND(J61="Ⅰ",L61="○",N61="○",P61="○",R61="○",T61="○"),単価!$J$29,AND(J61="Ⅰ",L61="○",N61="○",R61="○",T61="○"),単価!$J$28,AND(J61="Ⅰ",L61="○",N61="○",P61="○",T61="○"),単価!$J$27,AND(J61="Ⅰ",L61="○",N61="○",T61="○"),単価!$J$26,AND(J61="Ⅰ",N61="○",P61="○",R61="○",T61="○"),単価!$J$25,AND(J61="Ⅰ",N61="○",R61="○",T61="○"),単価!$J$24,AND(J61="Ⅰ",N61="○",P61="○",T61="○"),単価!$J$23,AND(J61="Ⅰ",N61="○",T61="○"),単価!$J$22,AND(J61="Ⅰ",L61="○",P61="○",R61="○",T61="○"),単価!$J$25,AND(J61="Ⅰ",L61="○",R61="○",T61="○"),単価!$J$24,AND(J61="Ⅰ",L61="○",P61="○",T61="○"),単価!$J$23,AND(J61="Ⅰ",L61="○",T61="○"),単価!$J$22,AND(J61="Ⅰ",P61="○",R61="○",T61="○"),単価!$J$21,AND(J61="Ⅰ",R61="○",T61="○"),単価!$J$20,AND(J61="Ⅰ",P61="○",T61="○"),単価!$J$19,AND(J61="Ⅰ",T61="○"),単価!$J$18,TRUE,0)} -> 188
A63: 6 | B63: ○年●月 | D63: 3254769810 | G63: ○● ●○ | J63: Ⅱ | T63: ○ | V63: {=_xlfn.IFS(AND(J63="Ⅱ",L63="○",N63="○",P63="○",R63="○",T63="○"),単価!$J$41,AND(J63="Ⅱ",L63="○",N63="○",R63="○",T63="○"),単価!$J$40,AND(J63="Ⅱ",L63="○",N63="○",P63="○",T63="○"),単価!$J$39,AND(J63="Ⅱ",L63="○",N63="○",T63="○"),単価!$J$38,AND(J63="Ⅱ",N63="○",P63="○",R63="○",T63="○"),単価!$J$37,AND(J63="Ⅱ",N63="○",R63="○",T63="○"),単価!$J$36,AND(J63="Ⅱ",N63="○",P63="○",T63="○"),単価!$J$35,AND(J63="Ⅱ",N63="○",T63="○"),単価!$J$34,AND(J63="Ⅱ",L63="○",P63="○",R63="○",T63="○"),単価!$J$37,AND(J63="Ⅱ",L63="○",R63="○",T63="○"),単価!$J$36,AND(J63="Ⅱ",L63="○",P63="○",T63="○"),単価!$J$35,AND(J63="Ⅱ",L63="○",T63="○"),単価!$J$34,AND(J63="Ⅱ",P63="○",R63="○",T63="○"),単価!$J$33,AND(J63="Ⅱ",R63="○",T63="○"),単価!$J$32,AND(J63="Ⅱ",P63="○",T63="○"),単価!$J$31,AND(J63="Ⅱ",T63="○"),単価!$J$30,AND(J63="Ⅰ",L63="○",N63="○",P63="○",R63="○",T63="○"),単価!$J$29,AND(J63="Ⅰ",L63="○",N63="○",R63="○",T63="○"),単価!$J$28,AND(J63="Ⅰ",L63="○",N63="○",P63="○",T63="○"),単価!$J$27,AND(J63="Ⅰ",L63="○",N63="○",T63="○"),単価!$J$26,AND(J63="Ⅰ",N63="○",P63="○",R63="○",T63="○"),単価!$J$25,AND(J63="Ⅰ",N63="○",R63="○",T63="○"),単価!$J$24,AND(J63="Ⅰ",N63="○",P63="○",T63="○"),単価!$J$23,AND(J63="Ⅰ",N63="○",T63="○"),単価!$J$22,AND(J63="Ⅰ",L63="○",P63="○",R63="○",T63="○"),単価!$J$25,AND(J63="Ⅰ",L63="○",R63="○",T63="○"),単価!$J$24,AND(J63="Ⅰ",L63="○",P63="○",T63="○"),単価!$J$23,AND(J63="Ⅰ",L63="○",T63="○"),単価!$J$22,AND(J63="Ⅰ",P63="○",R63="○",T63="○"),単価!$J$21,AND(J63="Ⅰ",R63="○",T63="○"),単価!$J$20,AND(J63="Ⅰ",P63="○",T63="○"),単価!$J$19,AND(J63="Ⅰ",T63="○"),単価!$J$18,TRUE,0)} -> 85 | X63: ○
A65: 7 | B65: ○年●月 | D65: 1098765432 | G65: ●○ ○● | J65: Ⅰ | V65: {=_xlfn.IFS(AND(J65="Ⅱ",L65="○",N65="○",P65="○",R65="○",T65="○"),単価!$J$41,AND(J65="Ⅱ",L65="○",N65="○",R65="○",T65="○"),単価!$J$40,AND(J65="Ⅱ",L65="○",N65="○",P65="○",T65="○"),単価!$J$39,AND(J65="Ⅱ",L65="○",N65="○",T65="○"),単価!$J$38,AND(J65="Ⅱ",N65="○",P65="○",R65="○",T65="○"),単価!$J$37,AND(J65="Ⅱ",N65="○",R65="○",T65="○"),単価!$J$36,AND(J65="Ⅱ",N65="○",P65="○",T65="○"),単価!$J$35,AND(J65="Ⅱ",N65="○",T65="○"),単価!$J$34,AND(J65="Ⅱ",L65="○",P65="○",R65="○",T65="○"),単価!$J$37,AND(J65="Ⅱ",L65="○",R65="○",T65="○"),単価!$J$36,AND(J65="Ⅱ",L65="○",P65="○",T65="○"),単価!$J$35,AND(J65="Ⅱ",L65="○",T65="○"),単価!$J$34,AND(J65="Ⅱ",P65="○",R65="○",T65="○"),単価!$J$33,AND(J65="Ⅱ",R65="○",T65="○"),単価!$J$32,AND(J65="Ⅱ",P65="○",T65="○"),単価!$J$31,AND(J65="Ⅱ",T65="○"),単価!$J$30,AND(J65="Ⅰ",L65="○",N65="○",P65="○",R65="○",T65="○"),単価!$J$29,AND(J65="Ⅰ",L65="○",N65="○",R65="○",T65="○"),単価!$J$28,AND(J65="Ⅰ",L65="○",N65="○",P65="○",T65="○"),単価!$J$27,AND(J65="Ⅰ",L65="○",N65="○",T65="○"),単価!$J$26,AND(J65="Ⅰ",N65="○",P65="○",R65="○",T65="○"),単価!$J$25,AND(J65="Ⅰ",N65="○",R65="○",T65="○"),単価!$J$24,AND(J65="Ⅰ",N65="○",P65="○",T65="○"),単価!$J$23,AND(J65="Ⅰ",N65="○",T65="○"),単価!$J$22,AND(J65="Ⅰ",L65="○",P65="○",R65="○",T65="○"),単価!$J$25,AND(J65="Ⅰ",L65="○",R65="○",T65="○"),単価!$J$24,AND(J65="Ⅰ",L65="○",P65="○",T65="○"),単価!$J$23,AND(J65="Ⅰ",L65="○",T65="○"),単価!$J$22,AND(J65="Ⅰ",P65="○",R65="○",T65="○"),単価!$J$21,AND(J65="Ⅰ",R65="○",T65="○"),単価!$J$20,AND(J65="Ⅰ",P65="○",T65="○"),単価!$J$19,AND(J65="Ⅰ",T65="○"),単価!$J$18,TRUE,0)} -> 0
A67: 8 | B67: ○年●月 | D67: 6574839201 | G67: ☆★ ★☆ | J67: Ⅱ | V67: {=_xlfn.IFS(AND(J67="Ⅱ",L67="○",N67="○",P67="○",R67="○",T67="○"),単価!$J$41,AND(J67="Ⅱ",L67="○",N67="○",R67="○",T67="○"),単価!$J$40,AND(J67="Ⅱ",L67="○",N67="○",P67="○",T67="○"),単価!$J$39,AND(J67="Ⅱ",L67="○",N67="○",T67="○"),単価!$J$38,AND(J67="Ⅱ",N67="○",P67="○",R67="○",T67="○"),単価!$J$37,AND(J67="Ⅱ",N67="○",R67="○",T67="○"),単価!$J$36,AND(J67="Ⅱ",N67="○",P67="○",T67="○"),単価!$J$35,AND(J67="Ⅱ",N67="○",T67="○"),単価!$J$34,AND(J67="Ⅱ",L67="○",P67="○",R67="○",T67="○"),単価!$J$37,AND(J67="Ⅱ",L67="○",R67="○",T67="○"),単価!$J$36,AND(J67="Ⅱ",L67="○",P67="○",T67="○"),単価!$J$35,AND(J67="Ⅱ",L67="○",T67="○"),単価!$J$34,AND(J67="Ⅱ",P67="○",R67="○",T67="○"),単価!$J$33,AND(J67="Ⅱ",R67="○",T67="○"),単価!$J$32,AND(J67="Ⅱ",P67="○",T67="○"),単価!$J$31,AND(J67="Ⅱ",T67="○"),単価!$J$30,AND(J67="Ⅰ",L67="○",N67="○",P67="○",R67="○",T67="○"),単価!$J$29,AND(J67="Ⅰ",L67="○",N67="○",R67="○",T67="○"),単価!$J$28,AND(J67="Ⅰ",L67="○",N67="○",P67="○",T67="○"),単価!$J$27,AND(J67="Ⅰ",L67="○",N67="○",T67="○"),単価!$J$26,AND(J67="Ⅰ",N67="○",P67="○",R67="○",T67="○"),単価!$J$25,AND(J67="Ⅰ",N67="○",R67="○",T67="○"),単価!$J$24,AND(J67="Ⅰ",N67="○",P67="○",T67="○"),単価!$J$23,AND(J67="Ⅰ",N67="○",T67="○"),単価!$J$22,AND(J67="Ⅰ",L67="○",P67="○",R67="○",T67="○"),単価!$J$25,AND(J67="Ⅰ",L67="○",R67="○",T67="○"),単価!$J$24,AND(J67="Ⅰ",L67="○",P67="○",T67="○"),単価!$J$23,AND(J67="Ⅰ",L67="○",T67="○"),単価!$J$22,AND(J67="Ⅰ",P67="○",R67="○",T67="○"),単価!$J$21,AND(J67="Ⅰ",R67="○",T67="○"),単価!$J$20,AND(J67="Ⅰ",P67="○",T67="○"),単価!$J$19,AND(J67="Ⅰ",T67="○"),単価!$J$18,TRUE,0)} -> 0
A69: 9 | T69: ○ | V69: {=_xlfn.IFS(AND(J69="Ⅱ",L69="○",N69="○",P69="○",R69="○",T69="○"),単価!$J$41,AND(J69="Ⅱ",L69="○",N69="○",R69="○",T69="○"),単価!$J$40,AND(J69="Ⅱ",L69="○",N69="○",P69="○",T69="○"),単価!$J$39,AND(J69="Ⅱ",L69="○",N69="○",T69="○"),単価!$J$38,AND(J69="Ⅱ",N69="○",P69="○",R69="○",T69="○"),単価!$J$37,AND(J69="Ⅱ",N69="○",R69="○",T69="○"),単価!$J$36,AND(J69="Ⅱ",N69="○",P69="○",T69="○"),単価!$J$35,AND(J69="Ⅱ",N69="○",T69="○"),単価!$J$34,AND(J69="Ⅱ",L69="○",P69="○",R69="○",T69="○"),単価!$J$37,AND(J69="Ⅱ",L69="○",R69="○",T69="○"),単価!$J$36,AND(J69="Ⅱ",L69="○",P69="○",T69="○"),単価!$J$35,AND(J69="Ⅱ",L69="○",T69="○"),単価!$J$34,AND(J69="Ⅱ",P69="○",R69="○",T69="○"),単価!$J$33,AND(J69="Ⅱ",R69="○",T69="○"),単価!$J$32,AND(J69="Ⅱ",P69="○",T69="○"),単価!$J$31,AND(J69="Ⅱ",T69="○"),単価!$J$30,AND(J69="Ⅰ",L69="○",N69="○",P69="○",R69="○",T69="○"),単価!$J$29,AND(J69="Ⅰ",L69="○",N69="○",R69="○",T69="○"),単価!$J$28,AND(J69="Ⅰ",L69="○",N69="○",P69="○",T69="○"),単価!$J$27,AND(J69="Ⅰ",L69="○",N69="○",T69="○"),単価!$J$26,AND(J69="Ⅰ",N69="○",P69="○",R69="○",T69="○"),単価!$J$25,AND(J69="Ⅰ",N69="○",R69="○",T69="○"),単価!$J$24,AND(J69="Ⅰ",N69="○",P69="○",T69="○"),単価!$J$23,AND(J69="Ⅰ",N69="○",T69="○"),単価!$J$22,AND(J69="Ⅰ",L69="○",P69="○",R69="○",T69="○"),単価!$J$25,AND(J69="Ⅰ",L69="○",R69="○",T69="○"),単価!$J$24,AND(J69="Ⅰ",L69="○",P69="○",T69="○"),単価!$J$23,AND(J69="Ⅰ",L69="○",T69="○"),単価!$J$22,AND(J69="Ⅰ",P69="○",R69="○",T69="○"),単価!$J$21,AND(J69="Ⅰ",R69="○",T69="○"),単価!$J$20,AND(J69="Ⅰ",P69="○",T69="○"),単価!$J$19,AND(J69="Ⅰ",T69="○"),単価!$J$18,TRUE,0)} -> 0
A71: 10 | T71: ○ | V71: {=_xlfn.IFS(AND(J71="Ⅱ",L71="○",N71="○",P71="○",R71="○",T71="○"),単価!$J$41,AND(J71="Ⅱ",L71="○",N71="○",R71="○",T71="○"),単価!$J$40,AND(J71="Ⅱ",L71="○",N71="○",P71="○",T71="○"),単価!$J$39,AND(J71="Ⅱ",L71="○",N71="○",T71="○"),単価!$J$38,AND(J71="Ⅱ",N71="○",P71="○",R71="○",T71="○"),単価!$J$37,AND(J71="Ⅱ",N71="○",R71="○",T71="○"),単価!$J$36,AND(J71="Ⅱ",N71="○",P71="○",T71="○"),単価!$J$35,AND(J71="Ⅱ",N71="○",T71="○"),単価!$J$34,AND(J71="Ⅱ",L71="○",P71="○",R71="○",T71="○"),単価!$J$37,AND(J71="Ⅱ",L71="○",R71="○",T71="○"),単価!$J$36,AND(J71="Ⅱ",L71="○",P71="○",T71="○"),単価!$J$35,AND(J71="Ⅱ",L71="○",T71="○"),単価!$J$34,AND(J71="Ⅱ",P71="○",R71="○",T71="○"),単価!$J$33,AND(J71="Ⅱ",R71="○",T71="○"),単価!$J$32,AND(J71="Ⅱ",P71="○",T71="○"),単価!$J$31,AND(J71="Ⅱ",T71="○"),単価!$J$30,AND(J71="Ⅰ",L71="○",N71="○",P71="○",R71="○",T71="○"),単価!$J$29,AND(J71="Ⅰ",L71="○",N71="○",R71="○",T71="○"),単価!$J$28,AND(J71="Ⅰ",L71="○",N71="○",P71="○",T71="○"),単価!$J$27,AND(J71="Ⅰ",L71="○",N71="○",T71="○"),単価!$J$26,AND(J71="Ⅰ",N71="○",P71="○",R71="○",T71="○"),単価!$J$25,AND(J71="Ⅰ",N71="○",R71="○",T71="○"),単価!$J$24,AND(J71="Ⅰ",N71="○",P71="○",T71="○"),単価!$J$23,AND(J71="Ⅰ",N71="○",T71="○"),単価!$J$22,AND(J71="Ⅰ",L71="○",P71="○",R71="○",T71="○"),単価!$J$25,AND(J71="Ⅰ",L71="○",R71="○",T71="○"),単価!$J$24,AND(J71="Ⅰ",L71="○",P71="○",T71="○"),単価!$J$23,AND(J71="Ⅰ",L71="○",T71="○"),単価!$J$22,AND(J71="Ⅰ",P71="○",R71="○",T71="○"),単価!$J$21,AND(J71="Ⅰ",R71="○",T71="○"),単価!$J$20,AND(J71="Ⅰ",P71="○",T71="○"),単価!$J$19,AND(J71="Ⅰ",T71="○"),単価!$J$18,TRUE,0)} -> 0
A73: 11 | T73: ○ | V73: {=_xlfn.IFS(AND(J73="Ⅱ",L73="○",N73="○",P73="○",R73="○",T73="○"),単価!$J$41,AND(J73="Ⅱ",L73="○",N73="○",R73="○",T73="○"),単価!$J$40,AND(J73="Ⅱ",L73="○",N73="○",P73="○",T73="○"),単価!$J$39,AND(J73="Ⅱ",L73="○",N73="○",T73="○"),単価!$J$38,AND(J73="Ⅱ",N73="○",P73="○",R73="○",T73="○"),単価!$J$37,AND(J73="Ⅱ",N73="○",R73="○",T73="○"),単価!$J$36,AND(J73="Ⅱ",N73="○",P73="○",T73="○"),単価!$J$35,AND(J73="Ⅱ",N73="○",T73="○"),単価!$J$34,AND(J73="Ⅱ",L73="○",P73="○",R73="○",T73="○"),単価!$J$37,AND(J73="Ⅱ",L73="○",R73="○",T73="○"),単価!$J$36,AND(J73="Ⅱ",L73="○",P73="○",T73="○"),単価!$J$35,AND(J73="Ⅱ",L73="○",T73="○"),単価!$J$34,AND(J73="Ⅱ",P73="○",R73="○",T73="○"),単価!$J$33,AND(J73="Ⅱ",R73="○",T73="○"),単価!$J$32,AND(J73="Ⅱ",P73="○",T73="○"),単価!$J$31,AND(J73="Ⅱ",T73="○"),単価!$J$30,AND(J73="Ⅰ",L73="○",N73="○",P73="○",R73="○",T73="○"),単価!$J$29,AND(J73="Ⅰ",L73="○",N73="○",R73="○",T73="○"),単価!$J$28,AND(J73="Ⅰ",L73="○",N73="○",P73="○",T73="○"),単価!$J$27,AND(J73="Ⅰ",L73="○",N73="○",T73="○"),単価!$J$26,AND(J73="Ⅰ",N73="○",P73="○",R73="○",T73="○"),単価!$J$25,AND(J73="Ⅰ",N73="○",R73="○",T73="○"),単価!$J$24,AND(J73="Ⅰ",N73="○",P73="○",T73="○"),単価!$J$23,AND(J73="Ⅰ",N73="○",T73="○"),単価!$J$22,AND(J73="Ⅰ",L73="○",P73="○",R73="○",T73="○"),単価!$J$25,AND(J73="Ⅰ",L73="○",R73="○",T73="○"),単価!$J$24,AND(J73="Ⅰ",L73="○",P73="○",T73="○"),単価!$J$23,AND(J73="Ⅰ",L73="○",T73="○"),単価!$J$22,AND(J73="Ⅰ",P73="○",R73="○",T73="○"),単価!$J$21,AND(J73="Ⅰ",R73="○",T73="○"),単価!$J$20,AND(J73="Ⅰ",P73="○",T73="○"),単価!$J$19,AND(J73="Ⅰ",T73="○"),単価!$J$18,TRUE,0)} -> 0
A75: 12 | T75: ○ | V75: {=_xlfn.IFS(AND(J75="Ⅱ",L75="○",N75="○",P75="○",R75="○",T75="○"),単価!$J$41,AND(J75="Ⅱ",L75="○",N75="○",R75="○",T75="○"),単価!$J$40,AND(J75="Ⅱ",L75="○",N75="○",P75="○",T75="○"),単価!$J$39,AND(J75="Ⅱ",L75="○",N75="○",T75="○"),単価!$J$38,AND(J75="Ⅱ",N75="○",P75="○",R75="○",T75="○"),単価!$J$37,AND(J75="Ⅱ",N75="○",R75="○",T75="○"),単価!$J$36,AND(J75="Ⅱ",N75="○",P75="○",T75="○"),単価!$J$35,AND(J75="Ⅱ",N75="○",T75="○"),単価!$J$34,AND(J75="Ⅱ",L75="○",P75="○",R75="○",T75="○"),単価!$J$37,AND(J75="Ⅱ",L75="○",R75="○",T75="○"),単価!$J$36,AND(J75="Ⅱ",L75="○",P75="○",T75="○"),単価!$J$35,AND(J75="Ⅱ",L75="○",T75="○"),単価!$J$34,AND(J75="Ⅱ",P75="○",R75="○",T75="○"),単価!$J$33,AND(J75="Ⅱ",R75="○",T75="○"),単価!$J$32,AND(J75="Ⅱ",P75="○",T75="○"),単価!$J$31,AND(J75="Ⅱ",T75="○"),単価!$J$30,AND(J75="Ⅰ",L75="○",N75="○",P75="○",R75="○",T75="○"),単価!$J$29,AND(J75="Ⅰ",L75="○",N75="○",R75="○",T75="○"),単価!$J$28,AND(J75="Ⅰ",L75="○",N75="○",P75="○",T75="○"),単価!$J$27,AND(J75="Ⅰ",L75="○",N75="○",T75="○"),単価!$J$26,AND(J75="Ⅰ",N75="○",P75="○",R75="○",T75="○"),単価!$J$25,AND(J75="Ⅰ",N75="○",R75="○",T75="○"),単価!$J$24,AND(J75="Ⅰ",N75="○",P75="○",T75="○"),単価!$J$23,AND(J75="Ⅰ",N75="○",T75="○"),単価!$J$22,AND(J75="Ⅰ",L75="○",P75="○",R75="○",T75="○"),単価!$J$25,AND(J75="Ⅰ",L75="○",R75="○",T75="○"),単価!$J$24,AND(J75="Ⅰ",L75="○",P75="○",T75="○"),単価!$J$23,AND(J75="Ⅰ",L75="○",T75="○"),単価!$J$22,AND(J75="Ⅰ",P75="○",R75="○",T75="○"),単価!$J$21,AND(J75="Ⅰ",R75="○",T75="○"),単価!$J$20,AND(J75="Ⅰ",P75="○",T75="○"),単価!$J$19,AND(J75="Ⅰ",T75="○"),単価!$J$18,TRUE,0)} -> 0
A77: 13 | T77: ○ | V77: {=_xlfn.IFS(AND(J77="Ⅱ",L77="○",N77="○",P77="○",R77="○",T77="○"),単価!$J$41,AND(J77="Ⅱ",L77="○",N77="○",R77="○",T77="○"),単価!$J$40,AND(J77="Ⅱ",L77="○",N77="○",P77="○",T77="○"),単価!$J$39,AND(J77="Ⅱ",L77="○",N77="○",T77="○"),単価!$J$38,AND(J77="Ⅱ",N77="○",P77="○",R77="○",T77="○"),単価!$J$37,AND(J77="Ⅱ",N77="○",R77="○",T77="○"),単価!$J$36,AND(J77="Ⅱ",N77="○",P77="○",T77="○"),単価!$J$35,AND(J77="Ⅱ",N77="○",T77="○"),単価!$J$34,AND(J77="Ⅱ",L77="○",P77="○",R77="○",T77="○"),単価!$J$37,AND(J77="Ⅱ",L77="○",R77="○",T77="○"),単価!$J$36,AND(J77="Ⅱ",L77="○",P77="○",T77="○"),単価!$J$35,AND(J77="Ⅱ",L77="○",T77="○"),単価!$J$34,AND(J77="Ⅱ",P77="○",R77="○",T77="○"),単価!$J$33,AND(J77="Ⅱ",R77="○",T77="○"),単価!$J$32,AND(J77="Ⅱ",P77="○",T77="○"),単価!$J$31,AND(J77="Ⅱ",T77="○"),単価!$J$30,AND(J77="Ⅰ",L77="○",N77="○",P77="○",R77="○",T77="○"),単価!$J$29,AND(J77="Ⅰ",L77="○",N77="○",R77="○",T77="○"),単価!$J$28,AND(J77="Ⅰ",L77="○",N77="○",P77="○",T77="○"),単価!$J$27,AND(J77="Ⅰ",L77="○",N77="○",T77="○"),単価!$J$26,AND(J77="Ⅰ",N77="○",P77="○",R77="○",T77="○"),単価!$J$25,AND(J77="Ⅰ",N77="○",R77="○",T77="○"),単価!$J$24,AND(J77="Ⅰ",N77="○",P77="○",T77="○"),単価!$J$23,AND(J77="Ⅰ",N77="○",T77="○"),単価!$J$22,AND(J77="Ⅰ",L77="○",P77="○",R77="○",T77="○"),単価!$J$25,AND(J77="Ⅰ",L77="○",R77="○",T77="○"),単価!$J$24,AND(J77="Ⅰ",L77="○",P77="○",T77="○"),単価!$J$23,AND(J77="Ⅰ",L77="○",T77="○"),単価!$J$22,AND(J77="Ⅰ",P77="○",R77="○",T77="○"),単価!$J$21,AND(J77="Ⅰ",R77="○",T77="○"),単価!$J$20,AND(J77="Ⅰ",P77="○",T77="○"),単価!$J$19,AND(J77="Ⅰ",T77="○"),単価!$J$18,TRUE,0)} -> 0
A79: 14 | T79: ○ | V79: {=_xlfn.IFS(AND(J79="Ⅱ",L79="○",N79="○",P79="○",R79="○",T79="○"),単価!$J$41,AND(J79="Ⅱ",L79="○",N79="○",R79="○",T79="○"),単価!$J$40,AND(J79="Ⅱ",L79="○",N79="○",P79="○",T79="○"),単価!$J$39,AND(J79="Ⅱ",L79="○",N79="○",T79="○"),単価!$J$38,AND(J79="Ⅱ",N79="○",P79="○",R79="○",T79="○"),単価!$J$37,AND(J79="Ⅱ",N79="○",R79="○",T79="○"),単価!$J$36,AND(J79="Ⅱ",N79="○",P79="○",T79="○"),単価!$J$35,AND(J79="Ⅱ",N79="○",T79="○"),単価!$J$34,AND(J79="Ⅱ",L79="○",P79="○",R79="○",T79="○"),単価!$J$37,AND(J79="Ⅱ",L79="○",R79="○",T79="○"),単価!$J$36,AND(J79="Ⅱ",L79="○",P79="○",T79="○"),単価!$J$35,AND(J79="Ⅱ",L79="○",T79="○"),単価!$J$34,AND(J79="Ⅱ",P79="○",R79="○",T79="○"),単価!$J$33,AND(J79="Ⅱ",R79="○",T79="○"),単価!$J$32,AND(J79="Ⅱ",P79="○",T79="○"),単価!$J$31,AND(J79="Ⅱ",T79="○"),単価!$J$30,AND(J79="Ⅰ",L79="○",N79="○",P79="○",R79="○",T79="○"),単価!$J$29,AND(J79="Ⅰ",L79="○",N79="○",R79="○",T79="○"),単価!$J$28,AND(J79="Ⅰ",L79="○",N79="○",P79="○",T79="○"),単価!$J$27,AND(J79="Ⅰ",L79="○",N79="○",T79="○"),単価!$J$26,AND(J79="Ⅰ",N79="○",P79="○",R79="○",T79="○"),単価!$J$25,AND(J79="Ⅰ",N79="○",R79="○",T79="○"),単価!$J$24,AND(J79="Ⅰ",N79="○",P79="○",T79="○"),単価!$J$23,AND(J79="Ⅰ",N79="○",T79="○"),単価!$J$22,AND(J79="Ⅰ",L79="○",P79="○",R79="○",T79="○"),単価!$J$25,AND(J79="Ⅰ",L79="○",R79="○",T79="○"),単価!$J$24,AND(J79="Ⅰ",L79="○",P79="○",T79="○"),単価!$J$23,AND(J79="Ⅰ",L79="○",T79="○"),単価!$J$22,AND(J79="Ⅰ",P79="○",R79="○",T79="○"),単価!$J$21,AND(J79="Ⅰ",R79="○",T79="○"),単価!$J$20,AND(J79="Ⅰ",P79="○",T79="○"),単価!$J$19,AND(J79="Ⅰ",T79="○"),単価!$J$18,TRUE,0)} -> 0
A81: 15 | T81: ○ | V81: {=_xlfn.IFS(AND(J81="Ⅱ",L81="○",N81="○",P81="○",R81="○",T81="○"),単価!$J$41,AND(J81="Ⅱ",L81="○",N81="○",R81="○",T81="○"),単価!$J$40,AND(J81="Ⅱ",L81="○",N81="○",P81="○",T81="○"),単価!$J$39,AND(J81="Ⅱ",L81="○",N81="○",T81="○"),単価!$J$38,AND(J81="Ⅱ",N81="○",P81="○",R81="○",T81="○"),単価!$J$37,AND(J81="Ⅱ",N81="○",R81="○",T81="○"),単価!$J$36,AND(J81="Ⅱ",N81="○",P81="○",T81="○"),単価!$J$35,AND(J81="Ⅱ",N81="○",T81="○"),単価!$J$34,AND(J81="Ⅱ",L81="○",P81="○",R81="○",T81="○"),単価!$J$37,AND(J81="Ⅱ",L81="○",R81="○",T81="○"),単価!$J$36,AND(J81="Ⅱ",L81="○",P81="○",T81="○"),単価!$J$35,AND(J81="Ⅱ",L81="○",T81="○"),単価!$J$34,AND(J81="Ⅱ",P81="○",R81="○",T81="○"),単価!$J$33,AND(J81="Ⅱ",R81="○",T81="○"),単価!$J$32,AND(J81="Ⅱ",P81="○",T81="○"),単価!$J$31,AND(J81="Ⅱ",T81="○"),単価!$J$30,AND(J81="Ⅰ",L81="○",N81="○",P81="○",R81="○",T81="○"),単価!$J$29,AND(J81="Ⅰ",L81="○",N81="○",R81="○",T81="○"),単価!$J$28,AND(J81="Ⅰ",L81="○",N81="○",P81="○",T81="○"),単価!$J$27,AND(J81="Ⅰ",L81="○",N81="○",T81="○"),単価!$J$26,AND(J81="Ⅰ",N81="○",P81="○",R81="○",T81="○"),単価!$J$25,AND(J81="Ⅰ",N81="○",R81="○",T81="○"),単価!$J$24,AND(J81="Ⅰ",N81="○",P81="○",T81="○"),単価!$J$23,AND(J81="Ⅰ",N81="○",T81="○"),単価!$J$22,AND(J81="Ⅰ",L81="○",P81="○",R81="○",T81="○"),単価!$J$25,AND(J81="Ⅰ",L81="○",R81="○",T81="○"),単価!$J$24,AND(J81="Ⅰ",L81="○",P81="○",T81="○"),単価!$J$23,AND(J81="Ⅰ",L81="○",T81="○"),単価!$J$22,AND(J81="Ⅰ",P81="○",R81="○",T81="○"),単価!$J$21,AND(J81="Ⅰ",R81="○",T81="○"),単価!$J$20,AND(J81="Ⅰ",P81="○",T81="○"),単価!$J$19,AND(J81="Ⅰ",T81="○"),単価!$J$18,TRUE,0)} -> 0
A83: 合計 | J83: =COUNTIF(J53:K82,"Ⅰ")+COUNTIF(J53:K82,"Ⅱ") -> 8 | L83: =COUNTIF(L53:M82,"○") -> 0 | N83: =COUNTIF(N53:O82,"○") -> 0 | P83: =COUNTIF(P53:Q82,"○") -> 3 | R83: =COUNTIF(R53:S82,"○") -> 2 | V83: =SUM(V53:W82) -> 759 | X83: =COUNTIF(X53:Y82,"○") -> 1
F85: ケアマネジメント費（Ⅰ） | J85: =COUNTIF(J53:K82,"Ⅰ") -> 4 | L85: =COUNTIFS(J53:K82,"Ⅰ",L53:M82,"○") -> 0 | N85: =COUNTIFS(J53:K82,"Ⅰ",N53:O82,"○") -> 0
F86: ケアマネジメント費（Ⅱ） | J86: =COUNTIF(J53:K82,"Ⅱ") -> 4 | L86: =COUNTIFS(J53:K82,"Ⅱ",L53:M82,"○") -> 0 | N86: =COUNTIFS(J53:K82,"Ⅱ",N53:O82,"○") -> 0

Sheet 【記載例】請求書（減算あり）
N2: 京都市参考様式
B4: 介護予防支援及び介護予防ケアマネジメント委託業務請求書
G6: （令和○年●月分）
L8: 令和○年 ●月 △日
A10: （あて先）
A11: ○○○○法人 □□□□
A12: （京都市○○地域包括支援センター）
H13: （請求者）
I14: 所在地： | J14: 〒○○○‐○○○ 京都市○○区○○通○○町○○番地
I17: 法人名： | J17: ●●●●法人 ■■■■
I18: 事業所名： | J18: 居宅介護支援事業所 ●●
I19: 登録番号： | J19: T0123456789012
I20: 代表者氏名： | J20: △△ ▲▲
D23: 請求額 | F23: 千 | G23: 百 | H23: 十 | I23: 万 | J23: 千 | K23: 百 | L23: 十 | M23: 円
F24: =LEFT(RIGHT(TEXT($L$45," \0;;"),9-COLUMN(A1))) | G24: =LEFT(RIGHT(TEXT($L$45," \0;;"),9-COLUMN(B1))) -> ¥ | H24: =LEFT(RIGHT(TEXT($L$45," \0;;"),9-COLUMN(C1))) -> 1 | I24: =LEFT(RIGHT(TEXT($L$45," \0;;"),9-COLUMN(D1))) -> 3 | J24: =LEFT(RIGHT(TEXT($L$45," \0;;"),9-COLUMN(E1))) -> 9 | K24: =LEFT(RIGHT(TEXT($L$45," \0;;"),9-COLUMN(F1))) -> 7 | L24: =LEFT(RIGHT(TEXT($L$45," \0;;"),9-COLUMN(G1))) -> 1 | M24: =LEFT(RIGHT(TEXT($L$45," \0;;"),9-COLUMN(H1))) -> 9
B26: 請求内訳
B27: 内訳 | F27: 委託単価 | I27: 件数 | L27: 金額
B28: 介護予防支援 | C28: 支援費（Ⅰ） | F28: =単価!$E$6 -> 3783 | I28: ='【記載例】報告書（減算あり）'!J47 -> 7 | L28: =F28*I28 -> 26481
C29: 高齢者虐待防止措置未実施減算 | F29: =単価!$E$7 -> -34 | I29: ='【記載例】報告書（減算あり）'!L47 -> 0 | L29: =F29*I29 -> 0
C30: 業務継続計画未策定減算 | F30: =単価!$E$8 -> -34 | I30: ='【記載例】報告書（減算あり）'!N47 -> 7 | L30: =F30*I30 -> -238
C31: 初回加算 | F31: =単価!$E$12 -> 2568 | I31: ='【記載例】報告書（減算あり）'!P47 -> 2 | L31: =F31*I31 -> 5136
C32: 委託連携加算 | F32: =単価!$E$13 -> 2568 | I32: ='【記載例】報告書（減算あり）'!R47 -> 3 | L32: =F32*I32 -> 7704
C33: 計 | L33: =SUM(L28:O32) -> 39083
B34: 介護予防ケアマネジメント | C34: ケアマネジメント費（Ⅰ） | F34: =単価!$E$6 -> 3783 | I34: ='【記載例】報告書（減算あり）'!J85 -> 4 | L34: =F34*I34 -> 15132
C35: ケアマネジメント費（Ⅱ） | F35: =単価!$E$9 -> 4040 | I35: ='【記載例】報告書（減算あり）'!J86 -> 4 | L35: =F35*I35 -> 16160
C36: 高齢者虐待防止措置未実施減算 | F36: =単価!$E$10 -> -43 | I36: ='【記載例】報告書（減算あり）'!L83 -> 0 | L36: =F36*I36 -> 0
C37: 業務継続計画未策定減算 | F37: =単価!$E$11 -> -43 | I37: ='【記載例】報告書（減算あり）'!N83 -> 8 | L37: =F37*I37 -> -344
C38: 初回加算 | F38: =単価!$E$12 -> 2568 | I38: ='【記載例】報告書（減算あり）'!P83 -> 3 | L38: =F38*I38 -> 7704
C39: 委託連携加算 | F39: =単価!$E$13 -> 2568 | I39: ='【記載例】報告書（減算あり）'!R83 -> 2 | L39: =F39*I39 -> 5136
C40: 計 | L40: =SUM(L34:O39) -> 43788
B41: 処遇改善加算 | L41: ='【記載例】報告書（減算あり）'!V47+'【記載例】報告書（減算あり）'!V83 -> 1347
B42: 自立支援加算 | L42: =単価!M46*('【記載例】報告書（減算あり）'!X47+'【記載例】報告書（減算あり）'!X83) -> 42800
B43: 合計（税抜き） | L43: =L33+L40+L41+L42 -> 127018 | Q43: ←「仕様書別表の合計委託料×報告件数」の種別ごとの足し上げ
B44: 消費税 | L44: =ROUNDDOWN(L43*0.1,0) -> 12701
B45: 合計 | L45: =ROUNDDOWN(L43*1.1,0) -> 139719
A47: 振込先
A48: 金融機関名・金融機関コード | D48: 店舗名・支店番号 | G48: 預金種目 | J48: 口座番号
A49: ○○銀行 1234 | D49: ○○支店 123 | G49: 普通（総合） 当座 貯蓄 その他 | J49: 1 | K49: 2 | L49: 3 | M49: 4 | N49: 5 | O49: 6 | P49: 7
A50: 口座名義 （フリガナ） | D50: ○○○○○○○○
A52: 口座名義 （漢字等） | D52: ○○○○○○○○

Sheet 【記載例】報告書（減算あり）
W2: 京都市参考様式
C4: 介護予防支援及び介護予防ケアマネジメント委託業務報告書
F6: （令和○年●月分）
T7: 令和○年 ●月 △日
A8: あて先
A9: ='【記載例】請求書 '!A11 -> ○○○○法人 □□□□
A10: ='【記載例】請求書 '!A12 -> （京都市○○地域包括支援センター）
P12: 事業所名： | R12: ='【記載例】請求書 '!J18 -> 居宅介護支援事業所 ●●
A14: 介護予防支援
A15: No. | B15: 計画作成 年月 | D15: 被保険者番号 | G15: 氏名 | J15: 支援費 | L15: 虐防減算 | N15: 業未減算 | P15: 初回 | R15: 委託連携 | T15: 処遇改善 | V15: 処遇改善 加算額 | X15: 自立支援 加算
A17: 1 | B17: ○年●月 | D17: 1234567890 | G17: △△ ▲▲ | J17: Ⅰ | N17: ○ | T17: ○ | V17: {=_xlfn.IFS(AND(J17="Ⅱ",L17="○",N17="○",P17="○",R17="○",T17="○"),単価!$J$41,AND(J17="Ⅱ",L17="○",N17="○",R17="○",T17="○"),単価!$J$40,AND(J17="Ⅱ",L17="○",N17="○",P17="○",T17="○"),単価!$J$39,AND(J17="Ⅱ",L17="○",N17="○",T17="○"),単価!$J$38,AND(J17="Ⅱ",N17="○",P17="○",R17="○",T17="○"),単価!$J$37,AND(J17="Ⅱ",N17="○",R17="○",T17="○"),単価!$J$36,AND(J17="Ⅱ",N17="○",P17="○",T17="○"),単価!$J$35,AND(J17="Ⅱ",N17="○",T17="○"),単価!$J$34,AND(J17="Ⅱ",L17="○",P17="○",R17="○",T17="○"),単価!$J$37,AND(J17="Ⅱ",L17="○",R17="○",T17="○"),単価!$J$36,AND(J17="Ⅱ",L17="○",P17="○",T17="○"),単価!$J$35,AND(J17="Ⅱ",L17="○",T17="○"),単価!$J$34,AND(J17="Ⅱ",P17="○",R17="○",T17="○"),単価!$J$33,AND(J17="Ⅱ",R17="○",T17="○"),単価!$J$32,AND(J17="Ⅱ",P17="○",T17="○"),単価!$J$31,AND(J17="Ⅱ",T17="○"),単価!$J$30,AND(J17="Ⅰ",L17="○",N17="○",P17="○",R17="○",T17="○"),単価!$J$29,AND(J17="Ⅰ",L17="○",N17="○",R17="○",T17="○"),単価!$J$28,AND(J17="Ⅰ",L17="○",N17="○",P17="○",T17="○"),単価!$J$27,AND(J17="Ⅰ",L17="○",N17="○",T17="○"),単価!$J$26,AND(J17="Ⅰ",N17="○",P17="○",R17="○",T17="○"),単価!$J$25,AND(J17="Ⅰ",N17="○",R17="○",T17="○"),単価!$J$24,AND(J17="Ⅰ",N17="○",P17="○",T17="○"),単価!$J$23,AND(J17="Ⅰ",N17="○",T17="○"),単価!$J$22,AND(J17="Ⅰ",L17="○",P17="○",R17="○",T17="○"),単価!$J$25,AND(J17="Ⅰ",L17="○",R17="○",T17="○"),単価!$J$24,AND(J17="Ⅰ",L17="○",P17="○",T17="○"),単価!$J$23,AND(J17="Ⅰ",L17="○",T17="○"),単価!$J$22,AND(J17="Ⅰ",P17="○",R17="○",T17="○"),単価!$J$21,AND(J17="Ⅰ",R17="○",T17="○"),単価!$J$20,AND(J17="Ⅰ",P17="○",T17="○"),単価!$J$19,AND(J17="Ⅰ",T17="○"),単価!$J$18,TRUE,0)} -> 76
A19: 2 | B19: ○年●月 | D19: 2345678901 | G19: ▲▲ △△ | J19: Ⅰ | N19: ○ | P19: ○ | T19: ○ | V19: {=_xlfn.IFS(AND(J19="Ⅱ",L19="○",N19="○",P19="○",R19="○",T19="○"),単価!$J$41,AND(J19="Ⅱ",L19="○",N19="○",R19="○",T19="○"),単価!$J$40,AND(J19="Ⅱ",L19="○",N19="○",P19="○",T19="○"),単価!$J$39,AND(J19="Ⅱ",L19="○",N19="○",T19="○"),単価!$J$38,AND(J19="Ⅱ",N19="○",P19="○",R19="○",T19="○"),単価!$J$37,AND(J19="Ⅱ",N19="○",R19="○",T19="○"),単価!$J$36,AND(J19="Ⅱ",N19="○",P19="○",T19="○"),単価!$J$35,AND(J19="Ⅱ",N19="○",T19="○"),単価!$J$34,AND(J19="Ⅱ",L19="○",P19="○",R19="○",T19="○"),単価!$J$37,AND(J19="Ⅱ",L19="○",R19="○",T19="○"),単価!$J$36,AND(J19="Ⅱ",L19="○",P19="○",T19="○"),単価!$J$35,AND(J19="Ⅱ",L19="○",T19="○"),単価!$J$34,AND(J19="Ⅱ",P19="○",R19="○",T19="○"),単価!$J$33,AND(J19="Ⅱ",R19="○",T19="○"),単価!$J$32,AND(J19="Ⅱ",P19="○",T19="○"),単価!$J$31,AND(J19="Ⅱ",T19="○"),単価!$J$30,AND(J19="Ⅰ",L19="○",N19="○",P19="○",R19="○",T19="○"),単価!$J$29,AND(J19="Ⅰ",L19="○",N19="○",R19="○",T19="○"),単価!$J$28,AND(J19="Ⅰ",L19="○",N19="○",P19="○",T19="○"),単価!$J$27,AND(J19="Ⅰ",L19="○",N19="○",T19="○"),単価!$J$26,AND(J19="Ⅰ",N19="○",P19="○",R19="○",T19="○"),単価!$J$25,AND(J19="Ⅰ",N19="○",R19="○",T19="○"),単価!$J$24,AND(J19="Ⅰ",N19="○",P19="○",T19="○"),単価!$J$23,AND(J19="Ⅰ",N19="○",T19="○"),単価!$J$22,AND(J19="Ⅰ",L19="○",P19="○",R19="○",T19="○"),単価!$J$25,AND(J19="Ⅰ",L19="○",R19="○",T19="○"),単価!$J$24,AND(J19="Ⅰ",L19="○",P19="○",T19="○"),単価!$J$23,AND(J19="Ⅰ",L19="○",T19="○"),単価!$J$22,AND(J19="Ⅰ",P19="○",R19="○",T19="○"),単価!$J$21,AND(J19="Ⅰ",R19="○",T19="○"),単価!$J$20,AND(J19="Ⅰ",P19="○",T19="○"),単価!$J$19,AND(J19="Ⅰ",T19="○"),単価!$J$18,TRUE,0)} -> 128
A21: 3 | B21: ○年●月 | D21: 3456789012 | G21: □□ ■■ | J21: Ⅰ | N21: ○ | R21: ○ | T21: ○ | V21: {=_xlfn.IFS(AND(J21="Ⅱ",L21="○",N21="○",P21="○",R21="○",T21="○"),単価!$J$41,AND(J21="Ⅱ",L21="○",N21="○",R21="○",T21="○"),単価!$J$40,AND(J21="Ⅱ",L21="○",N21="○",P21="○",T21="○"),単価!$J$39,AND(J21="Ⅱ",L21="○",N21="○",T21="○"),単価!$J$38,AND(J21="Ⅱ",N21="○",P21="○",R21="○",T21="○"),単価!$J$37,AND(J21="Ⅱ",N21="○",R21="○",T21="○"),単価!$J$36,AND(J21="Ⅱ",N21="○",P21="○",T21="○"),単価!$J$35,AND(J21="Ⅱ",N21="○",T21="○"),単価!$J$34,AND(J21="Ⅱ",L21="○",P21="○",R21="○",T21="○"),単価!$J$37,AND(J21="Ⅱ",L21="○",R21="○",T21="○"),単価!$J$36,AND(J21="Ⅱ",L21="○",P21="○",T21="○"),単価!$J$35,AND(J21="Ⅱ",L21="○",T21="○"),単価!$J$34,AND(J21="Ⅱ",P21="○",R21="○",T21="○"),単価!$J$33,AND(J21="Ⅱ",R21="○",T21="○"),単価!$J$32,AND(J21="Ⅱ",P21="○",T21="○"),単価!$J$31,AND(J21="Ⅱ",T21="○"),単価!$J$30,AND(J21="Ⅰ",L21="○",N21="○",P21="○",R21="○",T21="○"),単価!$J$29,AND(J21="Ⅰ",L21="○",N21="○",R21="○",T21="○"),単価!$J$28,AND(J21="Ⅰ",L21="○",N21="○",P21="○",T21="○"),単価!$J$27,AND(J21="Ⅰ",L21="○",N21="○",T21="○"),単価!$J$26,AND(J21="Ⅰ",N21="○",P21="○",R21="○",T21="○"),単価!$J$25,AND(J21="Ⅰ",N21="○",R21="○",T21="○"),単価!$J$24,AND(J21="Ⅰ",N21="○",P21="○",T21="○"),単価!$J$23,AND(J21="Ⅰ",N21="○",T21="○"),単価!$J$22,AND(J21="Ⅰ",L21="○",P21="○",R21="○",T21="○"),単価!$J$25,AND(J21="Ⅰ",L21="○",R21="○",T21="○"),単価!$J$24,AND(J21="Ⅰ",L21="○",P21="○",T21="○"),単価!$J$23,AND(J21="Ⅰ",L21="○",T21="○"),単価!$J$22,AND(J21="Ⅰ",P21="○",R21="○",T21="○"),単価!$J$21,AND(J21="Ⅰ",R21="○",T21="○"),単価!$J$20,AND(J21="Ⅰ",P21="○",T21="○"),単価!$J$19,AND(J21="Ⅰ",T21="○"),単価!$J$18,TRUE,0)} -> 128
A23: 4 | B23: ○年●月 | D23: 4567890123 | G23: ■■ □□ | J23: Ⅰ | N23: ○ | P23: ○ | R23: ○ | T23: ○ | V23: {=_xlfn.IFS(AND(J23="Ⅱ",L23="○",N23="○",P23="○",R23="○",T23="○"),単価!$J$41,AND(J23="Ⅱ",L23="○",N23="○",R23="○",T23="○"),単価!$J$40,AND(J23="Ⅱ",L23="○",N23="○",P23="○",T23="○"),単価!$J$39,AND(J23="Ⅱ",L23="○",N23="○",T23="○"),単価!$J$38,AND(J23="Ⅱ",N23="○",P23="○",R23="○",T23="○"),単価!$J$37,AND(J23="Ⅱ",N23="○",R23="○",T23="○"),単価!$J$36,AND(J23="Ⅱ",N23="○",P23="○",T23="○"),単価!$J$35,AND(J23="Ⅱ",N23="○",T23="○"),単価!$J$34,AND(J23="Ⅱ",L23="○",P23="○",R23="○",T23="○"),単価!$J$37,AND(J23="Ⅱ",L23="○",R23="○",T23="○"),単価!$J$36,AND(J23="Ⅱ",L23="○",P23="○",T23="○"),単価!$J$35,AND(J23="Ⅱ",L23="○",T23="○"),単価!$J$34,AND(J23="Ⅱ",P23="○",R23="○",T23="○"),単価!$J$33,AND(J23="Ⅱ",R23="○",T23="○"),単価!$J$32,AND(J23="Ⅱ",P23="○",T23="○"),単価!$J$31,AND(J23="Ⅱ",T23="○"),単価!$J$30,AND(J23="Ⅰ",L23="○",N23="○",P23="○",R23="○",T23="○"),単価!$J$29,AND(J23="Ⅰ",L23="○",N23="○",R23="○",T23="○"),単価!$J$28,AND(J23="Ⅰ",L23="○",N23="○",P23="○",T23="○"),単価!$J$27,AND(J23="Ⅰ",L23="○",N23="○",T23="○"),単価!$J$26,AND(J23="Ⅰ",N23="○",P23="○",R23="○",T23="○"),単価!$J$25,AND(J23="Ⅰ",N23="○",R23="○",T23="○"),単価!$J$24,AND(J23="Ⅰ",N23="○",P23="○",T23="○"),単価!$J$23,AND(J23="Ⅰ",N23="○",T23="○"),単価!$J$22,AND(J23="Ⅰ",L23="○",P23="○",R23="○",T23="○"),単価!$J$25,AND(J23="Ⅰ",L23="○",R23="○",T23="○"),単価!$J$24,AND(J23="Ⅰ",L23="○",P23="○",T23="○"),単価!$J$23,AND(J23="Ⅰ",L23="○",T23="○"),単価!$J$22,AND(J23="Ⅰ",P23="○",R23="○",T23="○"),単価!$J$21,AND(J23="Ⅰ",R23="○",T23="○"),単価!$J$20,AND(J23="Ⅰ",P23="○",T23="○"),単価!$J$19,AND(J23="Ⅰ",T23="○"),単価!$J$18,TRUE,0)} -> 188
A25: 5 | B25: ○年●月 | D25: 5678901234 | G25: ▼▼ ▽▽ | J25: Ⅰ | N25: ○ | T25: ○ | V25: {=_xlfn.IFS(AND(J25="Ⅱ",L25="○",N25="○",P25="○",R25="○",T25="○"),単価!$J$41,AND(J25="Ⅱ",L25="○",N25="○",R25="○",T25="○"),単価!$J$40,AND(J25="Ⅱ",L25="○",N25="○",P25="○",T25="○"),単価!$J$39,AND(J25="Ⅱ",L25="○",N25="○",T25="○"),単価!$J$38,AND(J25="Ⅱ",N25="○",P25="○",R25="○",T25="○"),単価!$J$37,AND(J25="Ⅱ",N25="○",R25="○",T25="○"),単価!$J$36,AND(J25="Ⅱ",N25="○",P25="○",T25="○"),単価!$J$35,AND(J25="Ⅱ",N25="○",T25="○"),単価!$J$34,AND(J25="Ⅱ",L25="○",P25="○",R25="○",T25="○"),単価!$J$37,AND(J25="Ⅱ",L25="○",R25="○",T25="○"),単価!$J$36,AND(J25="Ⅱ",L25="○",P25="○",T25="○"),単価!$J$35,AND(J25="Ⅱ",L25="○",T25="○"),単価!$J$34,AND(J25="Ⅱ",P25="○",R25="○",T25="○"),単価!$J$33,AND(J25="Ⅱ",R25="○",T25="○"),単価!$J$32,AND(J25="Ⅱ",P25="○",T25="○"),単価!$J$31,AND(J25="Ⅱ",T25="○"),単価!$J$30,AND(J25="Ⅰ",L25="○",N25="○",P25="○",R25="○",T25="○"),単価!$J$29,AND(J25="Ⅰ",L25="○",N25="○",R25="○",T25="○"),単価!$J$28,AND(J25="Ⅰ",L25="○",N25="○",P25="○",T25="○"),単価!$J$27,AND(J25="Ⅰ",L25="○",N25="○",T25="○"),単価!$J$26,AND(J25="Ⅰ",N25="○",P25="○",R25="○",T25="○"),単価!$J$25,AND(J25="Ⅰ",N25="○",R25="○",T25="○"),単価!$J$24,AND(J25="Ⅰ",N25="○",P25="○",T25="○"),単価!$J$23,AND(J25="Ⅰ",N25="○",T25="○"),単価!$J$22,AND(J25="Ⅰ",L25="○",P25="○",R25="○",T25="○"),単価!$J$25,AND(J25="Ⅰ",L25="○",R25="○",T25="○"),単価!$J$24,AND(J25="Ⅰ",L25="○",P25="○",T25="○"),単価!$J$23,AND(J25="Ⅰ",L25="○",T25="○"),単価!$J$22,AND(J25="Ⅰ",P25="○",R25="○",T25="○"),単価!$J$21,AND(J25="Ⅰ",R25="○",T25="○"),単価!$J$20,AND(J25="Ⅰ",P25="○",T25="○"),単価!$J$19,AND(J25="Ⅰ",T25="○"),単価!$J$18,TRUE,0)} -> 76
A27: 6 | B27: ○年●月 | D27: 6789012345 | G27: ▽▽ ▼▼ | J27: Ⅰ | N27: ○ | V27: {=_xlfn.IFS(AND(J27="Ⅱ",L27="○",N27="○",P27="○",R27="○",T27="○"),単価!$J$41,AND(J27="Ⅱ",L27="○",N27="○",R27="○",T27="○"),単価!$J$40,AND(J27="Ⅱ",L27="○",N27="○",P27="○",T27="○"),単価!$J$39,AND(J27="Ⅱ",L27="○",N27="○",T27="○"),単価!$J$38,AND(J27="Ⅱ",N27="○",P27="○",R27="○",T27="○"),単価!$J$37,AND(J27="Ⅱ",N27="○",R27="○",T27="○"),単価!$J$36,AND(J27="Ⅱ",N27="○",P27="○",T27="○"),単価!$J$35,AND(J27="Ⅱ",N27="○",T27="○"),単価!$J$34,AND(J27="Ⅱ",L27="○",P27="○",R27="○",T27="○"),単価!$J$37,AND(J27="Ⅱ",L27="○",R27="○",T27="○"),単価!$J$36,AND(J27="Ⅱ",L27="○",P27="○",T27="○"),単価!$J$35,AND(J27="Ⅱ",L27="○",T27="○"),単価!$J$34,AND(J27="Ⅱ",P27="○",R27="○",T27="○"),単価!$J$33,AND(J27="Ⅱ",R27="○",T27="○"),単価!$J$32,AND(J27="Ⅱ",P27="○",T27="○"),単価!$J$31,AND(J27="Ⅱ",T27="○"),単価!$J$30,AND(J27="Ⅰ",L27="○",N27="○",P27="○",R27="○",T27="○"),単価!$J$29,AND(J27="Ⅰ",L27="○",N27="○",R27="○",T27="○"),単価!$J$28,AND(J27="Ⅰ",L27="○",N27="○",P27="○",T27="○"),単価!$J$27,AND(J27="Ⅰ",L27="○",N27="○",T27="○"),単価!$J$26,AND(J27="Ⅰ",N27="○",P27="○",R27="○",T27="○"),単価!$J$25,AND(J27="Ⅰ",N27="○",R27="○",T27="○"),単価!$J$24,AND(J27="Ⅰ",N27="○",P27="○",T27="○"),単価!$J$23,AND(J27="Ⅰ",N27="○",T27="○"),単価!$J$22,AND(J27="Ⅰ",L27="○",P27="○",R27="○",T27="○"),単価!$J$25,AND(J27="Ⅰ",L27="○",R27="○",T27="○"),単価!$J$24,AND(J27="Ⅰ",L27="○",P27="○",T27="○"),単価!$J$23,AND(J27="Ⅰ",L27="○",T27="○"),単価!$J$22,AND(J27="Ⅰ",P27="○",R27="○",T27="○"),単価!$J$21,AND(J27="Ⅰ",R27="○",T27="○"),単価!$J$20,AND(J27="Ⅰ",P27="○",T27="○"),単価!$J$19,AND(J27="Ⅰ",T27="○"),単価!$J$18,TRUE,0)} -> 0
A29: 7 | B29: ○年●月 | D29: 7890123456 | G29: ☆☆ ★★ | J29: Ⅰ | N29: ○ | R29: ○ | V29: {=_xlfn.IFS(AND(J29="Ⅱ",L29="○",N29="○",P29="○",R29="○",T29="○"),単価!$J$41,AND(J29="Ⅱ",L29="○",N29="○",R29="○",T29="○"),単価!$J$40,AND(J29="Ⅱ",L29="○",N29="○",P29="○",T29="○"),単価!$J$39,AND(J29="Ⅱ",L29="○",N29="○",T29="○"),単価!$J$38,AND(J29="Ⅱ",N29="○",P29="○",R29="○",T29="○"),単価!$J$37,AND(J29="Ⅱ",N29="○",R29="○",T29="○"),単価!$J$36,AND(J29="Ⅱ",N29="○",P29="○",T29="○"),単価!$J$35,AND(J29="Ⅱ",N29="○",T29="○"),単価!$J$34,AND(J29="Ⅱ",L29="○",P29="○",R29="○",T29="○"),単価!$J$37,AND(J29="Ⅱ",L29="○",R29="○",T29="○"),単価!$J$36,AND(J29="Ⅱ",L29="○",P29="○",T29="○"),単価!$J$35,AND(J29="Ⅱ",L29="○",T29="○"),単価!$J$34,AND(J29="Ⅱ",P29="○",R29="○",T29="○"),単価!$J$33,AND(J29="Ⅱ",R29="○",T29="○"),単価!$J$32,AND(J29="Ⅱ",P29="○",T29="○"),単価!$J$31,AND(J29="Ⅱ",T29="○"),単価!$J$30,AND(J29="Ⅰ",L29="○",N29="○",P29="○",R29="○",T29="○"),単価!$J$29,AND(J29="Ⅰ",L29="○",N29="○",R29="○",T29="○"),単価!$J$28,AND(J29="Ⅰ",L29="○",N29="○",P29="○",T29="○"),単価!$J$27,AND(J29="Ⅰ",L29="○",N29="○",T29="○"),単価!$J$26,AND(J29="Ⅰ",N29="○",P29="○",R29="○",T29="○"),単価!$J$25,AND(J29="Ⅰ",N29="○",R29="○",T29="○"),単価!$J$24,AND(J29="Ⅰ",N29="○",P29="○",T29="○"),単価!$J$23,AND(J29="Ⅰ",N29="○",T29="○"),単価!$J$22,AND(J29="Ⅰ",L29="○",P29="○",R29="○",T29="○"),単価!$J$25,AND(J29="Ⅰ",L29="○",R29="○",T29="○"),単価!$J$24,AND(J29="Ⅰ",L29="○",P29="○",T29="○"),単価!$J$23,AND(J29="Ⅰ",L29="○",T29="○"),単価!$J$22,AND(J29="Ⅰ",P29="○",R29="○",T29="○"),単価!$J$21,AND(J29="Ⅰ",R29="○",T29="○"),単価!$J$20,AND(J29="Ⅰ",P29="○",T29="○"),単価!$J$19,AND(J29="Ⅰ",T29="○"),単価!$J$18,TRUE,0)} -> 0
A31: 8 | T31: ○ | V31: {=_xlfn.IFS(AND(J31="Ⅱ",L31="○",N31="○",P31="○",R31="○",T31="○"),単価!$J$41,AND(J31="Ⅱ",L31="○",N31="○",R31="○",T31="○"),単価!$J$40,AND(J31="Ⅱ",L31="○",N31="○",P31="○",T31="○"),単価!$J$39,AND(J31="Ⅱ",L31="○",N31="○",T31="○"),単価!$J$38,AND(J31="Ⅱ",N31="○",P31="○",R31="○",T31="○"),単価!$J$37,AND(J31="Ⅱ",N31="○",R31="○",T31="○"),単価!$J$36,AND(J31="Ⅱ",N31="○",P31="○",T31="○"),単価!$J$35,AND(J31="Ⅱ",N31="○",T31="○"),単価!$J$34,AND(J31="Ⅱ",L31="○",P31="○",R31="○",T31="○"),単価!$J$37,AND(J31="Ⅱ",L31="○",R31="○",T31="○"),単価!$J$36,AND(J31="Ⅱ",L31="○",P31="○",T31="○"),単価!$J$35,AND(J31="Ⅱ",L31="○",T31="○"),単価!$J$34,AND(J31="Ⅱ",P31="○",R31="○",T31="○"),単価!$J$33,AND(J31="Ⅱ",R31="○",T31="○"),単価!$J$32,AND(J31="Ⅱ",P31="○",T31="○"),単価!$J$31,AND(J31="Ⅱ",T31="○"),単価!$J$30,AND(J31="Ⅰ",L31="○",N31="○",P31="○",R31="○",T31="○"),単価!$J$29,AND(J31="Ⅰ",L31="○",N31="○",R31="○",T31="○"),単価!$J$28,AND(J31="Ⅰ",L31="○",N31="○",P31="○",T31="○"),単価!$J$27,AND(J31="Ⅰ",L31="○",N31="○",T31="○"),単価!$J$26,AND(J31="Ⅰ",N31="○",P31="○",R31="○",T31="○"),単価!$J$25,AND(J31="Ⅰ",N31="○",R31="○",T31="○"),単価!$J$24,AND(J31="Ⅰ",N31="○",P31="○",T31="○"),単価!$J$23,AND(J31="Ⅰ",N31="○",T31="○"),単価!$J$22,AND(J31="Ⅰ",L31="○",P31="○",R31="○",T31="○"),単価!$J$25,AND(J31="Ⅰ",L31="○",R31="○",T31="○"),単価!$J$24,AND(J31="Ⅰ",L31="○",P31="○",T31="○"),単価!$J$23,AND(J31="Ⅰ",L31="○",T31="○"),単価!$J$22,AND(J31="Ⅰ",P31="○",R31="○",T31="○"),単価!$J$21,AND(J31="Ⅰ",R31="○",T31="○"),単価!$J$20,AND(J31="Ⅰ",P31="○",T31="○"),単価!$J$19,AND(J31="Ⅰ",T31="○"),単価!$J$18,TRUE,0)} -> 0
A33: 9 | T33: ○ | V33: {=_xlfn.IFS(AND(J33="Ⅱ",L33="○",N33="○",P33="○",R33="○",T33="○"),単価!$J$41,AND(J33="Ⅱ",L33="○",N33="○",R33="○",T33="○"),単価!$J$40,AND(J33="Ⅱ",L33="○",N33="○",P33="○",T33="○"),単価!$J$39,AND(J33="Ⅱ",L33="○",N33="○",T33="○"),単価!$J$38,AND(J33="Ⅱ",N33="○",P33="○",R33="○",T33="○"),単価!$J$37,AND(J33="Ⅱ",N33="○",R33="○",T33="○"),単価!$J$36,AND(J33="Ⅱ",N33="○",P33="○",T33="○"),単価!$J$35,AND(J33="Ⅱ",N33="○",T33="○"),単価!$J$34,AND(J33="Ⅱ",L33="○",P33="○",R33="○",T33="○"),単価!$J$37,AND(J33="Ⅱ",L33="○",R33="○",T33="○"),単価!$J$36,AND(J33="Ⅱ",L33="○",P33="○",T33="○"),単価!$J$35,AND(J33="Ⅱ",L33="○",T33="○"),単価!$J$34,AND(J33="Ⅱ",P33="○",R33="○",T33="○"),単価!$J$33,AND(J33="Ⅱ",R33="○",T33="○"),単価!$J$32,AND(J33="Ⅱ",P33="○",T33="○"),単価!$J$31,AND(J33="Ⅱ",T33="○"),単価!$J$30,AND(J33="Ⅰ",L33="○",N33="○",P33="○",R33="○",T33="○"),単価!$J$29,AND(J33="Ⅰ",L33="○",N33="○",R33="○",T33="○"),単価!$J$28,AND(J33="Ⅰ",L33="○",N33="○",P33="○",T33="○"),単価!$J$27,AND(J33="Ⅰ",L33="○",N33="○",T33="○"),単価!$J$26,AND(J33="Ⅰ",N33="○",P33="○",R33="○",T33="○"),単価!$J$25,AND(J33="Ⅰ",N33="○",R33="○",T33="○"),単価!$J$24,AND(J33="Ⅰ",N33="○",P33="○",T33="○"),単価!$J$23,AND(J33="Ⅰ",N33="○",T33="○"),単価!$J$22,AND(J33="Ⅰ",L33="○",P33="○",R33="○",T33="○"),単価!$J$25,AND(J33="Ⅰ",L33="○",R33="○",T33="○"),単価!$J$24,AND(J33="Ⅰ",L33="○",P33="○",T33="○"),単価!$J$23,AND(J33="Ⅰ",L33="○",T33="○"),単価!$J$22,AND(J33="Ⅰ",P33="○",R33="○",T33="○"),単価!$J$21,AND(J33="Ⅰ",R33="○",T33="○"),単価!$J$20,AND(J33="Ⅰ",P33="○",T33="○"),単価!$J$19,AND(J33="Ⅰ",T33="○"),単価!$J$18,TRUE,0)} -> 0
A35: 10 | T35: ○ | V35: {=_xlfn.IFS(AND(J35="Ⅱ",L35="○",N35="○",P35="○",R35="○",T35="○"),単価!$J$41,AND(J35="Ⅱ",L35="○",N35="○",R35="○",T35="○"),単価!$J$40,AND(J35="Ⅱ",L35="○",N35="○",P35="○",T35="○"),単価!$J$39,AND(J35="Ⅱ",L35="○",N35="○",T35="○"),単価!$J$38,AND(J35="Ⅱ",N35="○",P35="○",R35="○",T35="○"),単価!$J$37,AND(J35="Ⅱ",N35="○",R35="○",T35="○"),単価!$J$36,AND(J35="Ⅱ",N35="○",P35="○",T35="○"),単価!$J$35,AND(J35="Ⅱ",N35="○",T35="○"),単価!$J$34,AND(J35="Ⅱ",L35="○",P35="○",R35="○",T35="○"),単価!$J$37,AND(J35="Ⅱ",L35="○",R35="○",T35="○"),単価!$J$36,AND(J35="Ⅱ",L35="○",P35="○",T35="○"),単価!$J$35,AND(J35="Ⅱ",L35="○",T35="○"),単価!$J$34,AND(J35="Ⅱ",P35="○",R35="○",T35="○"),単価!$J$33,AND(J35="Ⅱ",R35="○",T35="○"),単価!$J$32,AND(J35="Ⅱ",P35="○",T35="○"),単価!$J$31,AND(J35="Ⅱ",T35="○"),単価!$J$30,AND(J35="Ⅰ",L35="○",N35="○",P35="○",R35="○",T35="○"),単価!$J$29,AND(J35="Ⅰ",L35="○",N35="○",R35="○",T35="○"),単価!$J$28,AND(J35="Ⅰ",L35="○",N35="○",P35="○",T35="○"),単価!$J$27,AND(J35="Ⅰ",L35="○",N35="○",T35="○"),単価!$J$26,AND(J35="Ⅰ",N35="○",P35="○",R35="○",T35="○"),単価!$J$25,AND(J35="Ⅰ",N35="○",R35="○",T35="○"),単価!$J$24,AND(J35="Ⅰ",N35="○",P35="○",T35="○"),単価!$J$23,AND(J35="Ⅰ",N35="○",T35="○"),単価!$J$22,AND(J35="Ⅰ",L35="○",P35="○",R35="○",T35="○"),単価!$J$25,AND(J35="Ⅰ",L35="○",R35="○",T35="○"),単価!$J$24,AND(J35="Ⅰ",L35="○",P35="○",T35="○"),単価!$J$23,AND(J35="Ⅰ",L35="○",T35="○"),単価!$J$22,AND(J35="Ⅰ",P35="○",R35="○",T35="○"),単価!$J$21,AND(J35="Ⅰ",R35="○",T35="○"),単価!$J$20,AND(J35="Ⅰ",P35="○",T35="○"),単価!$J$19,AND(J35="Ⅰ",T35="○"),単価!$J$18,TRUE,0)} -> 0
A37: 11 | T37: ○ | V37: {=_xlfn.IFS(AND(J37="Ⅱ",L37="○",N37="○",P37="○",R37="○",T37="○"),単価!$J$41,AND(J37="Ⅱ",L37="○",N37="○",R37="○",T37="○"),単価!$J$40,AND(J37="Ⅱ",L37="○",N37="○",P37="○",T37="○"),単価!$J$39,AND(J37="Ⅱ",L37="○",N37="○",T37="○"),単価!$J$38,AND(J37="Ⅱ",N37="○",P37="○",R37="○",T37="○"),単価!$J$37,AND(J37="Ⅱ",N37="○",R37="○",T37="○"),単価!$J$36,AND(J37="Ⅱ",N37="○",P37="○",T37="○"),単価!$J$35,AND(J37="Ⅱ",N37="○",T37="○"),単価!$J$34,AND(J37="Ⅱ",L37="○",P37="○",R37="○",T37="○"),単価!$J$37,AND(J37="Ⅱ",L37="○",R37="○",T37="○"),単価!$J$36,AND(J37="Ⅱ",L37="○",P37="○",T37="○"),単価!$J$35,AND(J37="Ⅱ",L37="○",T37="○"),単価!$J$34,AND(J37="Ⅱ",P37="○",R37="○",T37="○"),単価!$J$33,AND(J37="Ⅱ",R37="○",T37="○"),単価!$J$32,AND(J37="Ⅱ",P37="○",T37="○"),単価!$J$31,AND(J37="Ⅱ",T37="○"),単価!$J$30,AND(J37="Ⅰ",L37="○",N37="○",P37="○",R37="○",T37="○"),単価!$J$29,AND(J37="Ⅰ",L37="○",N37="○",R37="○",T37="○"),単価!$J$28,AND(J37="Ⅰ",L37="○",N37="○",P37="○",T37="○"),単価!$J$27,AND(J37="Ⅰ",L37="○",N37="○",T37="○"),単価!$J$26,AND(J37="Ⅰ",N37="○",P37="○",R37="○",T37="○"),単価!$J$25,AND(J37="Ⅰ",N37="○",R37="○",T37="○"),単価!$J$24,AND(J37="Ⅰ",N37="○",P37="○",T37="○"),単価!$J$23,AND(J37="Ⅰ",N37="○",T37="○"),単価!$J$22,AND(J37="Ⅰ",L37="○",P37="○",R37="○",T37="○"),単価!$J$25,AND(J37="Ⅰ",L37="○",R37="○",T37="○"),単価!$J$24,AND(J37="Ⅰ",L37="○",P37="○",T37="○"),単価!$J$23,AND(J37="Ⅰ",L37="○",T37="○"),単価!$J$22,AND(J37="Ⅰ",P37="○",R37="○",T37="○"),単価!$J$21,AND(J37="Ⅰ",R37="○",T37="○"),単価!$J$20,AND(J37="Ⅰ",P37="○",T37="○"),単価!$J$19,AND(J37="Ⅰ",T37="○"),単価!$J$18,TRUE,0)} -> 0
A39: 12 | T39: ○ | V39: {=_xlfn.IFS(AND(J39="Ⅱ",L39="○",N39="○",P39="○",R39="○",T39="○"),単価!$J$41,AND(J39="Ⅱ",L39="○",N39="○",R39="○",T39="○"),単価!$J$40,AND(J39="Ⅱ",L39="○",N39="○",P39="○",T39="○"),単価!$J$39,AND(J39="Ⅱ",L39="○",N39="○",T39="○"),単価!$J$38,AND(J39="Ⅱ",N39="○",P39="○",R39="○",T39="○"),単価!$J$37,AND(J39="Ⅱ",N39="○",R39="○",T39="○"),単価!$J$36,AND(J39="Ⅱ",N39="○",P39="○",T39="○"),単価!$J$35,AND(J39="Ⅱ",N39="○",T39="○"),単価!$J$34,AND(J39="Ⅱ",L39="○",P39="○",R39="○",T39="○"),単価!$J$37,AND(J39="Ⅱ",L39="○",R39="○",T39="○"),単価!$J$36,AND(J39="Ⅱ",L39="○",P39="○",T39="○"),単価!$J$35,AND(J39="Ⅱ",L39="○",T39="○"),単価!$J$34,AND(J39="Ⅱ",P39="○",R39="○",T39="○"),単価!$J$33,AND(J39="Ⅱ",R39="○",T39="○"),単価!$J$32,AND(J39="Ⅱ",P39="○",T39="○"),単価!$J$31,AND(J39="Ⅱ",T39="○"),単価!$J$30,AND(J39="Ⅰ",L39="○",N39="○",P39="○",R39="○",T39="○"),単価!$J$29,AND(J39="Ⅰ",L39="○",N39="○",R39="○",T39="○"),単価!$J$28,AND(J39="Ⅰ",L39="○",N39="○",P39="○",T39="○"),単価!$J$27,AND(J39="Ⅰ",L39="○",N39="○",T39="○"),単価!$J$26,AND(J39="Ⅰ",N39="○",P39="○",R39="○",T39="○"),単価!$J$25,AND(J39="Ⅰ",N39="○",R39="○",T39="○"),単価!$J$24,AND(J39="Ⅰ",N39="○",P39="○",T39="○"),単価!$J$23,AND(J39="Ⅰ",N39="○",T39="○"),単価!$J$22,AND(J39="Ⅰ",L39="○",P39="○",R39="○",T39="○"),単価!$J$25,AND(J39="Ⅰ",L39="○",R39="○",T39="○"),単価!$J$24,AND(J39="Ⅰ",L39="○",P39="○",T39="○"),単価!$J$23,AND(J39="Ⅰ",L39="○",T39="○"),単価!$J$22,AND(J39="Ⅰ",P39="○",R39="○",T39="○"),単価!$J$21,AND(J39="Ⅰ",R39="○",T39="○"),単価!$J$20,AND(J39="Ⅰ",P39="○",T39="○"),単価!$J$19,AND(J39="Ⅰ",T39="○"),単価!$J$18,TRUE,0)} -> 0
A41: 13 | T41: ○ | V41: {=_xlfn.IFS(AND(J41="Ⅱ",L41="○",N41="○",P41="○",R41="○",T41="○"),単価!$J$41,AND(J41="Ⅱ",L41="○",N41="○",R41="○",T41="○"),単価!$J$40,AND(J41="Ⅱ",L41="○",N41="○",P41="○",T41="○"),単価!$J$39,AND(J41="Ⅱ",L41="○",N41="○",T41="○"),単価!$J$38,AND(J41="Ⅱ",N41="○",P41="○",R41="○",T41="○"),単価!$J$37,AND(J41="Ⅱ",N41="○",R41="○",T41="○"),単価!$J$36,AND(J41="Ⅱ",N41="○",P41="○",T41="○"),単価!$J$35,AND(J41="Ⅱ",N41="○",T41="○"),単価!$J$34,AND(J41="Ⅱ",L41="○",P41="○",R41="○",T41="○"),単価!$J$37,AND(J41="Ⅱ",L41="○",R41="○",T41="○"),単価!$J$36,AND(J41="Ⅱ",L41="○",P41="○",T41="○"),単価!$J$35,AND(J41="Ⅱ",L41="○",T41="○"),単価!$J$34,AND(J41="Ⅱ",P41="○",R41="○",T41="○"),単価!$J$33,AND(J41="Ⅱ",R41="○",T41="○"),単価!$J$32,AND(J41="Ⅱ",P41="○",T41="○"),単価!$J$31,AND(J41="Ⅱ",T41="○"),単価!$J$30,AND(J41="Ⅰ",L41="○",N41="○",P41="○",R41="○",T41="○"),単価!$J$29,AND(J41="Ⅰ",L41="○",N41="○",R41="○",T41="○"),単価!$J$28,AND(J41="Ⅰ",L41="○",N41="○",P41="○",T41="○"),単価!$J$27,AND(J41="Ⅰ",L41="○",N41="○",T41="○"),単価!$J$26,AND(J41="Ⅰ",N41="○",P41="○",R41="○",T41="○"),単価!$J$25,AND(J41="Ⅰ",N41="○",R41="○",T41="○"),単価!$J$24,AND(J41="Ⅰ",N41="○",P41="○",T41="○"),単価!$J$23,AND(J41="Ⅰ",N41="○",T41="○"),単価!$J$22,AND(J41="Ⅰ",L41="○",P41="○",R41="○",T41="○"),単価!$J$25,AND(J41="Ⅰ",L41="○",R41="○",T41="○"),単価!$J$24,AND(J41="Ⅰ",L41="○",P41="○",T41="○"),単価!$J$23,AND(J41="Ⅰ",L41="○",T41="○"),単価!$J$22,AND(J41="Ⅰ",P41="○",R41="○",T41="○"),単価!$J$21,AND(J41="Ⅰ",R41="○",T41="○"),単価!$J$20,AND(J41="Ⅰ",P41="○",T41="○"),単価!$J$19,AND(J41="Ⅰ",T41="○"),単価!$J$18,TRUE,0)} -> 0
A43: 14 | T43: ○ | V43: {=_xlfn.IFS(AND(J43="Ⅱ",L43="○",N43="○",P43="○",R43="○",T43="○"),単価!$J$41,AND(J43="Ⅱ",L43="○",N43="○",R43="○",T43="○"),単価!$J$40,AND(J43="Ⅱ",L43="○",N43="○",P43="○",T43="○"),単価!$J$39,AND(J43="Ⅱ",L43="○",N43="○",T43="○"),単価!$J$38,AND(J43="Ⅱ",N43="○",P43="○",R43="○",T43="○"),単価!$J$37,AND(J43="Ⅱ",N43="○",R43="○",T43="○"),単価!$J$36,AND(J43="Ⅱ",N43="○",P43="○",T43="○"),単価!$J$35,AND(J43="Ⅱ",N43="○",T43="○"),単価!$J$34,AND(J43="Ⅱ",L43="○",P43="○",R43="○",T43="○"),単価!$J$37,AND(J43="Ⅱ",L43="○",R43="○",T43="○"),単価!$J$36,AND(J43="Ⅱ",L43="○",P43="○",T43="○"),単価!$J$35,AND(J43="Ⅱ",L43="○",T43="○"),単価!$J$34,AND(J43="Ⅱ",P43="○",R43="○",T43="○"),単価!$J$33,AND(J43="Ⅱ",R43="○",T43="○"),単価!$J$32,AND(J43="Ⅱ",P43="○",T43="○"),単価!$J$31,AND(J43="Ⅱ",T43="○"),単価!$J$30,AND(J43="Ⅰ",L43="○",N43="○",P43="○",R43="○",T43="○"),単価!$J$29,AND(J43="Ⅰ",L43="○",N43="○",R43="○",T43="○"),単価!$J$28,AND(J43="Ⅰ",L43="○",N43="○",P43="○",T43="○"),単価!$J$27,AND(J43="Ⅰ",L43="○",N43="○",T43="○"),単価!$J$26,AND(J43="Ⅰ",N43="○",P43="○",R43="○",T43="○"),単価!$J$25,AND(J43="Ⅰ",N43="○",R43="○",T43="○"),単価!$J$24,AND(J43="Ⅰ",N43="○",P43="○",T43="○"),単価!$J$23,AND(J43="Ⅰ",N43="○",T43="○"),単価!$J$22,AND(J43="Ⅰ",L43="○",P43="○",R43="○",T43="○"),単価!$J$25,AND(J43="Ⅰ",L43="○",R43="○",T43="○"),単価!$J$24,AND(J43="Ⅰ",L43="○",P43="○",T43="○"),単価!$J$23,AND(J43="Ⅰ",L43="○",T43="○"),単価!$J$22,AND(J43="Ⅰ",P43="○",R43="○",T43="○"),単価!$J$21,AND(J43="Ⅰ",R43="○",T43="○"),単価!$J$20,AND(J43="Ⅰ",P43="○",T43="○"),単価!$J$19,AND(J43="Ⅰ",T43="○"),単価!$J$18,TRUE,0)} -> 0
A45: 15 | T45: ○ | V45: {=_xlfn.IFS(AND(J45="Ⅱ",L45="○",N45="○",P45="○",R45="○",T45="○"),単価!$J$41,AND(J45="Ⅱ",L45="○",N45="○",R45="○",T45="○"),単価!$J$40,AND(J45="Ⅱ",L45="○",N45="○",P45="○",T45="○"),単価!$J$39,AND(J45="Ⅱ",L45="○",N45="○",T45="○"),単価!$J$38,AND(J45="Ⅱ",N45="○",P45="○",R45="○",T45="○"),単価!$J$37,AND(J45="Ⅱ",N45="○",R45="○",T45="○"),単価!$J$36,AND(J45="Ⅱ",N45="○",P45="○",T45="○"),単価!$J$35,AND(J45="Ⅱ",N45="○",T45="○"),単価!$J$34,AND(J45="Ⅱ",L45="○",P45="○",R45="○",T45="○"),単価!$J$37,AND(J45="Ⅱ",L45="○",R45="○",T45="○"),単価!$J$36,AND(J45="Ⅱ",L45="○",P45="○",T45="○"),単価!$J$35,AND(J45="Ⅱ",L45="○",T45="○"),単価!$J$34,AND(J45="Ⅱ",P45="○",R45="○",T45="○"),単価!$J$33,AND(J45="Ⅱ",R45="○",T45="○"),単価!$J$32,AND(J45="Ⅱ",P45="○",T45="○"),単価!$J$31,AND(J45="Ⅱ",T45="○"),単価!$J$30,AND(J45="Ⅰ",L45="○",N45="○",P45="○",R45="○",T45="○"),単価!$J$29,AND(J45="Ⅰ",L45="○",N45="○",R45="○",T45="○"),単価!$J$28,AND(J45="Ⅰ",L45="○",N45="○",P45="○",T45="○"),単価!$J$27,AND(J45="Ⅰ",L45="○",N45="○",T45="○"),単価!$J$26,AND(J45="Ⅰ",N45="○",P45="○",R45="○",T45="○"),単価!$J$25,AND(J45="Ⅰ",N45="○",R45="○",T45="○"),単価!$J$24,AND(J45="Ⅰ",N45="○",P45="○",T45="○"),単価!$J$23,AND(J45="Ⅰ",N45="○",T45="○"),単価!$J$22,AND(J45="Ⅰ",L45="○",P45="○",R45="○",T45="○"),単価!$J$25,AND(J45="Ⅰ",L45="○",R45="○",T45="○"),単価!$J$24,AND(J45="Ⅰ",L45="○",P45="○",T45="○"),単価!$J$23,AND(J45="Ⅰ",L45="○",T45="○"),単価!$J$22,AND(J45="Ⅰ",P45="○",R45="○",T45="○"),単価!$J$21,AND(J45="Ⅰ",R45="○",T45="○"),単価!$J$20,AND(J45="Ⅰ",P45="○",T45="○"),単価!$J$19,AND(J45="Ⅰ",T45="○"),単価!$J$18,TRUE,0)} -> 0
A47: 合計 | J47: =COUNTIF(J17:K46,"Ⅰ") -> 7 | L47: =COUNTIF(L17:M46,"○") -> 0 | N47: =COUNTIF(N17:O46,"○") -> 7 | P47: =COUNTIF(P17:Q46,"○") -> 2 | R47: =COUNTIF(R17:S46,"○") -> 3 | V47: =SUM(V17:W46) -> 596 | X47: =COUNTIF(X17:Y46,"○") -> 0
A50: 介護予防ケアマネジメント
A51: No. | B51: 計画作成 年月 | D51: 被保険者番号 | G51: 氏名 | J51: ケアマネジメント費 | L51: 虐防減算 | N51: 業未減算 | P51: 初回 | R51: 委託連携 | T51: 処遇改善 | V51: 処遇改善 加算額 | X51: 自立支援 加算
A53: 1 | B53: ○年●月 | D53: 8901234567 | G53: ★★ ☆☆ | J53: Ⅰ | N53: ○ | P53: ○ | T53: ○ | V53: {=_xlfn.IFS(AND(J53="Ⅱ",L53="○",N53="○",P53="○",R53="○",T53="○"),単価!$J$41,AND(J53="Ⅱ",L53="○",N53="○",R53="○",T53="○"),単価!$J$40,AND(J53="Ⅱ",L53="○",N53="○",P53="○",T53="○"),単価!$J$39,AND(J53="Ⅱ",L53="○",N53="○",T53="○"),単価!$J$38,AND(J53="Ⅱ",N53="○",P53="○",R53="○",T53="○"),単価!$J$37,AND(J53="Ⅱ",N53="○",R53="○",T53="○"),単価!$J$36,AND(J53="Ⅱ",N53="○",P53="○",T53="○"),単価!$J$35,AND(J53="Ⅱ",N53="○",T53="○"),単価!$J$34,AND(J53="Ⅱ",L53="○",P53="○",R53="○",T53="○"),単価!$J$37,AND(J53="Ⅱ",L53="○",R53="○",T53="○"),単価!$J$36,AND(J53="Ⅱ",L53="○",P53="○",T53="○"),単価!$J$35,AND(J53="Ⅱ",L53="○",T53="○"),単価!$J$34,AND(J53="Ⅱ",P53="○",R53="○",T53="○"),単価!$J$33,AND(J53="Ⅱ",R53="○",T53="○"),単価!$J$32,AND(J53="Ⅱ",P53="○",T53="○"),単価!$J$31,AND(J53="Ⅱ",T53="○"),単価!$J$30,AND(J53="Ⅰ",L53="○",N53="○",P53="○",R53="○",T53="○"),単価!$J$29,AND(J53="Ⅰ",L53="○",N53="○",R53="○",T53="○"),単価!$J$28,AND(J53="Ⅰ",L53="○",N53="○",P53="○",T53="○"),単価!$J$27,AND(J53="Ⅰ",L53="○",N53="○",T53="○"),単価!$J$26,AND(J53="Ⅰ",N53="○",P53="○",R53="○",T53="○"),単価!$J$25,AND(J53="Ⅰ",N53="○",R53="○",T53="○"),単価!$J$24,AND(J53="Ⅰ",N53="○",P53="○",T53="○"),単価!$J$23,AND(J53="Ⅰ",N53="○",T53="○"),単価!$J$22,AND(J53="Ⅰ",L53="○",P53="○",R53="○",T53="○"),単価!$J$25,AND(J53="Ⅰ",L53="○",R53="○",T53="○"),単価!$J$24,AND(J53="Ⅰ",L53="○",P53="○",T53="○"),単価!$J$23,AND(J53="Ⅰ",L53="○",T53="○"),単価!$J$22,AND(J53="Ⅰ",P53="○",R53="○",T53="○"),単価!$J$21,AND(J53="Ⅰ",R53="○",T53="○"),単価!$J$20,AND(J53="Ⅰ",P53="○",T53="○"),単価!$J$19,AND(J53="Ⅰ",T53="○"),単価!$J$18,TRUE,0)} -> 128
A55: 2 | B55: ○年●月 | D55: 9012345678 | G55: ◇◇ ◆◆ | J55: Ⅱ | N55: ○ | R55: ○ | T55: ○ | V55: {=_xlfn.IFS(AND(J55="Ⅱ",L55="○",N55="○",P55="○",R55="○",T55="○"),単価!$J$41,AND(J55="Ⅱ",L55="○",N55="○",R55="○",T55="○"),単価!$J$40,AND(J55="Ⅱ",L55="○",N55="○",P55="○",T55="○"),単価!$J$39,AND(J55="Ⅱ",L55="○",N55="○",T55="○"),単価!$J$38,AND(J55="Ⅱ",N55="○",P55="○",R55="○",T55="○"),単価!$J$37,AND(J55="Ⅱ",N55="○",R55="○",T55="○"),単価!$J$36,AND(J55="Ⅱ",N55="○",P55="○",T55="○"),単価!$J$35,AND(J55="Ⅱ",N55="○",T55="○"),単価!$J$34,AND(J55="Ⅱ",L55="○",P55="○",R55="○",T55="○"),単価!$J$37,AND(J55="Ⅱ",L55="○",R55="○",T55="○"),単価!$J$36,AND(J55="Ⅱ",L55="○",P55="○",T55="○"),単価!$J$35,AND(J55="Ⅱ",L55="○",T55="○"),単価!$J$34,AND(J55="Ⅱ",P55="○",R55="○",T55="○"),単価!$J$33,AND(J55="Ⅱ",R55="○",T55="○"),単価!$J$32,AND(J55="Ⅱ",P55="○",T55="○"),単価!$J$31,AND(J55="Ⅱ",T55="○"),単価!$J$30,AND(J55="Ⅰ",L55="○",N55="○",P55="○",R55="○",T55="○"),単価!$J$29,AND(J55="Ⅰ",L55="○",N55="○",R55="○",T55="○"),単価!$J$28,AND(J55="Ⅰ",L55="○",N55="○",P55="○",T55="○"),単価!$J$27,AND(J55="Ⅰ",L55="○",N55="○",T55="○"),単価!$J$26,AND(J55="Ⅰ",N55="○",P55="○",R55="○",T55="○"),単価!$J$25,AND(J55="Ⅰ",N55="○",R55="○",T55="○"),単価!$J$24,AND(J55="Ⅰ",N55="○",P55="○",T55="○"),単価!$J$23,AND(J55="Ⅰ",N55="○",T55="○"),単価!$J$22,AND(J55="Ⅰ",L55="○",P55="○",R55="○",T55="○"),単価!$J$25,AND(J55="Ⅰ",L55="○",R55="○",T55="○"),単価!$J$24,AND(J55="Ⅰ",L55="○",P55="○",T55="○"),単価!$J$23,AND(J55="Ⅰ",L55="○",T55="○"),単価!$J$22,AND(J55="Ⅰ",P55="○",R55="○",T55="○"),単価!$J$21,AND(J55="Ⅰ",R55="○",T55="○"),単価!$J$20,AND(J55="Ⅰ",P55="○",T55="○"),単価!$J$19,AND(J55="Ⅰ",T55="○"),単価!$J$18,TRUE,0)} -> 137
A57: 3 | B57: ○年●月 | D57: 2468013579 | G57: ◆◆ ◇◇ | J57: Ⅰ | N57: ○ | T57: ○ | V57: {=_xlfn.IFS(AND(J57="Ⅱ",L57="○",N57="○",P57="○",R57="○",T57="○"),単価!$J$41,AND(J57="Ⅱ",L57="○",N57="○",R57="○",T57="○"),単価!$J$40,AND(J57="Ⅱ",L57="○",N57="○",P57="○",T57="○"),単価!$J$39,AND(J57="Ⅱ",L57="○",N57="○",T57="○"),単価!$J$38,AND(J57="Ⅱ",N57="○",P57="○",R57="○",T57="○"),単価!$J$37,AND(J57="Ⅱ",N57="○",R57="○",T57="○"),単価!$J$36,AND(J57="Ⅱ",N57="○",P57="○",T57="○"),単価!$J$35,AND(J57="Ⅱ",N57="○",T57="○"),単価!$J$34,AND(J57="Ⅱ",L57="○",P57="○",R57="○",T57="○"),単価!$J$37,AND(J57="Ⅱ",L57="○",R57="○",T57="○"),単価!$J$36,AND(J57="Ⅱ",L57="○",P57="○",T57="○"),単価!$J$35,AND(J57="Ⅱ",L57="○",T57="○"),単価!$J$34,AND(J57="Ⅱ",P57="○",R57="○",T57="○"),単価!$J$33,AND(J57="Ⅱ",R57="○",T57="○"),単価!$J$32,AND(J57="Ⅱ",P57="○",T57="○"),単価!$J$31,AND(J57="Ⅱ",T57="○"),単価!$J$30,AND(J57="Ⅰ",L57="○",N57="○",P57="○",R57="○",T57="○"),単価!$J$29,AND(J57="Ⅰ",L57="○",N57="○",R57="○",T57="○"),単価!$J$28,AND(J57="Ⅰ",L57="○",N57="○",P57="○",T57="○"),単価!$J$27,AND(J57="Ⅰ",L57="○",N57="○",T57="○"),単価!$J$26,AND(J57="Ⅰ",N57="○",P57="○",R57="○",T57="○"),単価!$J$25,AND(J57="Ⅰ",N57="○",R57="○",T57="○"),単価!$J$24,AND(J57="Ⅰ",N57="○",P57="○",T57="○"),単価!$J$23,AND(J57="Ⅰ",N57="○",T57="○"),単価!$J$22,AND(J57="Ⅰ",L57="○",P57="○",R57="○",T57="○"),単価!$J$25,AND(J57="Ⅰ",L57="○",R57="○",T57="○"),単価!$J$24,AND(J57="Ⅰ",L57="○",P57="○",T57="○"),単価!$J$23,AND(J57="Ⅰ",L57="○",T57="○"),単価!$J$22,AND(J57="Ⅰ",P57="○",R57="○",T57="○"),単価!$J$21,AND(J57="Ⅰ",R57="○",T57="○"),単価!$J$20,AND(J57="Ⅰ",P57="○",T57="○"),単価!$J$19,AND(J57="Ⅰ",T57="○"),単価!$J$18,TRUE,0)} -> 76
A59: 4 | B59: ○年●月 | D59: 1357924680 | G59: △▲ ▲△ | J59: Ⅱ | N59: ○ | P59: ○ | T59: ○ | V59: {=_xlfn.IFS(AND(J59="Ⅱ",L59="○",N59="○",P59="○",R59="○",T59="○"),単価!$J$41,AND(J59="Ⅱ",L59="○",N59="○",R59="○",T59="○"),単価!$J$40,AND(J59="Ⅱ",L59="○",N59="○",P59="○",T59="○"),単価!$J$39,AND(J59="Ⅱ",L59="○",N59="○",T59="○"),単価!$J$38,AND(J59="Ⅱ",N59="○",P59="○",R59="○",T59="○"),単価!$J$37,AND(J59="Ⅱ",N59="○",R59="○",T59="○"),単価!$J$36,AND(J59="Ⅱ",N59="○",P59="○",T59="○"),単価!$J$35,AND(J59="Ⅱ",N59="○",T59="○"),単価!$J$34,AND(J59="Ⅱ",L59="○",P59="○",R59="○",T59="○"),単価!$J$37,AND(J59="Ⅱ",L59="○",R59="○",T59="○"),単価!$J$36,AND(J59="Ⅱ",L59="○",P59="○",T59="○"),単価!$J$35,AND(J59="Ⅱ",L59="○",T59="○"),単価!$J$34,AND(J59="Ⅱ",P59="○",R59="○",T59="○"),単価!$J$33,AND(J59="Ⅱ",R59="○",T59="○"),単価!$J$32,AND(J59="Ⅱ",P59="○",T59="○"),単価!$J$31,AND(J59="Ⅱ",T59="○"),単価!$J$30,AND(J59="Ⅰ",L59="○",N59="○",P59="○",R59="○",T59="○"),単価!$J$29,AND(J59="Ⅰ",L59="○",N59="○",R59="○",T59="○"),単価!$J$28,AND(J59="Ⅰ",L59="○",N59="○",P59="○",T59="○"),単価!$J$27,AND(J59="Ⅰ",L59="○",N59="○",T59="○"),単価!$J$26,AND(J59="Ⅰ",N59="○",P59="○",R59="○",T59="○"),単価!$J$25,AND(J59="Ⅰ",N59="○",R59="○",T59="○"),単価!$J$24,AND(J59="Ⅰ",N59="○",P59="○",T59="○"),単価!$J$23,AND(J59="Ⅰ",N59="○",T59="○"),単価!$J$22,AND(J59="Ⅰ",L59="○",P59="○",R59="○",T59="○"),単価!$J$25,AND(J59="Ⅰ",L59="○",R59="○",T59="○"),単価!$J$24,AND(J59="Ⅰ",L59="○",P59="○",T59="○"),単価!$J$23,AND(J59="Ⅰ",L59="○",T59="○"),単価!$J$22,AND(J59="Ⅰ",P59="○",R59="○",T59="○"),単価!$J$21,AND(J59="Ⅰ",R59="○",T59="○"),単価!$J$20,AND(J59="Ⅰ",P59="○",T59="○"),単価!$J$19,AND(J59="Ⅰ",T59="○"),単価!$J$18,TRUE,0)} -> 137
A61: 5 | B61: ○年●月 | D61: 9876543210 | G61: ▽▼ ▼▽ | J61: Ⅰ | N61: ○ | P61: ○ | R61: ○ | T61: ○ | V61: {=_xlfn.IFS(AND(J61="Ⅱ",L61="○",N61="○",P61="○",R61="○",T61="○"),単価!$J$41,AND(J61="Ⅱ",L61="○",N61="○",R61="○",T61="○"),単価!$J$40,AND(J61="Ⅱ",L61="○",N61="○",P61="○",T61="○"),単価!$J$39,AND(J61="Ⅱ",L61="○",N61="○",T61="○"),単価!$J$38,AND(J61="Ⅱ",N61="○",P61="○",R61="○",T61="○"),単価!$J$37,AND(J61="Ⅱ",N61="○",R61="○",T61="○"),単価!$J$36,AND(J61="Ⅱ",N61="○",P61="○",T61="○"),単価!$J$35,AND(J61="Ⅱ",N61="○",T61="○"),単価!$J$34,AND(J61="Ⅱ",L61="○",P61="○",R61="○",T61="○"),単価!$J$37,AND(J61="Ⅱ",L61="○",R61="○",T61="○"),単価!$J$36,AND(J61="Ⅱ",L61="○",P61="○",T61="○"),単価!$J$35,AND(J61="Ⅱ",L61="○",T61="○"),単価!$J$34,AND(J61="Ⅱ",P61="○",R61="○",T61="○"),単価!$J$33,AND(J61="Ⅱ",R61="○",T61="○"),単価!$J$32,AND(J61="Ⅱ",P61="○",T61="○"),単価!$J$31,AND(J61="Ⅱ",T61="○"),単価!$J$30,AND(J61="Ⅰ",L61="○",N61="○",P61="○",R61="○",T61="○"),単価!$J$29,AND(J61="Ⅰ",L61="○",N61="○",R61="○",T61="○"),単価!$J$28,AND(J61="Ⅰ",L61="○",N61="○",P61="○",T61="○"),単価!$J$27,AND(J61="Ⅰ",L61="○",N61="○",T61="○"),単価!$J$26,AND(J61="Ⅰ",N61="○",P61="○",R61="○",T61="○"),単価!$J$25,AND(J61="Ⅰ",N61="○",R61="○",T61="○"),単価!$J$24,AND(J61="Ⅰ",N61="○",P61="○",T61="○"),単価!$J$23,AND(J61="Ⅰ",N61="○",T61="○"),単価!$J$22,AND(J61="Ⅰ",L61="○",P61="○",R61="○",T61="○"),単価!$J$25,AND(J61="Ⅰ",L61="○",R61="○",T61="○"),単価!$J$24,AND(J61="Ⅰ",L61="○",P61="○",T61="○"),単価!$J$23,AND(J61="Ⅰ",L61="○",T61="○"),単価!$J$22,AND(J61="Ⅰ",P61="○",R61="○",T61="○"),単価!$J$21,AND(J61="Ⅰ",R61="○",T61="○"),単価!$J$20,AND(J61="Ⅰ",P61="○",T61="○"),単価!$J$19,AND(J61="Ⅰ",T61="○"),単価!$J$18,TRUE,0)} -> 188
A63: 6 | B63: ○年●月 | D63: 3254769810 | G63: ○● ●○ | J63: Ⅱ | N63: ○ | T63: ○ | V63: {=_xlfn.IFS(AND(J63="Ⅱ",L63="○",N63="○",P63="○",R63="○",T63="○"),単価!$J$41,AND(J63="Ⅱ",L63="○",N63="○",R63="○",T63="○"),単価!$J$40,AND(J63="Ⅱ",L63="○",N63="○",P63="○",T63="○"),単価!$J$39,AND(J63="Ⅱ",L63="○",N63="○",T63="○"),単価!$J$38,AND(J63="Ⅱ",N63="○",P63="○",R63="○",T63="○"),単価!$J$37,AND(J63="Ⅱ",N63="○",R63="○",T63="○"),単価!$J$36,AND(J63="Ⅱ",N63="○",P63="○",T63="○"),単価!$J$35,AND(J63="Ⅱ",N63="○",T63="○"),単価!$J$34,AND(J63="Ⅱ",L63="○",P63="○",R63="○",T63="○"),単価!$J$37,AND(J63="Ⅱ",L63="○",R63="○",T63="○"),単価!$J$36,AND(J63="Ⅱ",L63="○",P63="○",T63="○"),単価!$J$35,AND(J63="Ⅱ",L63="○",T63="○"),単価!$J$34,AND(J63="Ⅱ",P63="○",R63="○",T63="○"),単価!$J$33,AND(J63="Ⅱ",R63="○",T63="○"),単価!$J$32,AND(J63="Ⅱ",P63="○",T63="○"),単価!$J$31,AND(J63="Ⅱ",T63="○"),単価!$J$30,AND(J63="Ⅰ",L63="○",N63="○",P63="○",R63="○",T63="○"),単価!$J$29,AND(J63="Ⅰ",L63="○",N63="○",R63="○",T63="○"),単価!$J$28,AND(J63="Ⅰ",L63="○",N63="○",P63="○",T63="○"),単価!$J$27,AND(J63="Ⅰ",L63="○",N63="○",T63="○"),単価!$J$26,AND(J63="Ⅰ",N63="○",P63="○",R63="○",T63="○"),単価!$J$25,AND(J63="Ⅰ",N63="○",R63="○",T63="○"),単価!$J$24,AND(J63="Ⅰ",N63="○",P63="○",T63="○"),単価!$J$23,AND(J63="Ⅰ",N63="○",T63="○"),単価!$J$22,AND(J63="Ⅰ",L63="○",P63="○",R63="○",T63="○"),単価!$J$25,AND(J63="Ⅰ",L63="○",R63="○",T63="○"),単価!$J$24,AND(J63="Ⅰ",L63="○",P63="○",T63="○"),単価!$J$23,AND(J63="Ⅰ",L63="○",T63="○"),単価!$J$22,AND(J63="Ⅰ",P63="○",R63="○",T63="○"),単価!$J$21,AND(J63="Ⅰ",R63="○",T63="○"),単価!$J$20,AND(J63="Ⅰ",P63="○",T63="○"),単価!$J$19,AND(J63="Ⅰ",T63="○"),単価!$J$18,TRUE,0)} -> 85 | X63: ○
A65: 7 | B65: ○年●月 | D65: 1098765432 | G65: ●○ ○● | J65: Ⅰ | N65: ○ | V65: {=_xlfn.IFS(AND(J65="Ⅱ",L65="○",N65="○",P65="○",R65="○",T65="○"),単価!$J$41,AND(J65="Ⅱ",L65="○",N65="○",R65="○",T65="○"),単価!$J$40,AND(J65="Ⅱ",L65="○",N65="○",P65="○",T65="○"),単価!$J$39,AND(J65="Ⅱ",L65="○",N65="○",T65="○"),単価!$J$38,AND(J65="Ⅱ",N65="○",P65="○",R65="○",T65="○"),単価!$J$37,AND(J65="Ⅱ",N65="○",R65="○",T65="○"),単価!$J$36,AND(J65="Ⅱ",N65="○",P65="○",T65="○"),単価!$J$35,AND(J65="Ⅱ",N65="○",T65="○"),単価!$J$34,AND(J65="Ⅱ",L65="○",P65="○",R65="○",T65="○"),単価!$J$37,AND(J65="Ⅱ",L65="○",R65="○",T65="○"),単価!$J$36,AND(J65="Ⅱ",L65="○",P65="○",T65="○"),単価!$J$35,AND(J65="Ⅱ",L65="○",T65="○"),単価!$J$34,AND(J65="Ⅱ",P65="○",R65="○",T65="○"),単価!$J$33,AND(J65="Ⅱ",R65="○",T65="○"),単価!$J$32,AND(J65="Ⅱ",P65="○",T65="○"),単価!$J$31,AND(J65="Ⅱ",T65="○"),単価!$J$30,AND(J65="Ⅰ",L65="○",N65="○",P65="○",R65="○",T65="○"),単価!$J$29,AND(J65="Ⅰ",L65="○",N65="○",R65="○",T65="○"),単価!$J$28,AND(J65="Ⅰ",L65="○",N65="○",P65="○",T65="○"),単価!$J$27,AND(J65="Ⅰ",L65="○",N65="○",T65="○"),単価!$J$26,AND(J65="Ⅰ",N65="○",P65="○",R65="○",T65="○"),単価!$J$25,AND(J65="Ⅰ",N65="○",R65="○",T65="○"),単価!$J$24,AND(J65="Ⅰ",N65="○",P65="○",T65="○"),単価!$J$23,AND(J65="Ⅰ",N65="○",T65="○"),単価!$J$22,AND(J65="Ⅰ",L65="○",P65="○",R65="○",T65="○"),単価!$J$25,AND(J65="Ⅰ",L65="○",R65="○",T65="○"),単価!$J$24,AND(J65="Ⅰ",L65="○",P65="○",T65="○"),単価!$J$23,AND(J65="Ⅰ",L65="○",T65="○"),単価!$J$22,AND(J65="Ⅰ",P65="○",R65="○",T65="○"),単価!$J$21,AND(J65="Ⅰ",R65="○",T65="○"),単価!$J$20,AND(J65="Ⅰ",P65="○",T65="○"),単価!$J$19,AND(J65="Ⅰ",T65="○"),単価!$J$18,TRUE,0)} -> 0
A67: 8 | B67: ○年●月 | D67: 6574839201 | G67: ☆★ ★☆ | J67: Ⅱ | N67: ○ | V67: {=_xlfn.IFS(AND(J67="Ⅱ",L67="○",N67="○",P67="○",R67="○",T67="○"),単価!$J$41,AND(J67="Ⅱ",L67="○",N67="○",R67="○",T67="○"),単価!$J$40,AND(J67="Ⅱ",L67="○",N67="○",P67="○",T67="○"),単価!$J$39,AND(J67="Ⅱ",L67="○",N67="○",T67="○"),単価!$J$38,AND(J67="Ⅱ",N67="○",P67="○",R67="○",T67="○"),単価!$J$37,AND(J67="Ⅱ",N67="○",R67="○",T67="○"),単価!$J$36,AND(J67="Ⅱ",N67="○",P67="○",T67="○"),単価!$J$35,AND(J67="Ⅱ",N67="○",T67="○"),単価!$J$34,AND(J67="Ⅱ",L67="○",P67="○",R67="○",T67="○"),単価!$J$37,AND(J67="Ⅱ",L67="○",R67="○",T67="○"),単価!$J$36,AND(J67="Ⅱ",L67="○",P67="○",T67="○"),単価!$J$35,AND(J67="Ⅱ",L67="○",T67="○"),単価!$J$34,AND(J67="Ⅱ",P67="○",R67="○",T67="○"),単価!$J$33,AND(J67="Ⅱ",R67="○",T67="○"),単価!$J$32,AND(J67="Ⅱ",P67="○",T67="○"),単価!$J$31,AND(J67="Ⅱ",T67="○"),単価!$J$30,AND(J67="Ⅰ",L67="○",N67="○",P67="○",R67="○",T67="○"),単価!$J$29,AND(J67="Ⅰ",L67="○",N67="○",R67="○",T67="○"),単価!$J$28,AND(J67="Ⅰ",L67="○",N67="○",P67="○",T67="○"),単価!$J$27,AND(J67="Ⅰ",L67="○",N67="○",T67="○"),単価!$J$26,AND(J67="Ⅰ",N67="○",P67="○",R67="○",T67="○"),単価!$J$25,AND(J67="Ⅰ",N67="○",R67="○",T67="○"),単価!$J$24,AND(J67="Ⅰ",N67="○",P67="○",T67="○"),単価!$J$23,AND(J67="Ⅰ",N67="○",T67="○"),単価!$J$22,AND(J67="Ⅰ",L67="○",P67="○",R67="○",T67="○"),単価!$J$25,AND(J67="Ⅰ",L67="○",R67="○",T67="○"),単価!$J$24,AND(J67="Ⅰ",L67="○",P67="○",T67="○"),単価!$J$23,AND(J67="Ⅰ",L67="○",T67="○"),単価!$J$22,AND(J67="Ⅰ",P67="○",R67="○",T67="○"),単価!$J$21,AND(J67="Ⅰ",R67="○",T67="○"),単価!$J$20,AND(J67="Ⅰ",P67="○",T67="○"),単価!$J$19,AND(J67="Ⅰ",T67="○"),単価!$J$18,TRUE,0)} -> 0
A69: 9 | T69: ○ | V69: {=_xlfn.IFS(AND(J69="Ⅱ",L69="○",N69="○",P69="○",R69="○",T69="○"),単価!$J$41,AND(J69="Ⅱ",L69="○",N69="○",R69="○",T69="○"),単価!$J$40,AND(J69="Ⅱ",L69="○",N69="○",P69="○",T69="○"),単価!$J$39,AND(J69="Ⅱ",L69="○",N69="○",T69="○"),単価!$J$38,AND(J69="Ⅱ",N69="○",P69="○",R69="○",T69="○"),単価!$J$37,AND(J69="Ⅱ",N69="○",R69="○",T69="○"),単価!$J$36,AND(J69="Ⅱ",N69="○",P69="○",T69="○"),単価!$J$35,AND(J69="Ⅱ",N69="○",T69="○"),単価!$J$34,AND(J69="Ⅱ",L69="○",P69="○",R69="○",T69="○"),単価!$J$37,AND(J69="Ⅱ",L69="○",R69="○",T69="○"),単価!$J$36,AND(J69="Ⅱ",L69="○",P69="○",T69="○"),単価!$J$35,AND(J69="Ⅱ",L69="○",T69="○"),単価!$J$34,AND(J69="Ⅱ",P69="○",R69="○",T69="○"),単価!$J$33,AND(J69="Ⅱ",R69="○",T69="○"),単価!$J$32,AND(J69="Ⅱ",P69="○",T69="○"),単価!$J$31,AND(J69="Ⅱ",T69="○"),単価!$J$30,AND(J69="Ⅰ",L69="○",N69="○",P69="○",R69="○",T69="○"),単価!$J$29,AND(J69="Ⅰ",L69="○",N69="○",R69="○",T69="○"),単価!$J$28,AND(J69="Ⅰ",L69="○",N69="○",P69="○",T69="○"),単価!$J$27,AND(J69="Ⅰ",L69="○",N69="○",T69="○"),単価!$J$26,AND(J69="Ⅰ",N69="○",P69="○",R69="○",T69="○"),単価!$J$25,AND(J69="Ⅰ",N69="○",R69="○",T69="○"),単価!$J$24,AND(J69="Ⅰ",N69="○",P69="○",T69="○"),単価!$J$23,AND(J69="Ⅰ",N69="○",T69="○"),単価!$J$22,AND(J69="Ⅰ",L69="○",P69="○",R69="○",T69="○"),単価!$J$25,AND(J69="Ⅰ",L69="○",R69="○",T69="○"),単価!$J$24,AND(J69="Ⅰ",L69="○",P69="○",T69="○"),単価!$J$23,AND(J69="Ⅰ",L69="○",T69="○"),単価!$J$22,AND(J69="Ⅰ",P69="○",R69="○",T69="○"),単価!$J$21,AND(J69="Ⅰ",R69="○",T69="○"),単価!$J$20,AND(J69="Ⅰ",P69="○",T69="○"),単価!$J$19,AND(J69="Ⅰ",T69="○"),単価!$J$18,TRUE,0)} -> 0
A71: 10 | T71: ○ | V71: {=_xlfn.IFS(AND(J71="Ⅱ",L71="○",N71="○",P71="○",R71="○",T71="○"),単価!$J$41,AND(J71="Ⅱ",L71="○",N71="○",R71="○",T71="○"),単価!$J$40,AND(J71="Ⅱ",L71="○",N71="○",P71="○",T71="○"),単価!$J$39,AND(J71="Ⅱ",L71="○",N71="○",T71="○"),単価!$J$38,AND(J71="Ⅱ",N71="○",P71="○",R71="○",T71="○"),単価!$J$37,AND(J71="Ⅱ",N71="○",R71="○",T71="○"),単価!$J$36,AND(J71="Ⅱ",N71="○",P71="○",T71="○"),単価!$J$35,AND(J71="Ⅱ",N71="○",T71="○"),単価!$J$34,AND(J71="Ⅱ",L71="○",P71="○",R71="○",T71="○"),単価!$J$37,AND(J71="Ⅱ",L71="○",R71="○",T71="○"),単価!$J$36,AND(J71="Ⅱ",L71="○",P71="○",T71="○"),単価!$J$35,AND(J71="Ⅱ",L71="○",T71="○"),単価!$J$34,AND(J71="Ⅱ",P71="○",R71="○",T71="○"),単価!$J$33,AND(J71="Ⅱ",R71="○",T71="○"),単価!$J$32,AND(J71="Ⅱ",P71="○",T71="○"),単価!$J$31,AND(J71="Ⅱ",T71="○"),単価!$J$30,AND(J71="Ⅰ",L71="○",N71="○",P71="○",R71="○",T71="○"),単価!$J$29,AND(J71="Ⅰ",L71="○",N71="○",R71="○",T71="○"),単価!$J$28,AND(J71="Ⅰ",L71="○",N71="○",P71="○",T71="○"),単価!$J$27,AND(J71="Ⅰ",L71="○",N71="○",T71="○"),単価!$J$26,AND(J71="Ⅰ",N71="○",P71="○",R71="○",T71="○"),単価!$J$25,AND(J71="Ⅰ",N71="○",R71="○",T71="○"),単価!$J$24,AND(J71="Ⅰ",N71="○",P71="○",T71="○"),単価!$J$23,AND(J71="Ⅰ",N71="○",T71="○"),単価!$J$22,AND(J71="Ⅰ",L71="○",P71="○",R71="○",T71="○"),単価!$J$25,AND(J71="Ⅰ",L71="○",R71="○",T71="○"),単価!$J$24,AND(J71="Ⅰ",L71="○",P71="○",T71="○"),単価!$J$23,AND(J71="Ⅰ",L71="○",T71="○"),単価!$J$22,AND(J71="Ⅰ",P71="○",R71="○",T71="○"),単価!$J$21,AND(J71="Ⅰ",R71="○",T71="○"),単価!$J$20,AND(J71="Ⅰ",P71="○",T71="○"),単価!$J$19,AND(J71="Ⅰ",T71="○"),単価!$J$18,TRUE,0)} -> 0
A73: 11 | T73: ○ | V73: {=_xlfn.IFS(AND(J73="Ⅱ",L73="○",N73="○",P73="○",R73="○",T73="○"),単価!$J$41,AND(J73="Ⅱ",L73="○",N73="○",R73="○",T73="○"),単価!$J$40,AND(J73="Ⅱ",L73="○",N73="○",P73="○",T73="○"),単価!$J$39,AND(J73="Ⅱ",L73="○",N73="○",T73="○"),単価!$J$38,AND(J73="Ⅱ",N73="○",P73="○",R73="○",T73="○"),単価!$J$37,AND(J73="Ⅱ",N73="○",R73="○",T73="○"),単価!$J$36,AND(J73="Ⅱ",N73="○",P73="○",T73="○"),単価!$J$35,AND(J73="Ⅱ",N73="○",T73="○"),単価!$J$34,AND(J73="Ⅱ",L73="○",P73="○",R73="○",T73="○"),単価!$J$37,AND(J73="Ⅱ",L73="○",R73="○",T73="○"),単価!$J$36,AND(J73="Ⅱ",L73="○",P73="○",T73="○"),単価!$J$35,AND(J73="Ⅱ",L73="○",T73="○"),単価!$J$34,AND(J73="Ⅱ",P73="○",R73="○",T73="○"),単価!$J$33,AND(J73="Ⅱ",R73="○",T73="○"),単価!$J$32,AND(J73="Ⅱ",P73="○",T73="○"),単価!$J$31,AND(J73="Ⅱ",T73="○"),単価!$J$30,AND(J73="Ⅰ",L73="○",N73="○",P73="○",R73="○",T73="○"),単価!$J$29,AND(J73="Ⅰ",L73="○",N73="○",R73="○",T73="○"),単価!$J$28,AND(J73="Ⅰ",L73="○",N73="○",P73="○",T73="○"),単価!$J$27,AND(J73="Ⅰ",L73="○",N73="○",T73="○"),単価!$J$26,AND(J73="Ⅰ",N73="○",P73="○",R73="○",T73="○"),単価!$J$25,AND(J73="Ⅰ",N73="○",R73="○",T73="○"),単価!$J$24,AND(J73="Ⅰ",N73="○",P73="○",T73="○"),単価!$J$23,AND(J73="Ⅰ",N73="○",T73="○"),単価!$J$22,AND(J73="Ⅰ",L73="○",P73="○",R73="○",T73="○"),単価!$J$25,AND(J73="Ⅰ",L73="○",R73="○",T73="○"),単価!$J$24,AND(J73="Ⅰ",L73="○",P73="○",T73="○"),単価!$J$23,AND(J73="Ⅰ",L73="○",T73="○"),単価!$J$22,AND(J73="Ⅰ",P73="○",R73="○",T73="○"),単価!$J$21,AND(J73="Ⅰ",R73="○",T73="○"),単価!$J$20,AND(J73="Ⅰ",P73="○",T73="○"),単価!$J$19,AND(J73="Ⅰ",T73="○"),単価!$J$18,TRUE,0)} -> 0
A75: 12 | T75: ○ | V75: {=_xlfn.IFS(AND(J75="Ⅱ",L75="○",N75="○",P75="○",R75="○",T75="○"),単価!$J$41,AND(J75="Ⅱ",L75="○",N75="○",R75="○",T75="○"),単価!$J$40,AND(J75="Ⅱ",L75="○",N75="○",P75="○",T75="○"),単価!$J$39,AND(J75="Ⅱ",L75="○",N75="○",T75="○"),単価!$J$38,AND(J75="Ⅱ",N75="○",P75="○",R75="○",T75="○"),単価!$J$37,AND(J75="Ⅱ",N75="○",R75="○",T75="○"),単価!$J$36,AND(J75="Ⅱ",N75="○",P75="○",T75="○"),単価!$J$35,AND(J75="Ⅱ",N75="○",T75="○"),単価!$J$34,AND(J75="Ⅱ",L75="○",P75="○",R75="○",T75="○"),単価!$J$37,AND(J75="Ⅱ",L75="○",R75="○",T75="○"),単価!$J$36,AND(J75="Ⅱ",L75="○",P75="○",T75="○"),単価!$J$35,AND(J75="Ⅱ",L75="○",T75="○"),単価!$J$34,AND(J75="Ⅱ",P75="○",R75="○",T75="○"),単価!$J$33,AND(J75="Ⅱ",R75="○",T75="○"),単価!$J$32,AND(J75="Ⅱ",P75="○",T75="○"),単価!$J$31,AND(J75="Ⅱ",T75="○"),単価!$J$30,AND(J75="Ⅰ",L75="○",N75="○",P75="○",R75="○",T75="○"),単価!$J$29,AND(J75="Ⅰ",L75="○",N75="○",R75="○",T75="○"),単価!$J$28,AND(J75="Ⅰ",L75="○",N75="○",P75="○",T75="○"),単価!$J$27,AND(J75="Ⅰ",L75="○",N75="○",T75="○"),単価!$J$26,AND(J75="Ⅰ",N75="○",P75="○",R75="○",T75="○"),単価!$J$25,AND(J75="Ⅰ",N75="○",R75="○",T75="○"),単価!$J$24,AND(J75="Ⅰ",N75="○",P75="○",T75="○"),単価!$J$23,AND(J75="Ⅰ",N75="○",T75="○"),単価!$J$22,AND(J75="Ⅰ",L75="○",P75="○",R75="○",T75="○"),単価!$J$25,AND(J75="Ⅰ",L75="○",R75="○",T75="○"),単価!$J$24,AND(J75="Ⅰ",L75="○",P75="○",T75="○"),単価!$J$23,AND(J75="Ⅰ",L75="○",T75="○"),単価!$J$22,AND(J75="Ⅰ",P75="○",R75="○",T75="○"),単価!$J$21,AND(J75="Ⅰ",R75="○",T75="○"),単価!$J$20,AND(J75="Ⅰ",P75="○",T75="○"),単価!$J$19,AND(J75="Ⅰ",T75="○"),単価!$J$18,TRUE,0)} -> 0
A77: 13 | T77: ○ | V77: {=_xlfn.IFS(AND(J77="Ⅱ",L77="○",N77="○",P77="○",R77="○",T77="○"),単価!$J$41,AND(J77="Ⅱ",L77="○",N77="○",R77="○",T77="○"),単価!$J$40,AND(J77="Ⅱ",L77="○",N77="○",P77="○",T77="○"),単価!$J$39,AND(J77="Ⅱ",L77="○",N77="○",T77="○"),単価!$J$38,AND(J77="Ⅱ",N77="○",P77="○",R77="○",T77="○"),単価!$J$37,AND(J77="Ⅱ",N77="○",R77="○",T77="○"),単価!$J$36,AND(J77="Ⅱ",N77="○",P77="○",T77="○"),単価!$J$35,AND(J77="Ⅱ",N77="○",T77="○"),単価!$J$34,AND(J77="Ⅱ",L77="○",P77="○",R77="○",T77="○"),単価!$J$37,AND(J77="Ⅱ",L77="○",R77="○",T77="○"),単価!$J$36,AND(J77="Ⅱ",L77="○",P77="○",T77="○"),単価!$J$35,AND(J77="Ⅱ",L77="○",T77="○"),単価!$J$34,AND(J77="Ⅱ",P77="○",R77="○",T77="○"),単価!$J$33,AND(J77="Ⅱ",R77="○",T77="○"),単価!$J$32,AND(J77="Ⅱ",P77="○",T77="○"),単価!$J$31,AND(J77="Ⅱ",T77="○"),単価!$J$30,AND(J77="Ⅰ",L77="○",N77="○",P77="○",R77="○",T77="○"),単価!$J$29,AND(J77="Ⅰ",L77="○",N77="○",R77="○",T77="○"),単価!$J$28,AND(J77="Ⅰ",L77="○",N77="○",P77="○",T77="○"),単価!$J$27,AND(J77="Ⅰ",L77="○",N77="○",T77="○"),単価!$J$26,AND(J77="Ⅰ",N77="○",P77="○",R77="○",T77="○"),単価!$J$25,AND(J77="Ⅰ",N77="○",R77="○",T77="○"),単価!$J$24,AND(J77="Ⅰ",N77="○",P77="○",T77="○"),単価!$J$23,AND(J77="Ⅰ",N77="○",T77="○"),単価!$J$22,AND(J77="Ⅰ",L77="○",P77="○",R77="○",T77="○"),単価!$J$25,AND(J77="Ⅰ",L77="○",R77="○",T77="○"),単価!$J$24,AND(J77="Ⅰ",L77="○",P77="○",T77="○"),単価!$J$23,AND(J77="Ⅰ",L77="○",T77="○"),単価!$J$22,AND(J77="Ⅰ",P77="○",R77="○",T77="○"),単価!$J$21,AND(J77="Ⅰ",R77="○",T77="○"),単価!$J$20,AND(J77="Ⅰ",P77="○",T77="○"),単価!$J$19,AND(J77="Ⅰ",T77="○"),単価!$J$18,TRUE,0)} -> 0
A79: 14 | T79: ○ | V79: {=_xlfn.IFS(AND(J79="Ⅱ",L79="○",N79="○",P79="○",R79="○",T79="○"),単価!$J$41,AND(J79="Ⅱ",L79="○",N79="○",R79="○",T79="○"),単価!$J$40,AND(J79="Ⅱ",L79="○",N79="○",P79="○",T79="○"),単価!$J$39,AND(J79="Ⅱ",L79="○",N79="○",T79="○"),単価!$J$38,AND(J79="Ⅱ",N79="○",P79="○",R79="○",T79="○"),単価!$J$37,AND(J79="Ⅱ",N79="○",R79="○",T79="○"),単価!$J$36,AND(J79="Ⅱ",N79="○",P79="○",T79="○"),単価!$J$35,AND(J79="Ⅱ",N79="○",T79="○"),単価!$J$34,AND(J79="Ⅱ",L79="○",P79="○",R79="○",T79="○"),単価!$J$37,AND(J79="Ⅱ",L79="○",R79="○",T79="○"),単価!$J$36,AND(J79="Ⅱ",L79="○",P79="○",T79="○"),単価!$J$35,AND(J79="Ⅱ",L79="○",T79="○"),単価!$J$34,AND(J79="Ⅱ",P79="○",R79="○",T79="○"),単価!$J$33,AND(J79="Ⅱ",R79="○",T79="○"),単価!$J$32,AND(J79="Ⅱ",P79="○",T79="○"),単価!$J$31,AND(J79="Ⅱ",T79="○"),単価!$J$30,AND(J79="Ⅰ",L79="○",N79="○",P79="○",R79="○",T79="○"),単価!$J$29,AND(J79="Ⅰ",L79="○",N79="○",R79="○",T79="○"),単価!$J$28,AND(J79="Ⅰ",L79="○",N79="○",P79="○",T79="○"),単価!$J$27,AND(J79="Ⅰ",L79="○",N79="○",T79="○"),単価!$J$26,AND(J79="Ⅰ",N79="○",P79="○",R79="○",T79="○"),単価!$J$25,AND(J79="Ⅰ",N79="○",R79="○",T79="○"),単価!$J$24,AND(J79="Ⅰ",N79="○",P79="○",T79="○"),単価!$J$23,AND(J79="Ⅰ",N79="○",T79="○"),単価!$J$22,AND(J79="Ⅰ",L79="○",P79="○",R79="○",T79="○"),単価!$J$25,AND(J79="Ⅰ",L79="○",R79="○",T79="○"),単価!$J$24,AND(J79="Ⅰ",L79="○",P79="○",T79="○"),単価!$J$23,AND(J79="Ⅰ",L79="○",T79="○"),単価!$J$22,AND(J79="Ⅰ",P79="○",R79="○",T79="○"),単価!$J$21,AND(J79="Ⅰ",R79="○",T79="○"),単価!$J$20,AND(J79="Ⅰ",P79="○",T79="○"),単価!$J$19,AND(J79="Ⅰ",T79="○"),単価!$J$18,TRUE,0)} -> 0
A81: 15 | T81: ○ | V81: {=_xlfn.IFS(AND(J81="Ⅱ",L81="○",N81="○",P81="○",R81="○",T81="○"),単価!$J$41,AND(J81="Ⅱ",L81="○",N81="○",R81="○",T81="○"),単価!$J$40,AND(J81="Ⅱ",L81="○",N81="○",P81="○",T81="○"),単価!$J$39,AND(J81="Ⅱ",L81="○",N81="○",T81="○"),単価!$J$38,AND(J81="Ⅱ",N81="○",P81="○",R81="○",T81="○"),単価!$J$37,AND(J81="Ⅱ",N81="○",R81="○",T81="○"),単価!$J$36,AND(J81="Ⅱ",N81="○",P81="○",T81="○"),単価!$J$35,AND(J81="Ⅱ",N81="○",T81="○"),単価!$J$34,AND(J81="Ⅱ",L81="○",P81="○",R81="○",T81="○"),単価!$J$37,AND(J81="Ⅱ",L81="○",R81="○",T81="○"),単価!$J$36,AND(J81="Ⅱ",L81="○",P81="○",T81="○"),単価!$J$35,AND(J81="Ⅱ",L81="○",T81="○"),単価!$J$34,AND(J81="Ⅱ",P81="○",R81="○",T81="○"),単価!$J$33,AND(J81="Ⅱ",R81="○",T81="○"),単価!$J$32,AND(J81="Ⅱ",P81="○",T81="○"),単価!$J$31,AND(J81="Ⅱ",T81="○"),単価!$J$30,AND(J81="Ⅰ",L81="○",N81="○",P81="○",R81="○",T81="○"),単価!$J$29,AND(J81="Ⅰ",L81="○",N81="○",R81="○",T81="○"),単価!$J$28,AND(J81="Ⅰ",L81="○",N81="○",P81="○",T81="○"),単価!$J$27,AND(J81="Ⅰ",L81="○",N81="○",T81="○"),単価!$J$26,AND(J81="Ⅰ",N81="○",P81="○",R81="○",T81="○"),単価!$J$25,AND(J81="Ⅰ",N81="○",R81="○",T81="○"),単価!$J$24,AND(J81="Ⅰ",N81="○",P81="○",T81="○"),単価!$J$23,AND(J81="Ⅰ",N81="○",T81="○"),単価!$J$22,AND(J81="Ⅰ",L81="○",P81="○",R81="○",T81="○"),単価!$J$25,AND(J81="Ⅰ",L81="○",R81="○",T81="○"),単価!$J$24,AND(J81="Ⅰ",L81="○",P81="○",T81="○"),単価!$J$23,AND(J81="Ⅰ",L81="○",T81="○"),単価!$J$22,AND(J81="Ⅰ",P81="○",R81="○",T81="○"),単価!$J$21,AND(J81="Ⅰ",R81="○",T81="○"),単価!$J$20,AND(J81="Ⅰ",P81="○",T81="○"),単価!$J$19,AND(J81="Ⅰ",T81="○"),単価!$J$18,TRUE,0)} -> 0
A83: 合計 | J83: =COUNTIF(J53:K82,"Ⅰ")+COUNTIF(J53:K82,"Ⅱ") -> 8 | L83: =COUNTIF(L53:M82,"○") -> 0 | N83: =COUNTIF(N53:O82,"○") -> 8 | P83: =COUNTIF(P53:Q82,"○") -> 3 | R83: =COUNTIF(R53:S82,"○") -> 2 | V83: =SUM(V53:W82) -> 751 | X83: =COUNTIF(X53:Y82,"○") -> 1
F85: ケアマネジメント費（Ⅰ） | J85: =COUNTIF(J53:K82,"Ⅰ") -> 4 | L85: =COUNTIFS(J53:K82,"Ⅰ",L53:M82,"○") -> 0 | N85: =COUNTIFS(J53:K82,"Ⅰ",N53:O82,"○") -> 4
F86: ケアマネジメント費（Ⅱ） | J86: =COUNTIF(J53:K82,"Ⅱ") -> 4 | L86: =COUNTIFS(J53:K82,"Ⅱ",L53:M82,"○") -> 0 | N86: =COUNTIFS(J53:K82,"Ⅱ",N53:O82,"○") -> 4
